{ "currentVersion": 10.81, "serviceDescription": "

The U.S. Geological Survey has developed a National Elevation Dataset (NED). The NED is a seamless mosaic of best-available elevation data. The 7.5-minute elevation data for the conterminous United States are the primary initial source data. In addition to the availability of complete 7.5-minute data, efficient processing methods were developed to filter production artifacts in the existing data, convert to the NAD83 datum, edge-match, and fill slivers of missing data at quadrangle seams. One of the effects of the NED processing steps is a much-improved base of elevation data for calculating slope and hydrologic derivatives. The specifications for the NED 1 arc second and 1/3 arc second data are: Geographic coordinate system Horizontal datum of NAD83, except for AK which is NAD27 Vertical datum of NAVD88, except for AK which is NAVD29 Z units of meters.<\/span><\/p><\/div><\/div><\/div>", "name": "elevation/idaho_1as_bedem", "description": "

The U.S. Geological Survey has developed a National Elevation Dataset (NED). The NED is a seamless mosaic of best-available elevation data. The 7.5-minute elevation data for the conterminous United States are the primary initial source data. In addition to the availability of complete 7.5-minute data, efficient processing methods were developed to filter production artifacts in the existing data, convert to the NAD83 datum, edge-match, and fill slivers of missing data at quadrangle seams. One of the effects of the NED processing steps is a much-improved base of elevation data for calculating slope and hydrologic derivatives. The specifications for the NED 1 arc second and 1/3 arc second data are: Geographic coordinate system Horizontal datum of NAD83, except for AK which is NAD27 Vertical datum of NAVD88, except for AK which is NAVD29 Z units of meters.<\/span><\/p><\/div><\/div><\/div>", "extent": { "xmin": -118, "ymin": 41.99999999976001, "xmax": -110.99999999944, "ymax": 49.00000000032, "spatialReference": { "wkid": 4269, "latestWkid": 4269 } }, "initialExtent": { "xmin": -118, "ymin": 41.99999999976001, "xmax": -110.99999999944, "ymax": 49.00000000032, "spatialReference": { "wkid": 4269, "latestWkid": 4269 } }, "fullExtent": { "xmin": -118, "ymin": 41.99999999976001, "xmax": -110.99999999944, "ymax": 49.00000000032, "spatialReference": { "wkid": 4269, "latestWkid": 4269 } }, "pixelSizeX": 2.777777777999997E-4, "pixelSizeY": 2.777777777999997E-4, "bandCount": 1, "pixelType": "F32", "minPixelSize": 0, "maxPixelSize": 0, "copyrightText": "U.S. Geological Survey (USGS)", "serviceDataType": "esriImageServiceDataTypeElevation", "minValues": [ 195.0260009765625 ], "maxValues": [ 3666.299072265625 ], "meanValues": [ 1527.3643379982857 ], "stdvValues": [ 514.8889977402276 ], "objectIdField": "OBJECTID", "fields": [ { "name": "OBJECTID", "type": "esriFieldTypeOID", "alias": "OBJECTID", "domain": null }, { "name": "Shape", "type": "esriFieldTypeGeometry", "alias": "Shape", "domain": null }, { "name": "Name", "type": "esriFieldTypeString", "alias": "Name", "domain": null, "length": 200 }, { "name": "Category", "type": "esriFieldTypeInteger", "alias": "Category", "domain": { "type": "codedValue", "name": "MosaicCatalogItemCategoryDomain", "description": "Catalog item categories.", "codedValues": [ { "name": "Unknown", "code": 0 }, { "name": "Primary", "code": 1 }, { "name": "Overview", "code": 2 }, { "name": "Unprocessed Overview", "code": 3 }, { "name": "Partial Overview", "code": 4 }, { "name": "Inactive", "code": 5 }, { "name": "Uploaded", "code": 253 }, { "name": "Incomplete", "code": 254 }, { "name": "Custom", "code": 255 } ], "mergePolicy": "esriMPTDefaultValue", "splitPolicy": "esriSPTDefaultValue" } }, { "name": "AcqYearFirst", "type": "esriFieldTypeSmallInteger", "alias": "Acquisition Year First", "domain": null }, { "name": "AcqYearLast", "type": "esriFieldTypeSmallInteger", "alias": "Acquisition Year Last", "domain": null }, { "name": "Resolution", "type": "esriFieldTypeSingle", "alias": "Resolution (cm)", "domain": null }, { "name": "LE90", "type": "esriFieldTypeSingle", "alias": "Horizontal Accuracy (cm)", "domain": null }, { "name": "CE90", "type": "esriFieldTypeSingle", "alias": "Vertical Accuracy (cm)", "domain": null }, { "name": "DEMType", "type": "esriFieldTypeSmallInteger", "alias": "Product Definition", "domain": { "type": "codedValue", "name": "ElevationDEMType", "description": "Elevation DEM type.", "codedValues": [ { "name": "Undefined", "code": 0 }, { "name": "Digital Surface Model (DSM)", "code": 1 }, { "name": "Bare Earth DEM", "code": 2 } ], "mergePolicy": "esriMPTDefaultValue", "splitPolicy": "esriSPTDefaultValue" } }, { "name": "VerticalDatum", "type": "esriFieldTypeSmallInteger", "alias": "Vertical Datum", "domain": { "type": "codedValue", "name": "ElevationVerticalDatum", "description": "Elevation name of the vertical data of the dataset.", "codedValues": [ { "name": "Unknown", "code": 0 }, { "name": "NADV88", "code": 1 } ], "mergePolicy": "esriMPTDefaultValue", "splitPolicy": "esriSPTDefaultValue" } }, { "name": "DatasetID", "type": "esriFieldTypeSmallInteger", "alias": "Collection Name", "domain": { "type": "codedValue", "name": "ElevationDatasetID", "description": "Elevation collection name.", "codedValues": [ { "name": "Idaho 1 arc-second (~30-meter)", "code": 1 }, { "name": "Idaho 1/3 arc-second (~10-meter)", "code": 2 } ], "mergePolicy": "esriMPTDefaultValue", "splitPolicy": "esriSPTDefaultValue" } }, { "name": "Constraints", "type": "esriFieldTypeSmallInteger", "alias": "Constraints", "domain": { "type": "codedValue", "name": "ElevationConstraints", "description": "Elevation access contraints.", "codedValues": [ { "name": "Unknown", "code": 0 }, { "name": "Public", "code": 1 }, { "name": "Restricted", "code": 2 } ], "mergePolicy": "esriMPTDefaultValue", "splitPolicy": "esriSPTDefaultValue" } }, { "name": "Source", "type": "esriFieldTypeSmallInteger", "alias": "Source", "domain": { "type": "codedValue", "name": "ElevationSource", "description": "Elevation agency who provided data to the library.", "codedValues": [ { "name": "Unknown", "code": 0 }, { "name": "U.S. Geological Survey", "code": 1 } ], "mergePolicy": "esriMPTDefaultValue", "splitPolicy": "esriSPTDefaultValue" } }, { "name": "AcqDateFirst", "type": "esriFieldTypeDate", "alias": "Acquistition Date First", "domain": null, "length": 8 }, { "name": "AcqDateLast", "type": "esriFieldTypeDate", "alias": "Acquistition Date Last", "domain": null, "length": 8 }, { "name": "DownloadURL", "type": "esriFieldTypeString", "alias": "Download URL", "domain": null, "length": 256 }, { "name": "Shape_Length", "type": "esriFieldTypeDouble", "alias": "Shape_Length", "domain": null }, { "name": "Shape_Area", "type": "esriFieldTypeDouble", "alias": "Shape_Area", "domain": null } ], "capabilities": "Catalog,Download,Image,Metadata", "defaultMosaicMethod": "Northwest", "allowedMosaicMethods": "NorthWest,Center,LockRaster,ByAttribute,Nadir,Viewpoint,Seamline,None", "sortField": "", "sortValue": null, "sortAscending": true, "mosaicOperator": "First", "maxDownloadSizeLimit": 2048, "defaultCompressionQuality": 80, "defaultResamplingMethod": "Bilinear", "maxImageHeight": 26000, "maxImageWidth": 26000, "maxRecordCount": 1000, "maxDownloadImageCount": 50000, "maxMosaicImageCount": 20, "allowRasterFunction": true, "rasterFunctionInfos": [ { "name": "None", "description": "A No-Op Function.", "help": "" }, { "name": "GrayscaleHillshade", "description": "A raster function template.", "help": "" } ], "rasterTypeInfos": [ { "name": "Raster Dataset", "description": "Supports all ArcGIS Raster Datasets", "help": "" } ], "mensurationCapabilities": "None", "hasHistograms": true, "hasColormap": false, "hasRasterAttributeTable": false, "minScale": 0, "maxScale": 0, "exportTilesAllowed": false, "hasMultidimensions": false, "supportsStatistics": true, "supportsAdvancedQueries": true, "editFieldsInfo": null, "ownershipBasedAccessControlForRasters": null, "allowComputeTiePoints": false, "useStandardizedQueries": true, "advancedQueryCapabilities": { "useStandardizedQueries": true, "supportsStatistics": true, "supportsOrderBy": true, "supportsDistinct": true, "supportsPagination": true }, "spatialReference": { "wkid": 4269, "latestWkid": 4269 } }