{
 "currentVersion": 10.91,
 "serviceDescription": "<div style='text-align:Left;'><div><div><p><span>The original Digital Raster Graphic (DRG) is a raster image of a scanned U.S.Geological Survey (USGS) topographic map including the collar information, georeferenced to the UTM grid. This collection includes 24 1:250,000-scale maps. The collar information has been suppressed to enable a seamless statewide image. The collar information may be accessed by downloading an original source image. <\/span><\/p><p><span>The date of the scanned map from the original source metadata is included as a footprint attribute. Check the information on the original source images for a possible revision date. Map dates range from 1961-1982.<\/span><\/p><p><span>The data in this service is sourced from the U.S. Geological Survey (USGS).<\/span><\/p><\/div><\/div><\/div>",
 "name": "historicalMaps/usgs_topo_250k_idaho",
 "description": "<div style='text-align:Left;'><div><div><p><span>The original Digital Raster Graphic (DRG) is a raster image of a scanned U.S.Geological Survey (USGS) topographic map including the collar information, georeferenced to the UTM grid. This collection includes 24 1:250,000-scale maps. The collar information has been suppressed to enable a seamless statewide image. The collar information may be accessed by downloading an original source image. <\/span><\/p><p><span>The date of the scanned map from the original source metadata is included as a footprint attribute. Check the information on the original source images for a possible revision date. Map dates range from 1961-1982.<\/span><\/p><p><span>The data in this service is sourced from the U.S. Geological Survey (USGS).<\/span><\/p><\/div><\/div><\/div>",
 "extent": {
  "xmin": 2163473.0592,
  "ymin": 1088969.7659002054,
  "xmax": 2836395.2591998456,
  "ymax": 1985386.5658999998,
  "spatialReference": {
   "wkid": 102605,
   "latestWkid": 8826
  }
 },
 "initialExtent": {
  "xmin": 2163473.0592,
  "ymin": 1088969.7659002054,
  "xmax": 2836395.2591998456,
  "ymax": 1985386.5658999998,
  "spatialReference": {
   "wkid": 102605,
   "latestWkid": 8826
  }
 },
 "fullExtent": {
  "xmin": 2163473.0592,
  "ymin": 1088969.7659002054,
  "xmax": 2836395.2591998456,
  "ymax": 1985386.5658999998,
  "spatialReference": {
   "wkid": 102605,
   "latestWkid": 8826
  }
 },
 "hasMultidimensions": false,
 "timeInfo": {
  "startTimeField": "DateYear",
  "endTimeField": "DateYear",
  "timeExtent": [
   -283996800000,
   378691200000
  ],
  "timeReference": null,
  "defaultTimeInterval": 1,
  "defaultTimeIntervalUnits": "esriTimeUnitsYears"
 },
 "pixelSizeX": 25.399999999994172,
 "pixelSizeY": 25.399999999994176,
 "datasetFormat": "AMD",
 "uncompressedSize": 2804972868,
 "blockWidth": 2048,
 "blockHeight": 256,
 "compressionType": "None",
 "bandNames": [
  "Band_1",
  "Band_2",
  "Band_3"
 ],
 "allowCopy": true,
 "allowAnalysis": true,
 "bandCount": 3,
 "pixelType": "U8",
 "minPixelSize": 0,
 "maxPixelSize": 0,
 "copyrightText": "Source data produced through an Innovative Partnership agreement between The Land Information Technology Company, Ltd., of Aurora, CO and the USGS.",
 "serviceDataType": "esriImageServiceDataTypeThematic",
 "serviceSourceType": "esriImageServiceSourceTypeMosaicDataset",
 "minValues": [
  0,
  0,
  0
 ],
 "maxValues": [
  218,
  234,
  226
 ],
 "meanValues": [
  138.90441827187823,
  133.1239309936459,
  99.60459147172142
 ],
 "stdvValues": [
  76.3519876922987,
  90.1776672757797,
  71.99081079599698
 ],
 "objectIdField": "OBJECTID",
 "fields": [
  {
   "name": "OBJECTID",
   "type": "esriFieldTypeOID",
   "alias": "OBJECTID",
   "domain": null
  },
  {
   "name": "Shape",
   "type": "esriFieldTypeGeometry",
   "alias": "Shape",
   "domain": null
  },
  {
   "name": "Name",
   "type": "esriFieldTypeString",
   "alias": "Name",
   "domain": null,
   "length": 200
  },
  {
   "name": "Category",
   "type": "esriFieldTypeInteger",
   "alias": "Category",
   "domain": {
    "type": "codedValue",
    "name": "MosaicCatalogItemCategoryDomain",
    "description": "Catalog item categories.",
    "codedValues": [
     {
      "name": "Unknown",
      "code": 0
     },
     {
      "name": "Primary",
      "code": 1
     },
     {
      "name": "Overview",
      "code": 2
     },
     {
      "name": "Unprocessed Overview",
      "code": 3
     },
     {
      "name": "Partial Overview",
      "code": 4
     },
     {
      "name": "Inactive",
      "code": 5
     },
     {
      "name": "Uploaded",
      "code": 253
     },
     {
      "name": "Incomplete",
      "code": 254
     },
     {
      "name": "Custom",
      "code": 255
     }
    ],
    "mergePolicy": "esriMPTDefaultValue",
    "splitPolicy": "esriSPTDefaultValue"
   }
  },
  {
   "name": "DatasetID",
   "type": "esriFieldTypeSmallInteger",
   "alias": "Dateset Identifier",
   "domain": {
    "type": "codedValue",
    "name": "DatasetID",
    "description": "Dataset Identifier",
    "codedValues": [
     {
      "name": "Unknown",
      "code": 0
     },
     {
      "name": "1:250,000-scale",
      "code": 1
     },
     {
      "name": "1:100,000-scale",
      "code": 2
     },
     {
      "name": "1:24,000-scale",
      "code": 3
     }
    ],
    "mergePolicy": "esriMPTDefaultValue",
    "splitPolicy": "esriSPTDefaultValue"
   }
  },
  {
   "name": "Scale",
   "type": "esriFieldTypeSmallInteger",
   "alias": "Map Scale",
   "domain": {
    "type": "codedValue",
    "name": "Scale",
    "description": "Map Scale",
    "codedValues": [
     {
      "name": "Unknown",
      "code": 0
     },
     {
      "name": "1:250,000",
      "code": 1
     },
     {
      "name": "1:100,000",
      "code": 2
     },
     {
      "name": "1:24,000",
      "code": 3
     }
    ],
    "mergePolicy": "esriMPTDefaultValue",
    "splitPolicy": "esriSPTDefaultValue"
   }
  },
  {
   "name": "DownloadURL",
   "type": "esriFieldTypeString",
   "alias": "Download URL",
   "domain": null,
   "length": 256
  },
  {
   "name": "DateYear",
   "type": "esriFieldTypeSmallInteger",
   "alias": "Scanned Map Date",
   "domain": null
  }
 ],
 "capabilities": "Catalog,Mensuration,Download,Image,Metadata",
 "defaultMosaicMethod": "Northwest",
 "allowedMosaicMethods": "NorthWest,Center,LockRaster,ByAttribute,Nadir,Viewpoint,Seamline,None",
 "sortField": "",
 "sortValue": null,
 "sortAscending": true,
 "mosaicOperator": "First",
 "maxDownloadSizeLimit": 2048,
 "defaultCompressionQuality": 80,
 "defaultResamplingMethod": "Nearest",
 "maxImageHeight": 4100,
 "maxImageWidth": 15000,
 "maxRecordCount": 1000,
 "maxDownloadImageCount": 10000,
 "maxMosaicImageCount": 20,
 "allowRasterFunction": true,
 "rasterFunctionInfos": [
  {
   "name": "None",
   "description": "A No-Op Function.",
   "help": ""
  }
 ],
 "rasterTypeInfos": [
  {
   "name": "Raster Dataset",
   "description": "Supports all ArcGIS Raster Datasets",
   "help": ""
  }
 ],
 "mensurationCapabilities": "Basic",
 "hasHistograms": true,
 "hasColormap": false,
 "hasRasterAttributeTable": false,
 "minScale": 0,
 "maxScale": 0,
 "exportTilesAllowed": false,
 "supportsStatistics": true,
 "supportsAdvancedQueries": true,
 "editFieldsInfo": null,
 "ownershipBasedAccessControlForRasters": null,
 "allowComputeTiePoints": false,
 "useStandardizedQueries": true,
 "advancedQueryCapabilities": {
  "useStandardizedQueries": true,
  "supportsStatistics": true,
  "supportsOrderBy": true,
  "supportsDistinct": true,
  "supportsPagination": true
 },
 "spatialReference": {
  "wkid": 102605,
  "latestWkid": 8826
 }
}
