<?xml version="1.0" encoding="UTF-8" standalone="no"?>
<metadata xml:lang="en">
<Esri>
<CreaDate>20180228</CreaDate>
<CreaTime>11241600</CreaTime>
<ArcGISFormat>1.0</ArcGISFormat>
<SyncOnce>FALSE</SyncOnce>
<DataProperties>
<itemProps>
<itemName Sync="TRUE">d_digitalRasterGraphics</itemName>
<nativeExtBox>
<westBL Sync="TRUE">-13135825.547100</westBL>
<eastBL Sync="TRUE">-12245222.299100</eastBL>
<southBL Sync="TRUE">5012326.887200</southBL>
<northBL Sync="TRUE">6274857.255200</northBL>
<exTypeCode Sync="TRUE">1</exTypeCode>
</nativeExtBox>
<imsContentType export="False">
</imsContentType>
</itemProps>
<coordRef>
<type Sync="TRUE">Projected</type>
<geogcsn Sync="TRUE">GCS_WGS_1984</geogcsn>
<csUnits Sync="TRUE">Linear Unit: Meter (1.000000)</csUnits>
<projcsn Sync="TRUE">WGS_1984_Web_Mercator_Auxiliary_Sphere</projcsn>
<peXml Sync="TRUE">&lt;ProjectedCoordinateSystem xsi:type='typens:ProjectedCoordinateSystem' xmlns:xsi='http://www.w3.org/2001/XMLSchema-instance' xmlns:xs='http://www.w3.org/2001/XMLSchema' xmlns:typens='http://www.esri.com/schemas/ArcGIS/10.6'&gt;&lt;WKT&gt;PROJCS[&amp;quot;WGS_1984_Web_Mercator_Auxiliary_Sphere&amp;quot;,GEOGCS[&amp;quot;GCS_WGS_1984&amp;quot;,DATUM[&amp;quot;D_WGS_1984&amp;quot;,SPHEROID[&amp;quot;WGS_1984&amp;quot;,6378137.0,298.257223563]],PRIMEM[&amp;quot;Greenwich&amp;quot;,0.0],UNIT[&amp;quot;Degree&amp;quot;,0.0174532925199433]],PROJECTION[&amp;quot;Mercator_Auxiliary_Sphere&amp;quot;],PARAMETER[&amp;quot;False_Easting&amp;quot;,0.0],PARAMETER[&amp;quot;False_Northing&amp;quot;,0.0],PARAMETER[&amp;quot;Central_Meridian&amp;quot;,0.0],PARAMETER[&amp;quot;Standard_Parallel_1&amp;quot;,0.0],PARAMETER[&amp;quot;Auxiliary_Sphere_Type&amp;quot;,0.0],UNIT[&amp;quot;Meter&amp;quot;,1.0],AUTHORITY[&amp;quot;EPSG&amp;quot;,3857]]&lt;/WKT&gt;&lt;XOrigin&gt;-20037700&lt;/XOrigin&gt;&lt;YOrigin&gt;-30241100&lt;/YOrigin&gt;&lt;XYScale&gt;148923141.92838538&lt;/XYScale&gt;&lt;ZOrigin&gt;-100000&lt;/ZOrigin&gt;&lt;ZScale&gt;10000&lt;/ZScale&gt;&lt;MOrigin&gt;-100000&lt;/MOrigin&gt;&lt;MScale&gt;10000&lt;/MScale&gt;&lt;XYTolerance&gt;0.001&lt;/XYTolerance&gt;&lt;ZTolerance&gt;0.001&lt;/ZTolerance&gt;&lt;MTolerance&gt;0.001&lt;/MTolerance&gt;&lt;HighPrecision&gt;true&lt;/HighPrecision&gt;&lt;WKID&gt;102100&lt;/WKID&gt;&lt;LatestWKID&gt;3857&lt;/LatestWKID&gt;&lt;/ProjectedCoordinateSystem&gt;</peXml>
</coordRef>
<RasterProperties>
<General>
<PixelDepth Sync="TRUE">8</PixelDepth>
<HasColormap Sync="TRUE">FALSE</HasColormap>
<CompressionType Sync="TRUE">None</CompressionType>
<NumBands Sync="TRUE">3</NumBands>
<Format Sync="TRUE">AMD</Format>
<HasPyramids Sync="TRUE">TRUE</HasPyramids>
<SourceType Sync="TRUE">continuous</SourceType>
<PixelType Sync="TRUE">unsigned integer</PixelType>
<NoDataValue Sync="TRUE">
</NoDataValue>
</General>
<Properties>
<MaxImageHeight Sync="TRUE">4100</MaxImageHeight>
<MaxImageWidth Sync="TRUE">15000</MaxImageWidth>
<MaxRecordCount Sync="TRUE">1000</MaxRecordCount>
<MaxDownloadImageCount Sync="TRUE">20</MaxDownloadImageCount>
<MaxDownloadSizeLimit Sync="TRUE">2048</MaxDownloadSizeLimit>
<MaxMosaicImageCount Sync="TRUE">20</MaxMosaicImageCount>
<DefaultCompressionQuality Sync="TRUE">75</DefaultCompressionQuality>
<DefaultCompressionTolerance Sync="TRUE">0.01</DefaultCompressionTolerance>
<BlendWidth Sync="TRUE">10</BlendWidth>
<ViewpointSpacingX Sync="TRUE">600</ViewpointSpacingX>
<ViewpointSpacingY Sync="TRUE">300</ViewpointSpacingY>
<AllowedItemMetadata Sync="TRUE">Full</AllowedItemMetadata>
<DefaultResamplingMethod Sync="TRUE">1</DefaultResamplingMethod>
<AllowedMosaicMethods Sync="TRUE">NorthWest,Center,LockRaster,ByAttribute,Nadir,Viewpoint,Seamline,None</AllowedMosaicMethods>
<AllowedCompressions Sync="TRUE">None,JPEG,LZ77,LERC</AllowedCompressions>
<AllowedMensurationCapabilities Sync="TRUE">Basic</AllowedMensurationCapabilities>
<AvailableMensurationCapabilities Sync="TRUE">None,Basic,Base-Top Height,Top-Top Shadow Height,Base-Top Shadow Height,3D</AvailableMensurationCapabilities>
<ClipToBoundary Sync="TRUE">0</ClipToBoundary>
<FootprintMayContainNoData Sync="TRUE">-1</FootprintMayContainNoData>
<CellSizeTolerance Sync="TRUE">0.8</CellSizeTolerance>
<MinimumPixelContribution Sync="TRUE">1</MinimumPixelContribution>
<AvailableMosaicMethods Sync="TRUE">NorthWest,Center,LockRaster,ByAttribute,Nadir,Viewpoint,Seamline,None</AvailableMosaicMethods>
<AvailableCompressionMethods Sync="TRUE">None,JPEG,LZ77,LERC</AvailableCompressionMethods>
<AvailableItemMetadataLevels Sync="TRUE">None,Basic,Full</AvailableItemMetadataLevels>
<BandDefinitionKeyword Sync="TRUE">NONE</BandDefinitionKeyword>
<AllowedFields Sync="TRUE">Name,DatasetID,Scale,DownloadURL,DateYear</AllowedFields>
<ClipToFootprint Sync="TRUE">-1</ClipToFootprint>
<DataType Sync="TRUE">Thematic</DataType>
<LowCellSize Sync="TRUE">25.3999999999942</LowCellSize>
<HighCellSize Sync="TRUE">6502.39999999851</HighCellSize>
<MaxCellSize Sync="TRUE">0</MaxCellSize>
<ApplyColorCorrection Sync="TRUE">0</ApplyColorCorrection>
<TimeValueFormat Sync="TRUE">YYYY</TimeValueFormat>
<EndTimeFieldName Sync="TRUE">DateYear</EndTimeFieldName>
<StartTimeFieldName Sync="TRUE">DateYear</StartTimeFieldName>
<TimeIntervalUnits Sync="TRUE">Years</TimeIntervalUnits>
<TimeInterval Sync="TRUE">1</TimeInterval>
<VerticalDimension Sync="TRUE">
</VerticalDimension>
<FlowDirection Sync="TRUE">
</FlowDirection>
<MosaicOperator Sync="TRUE">1</MosaicOperator>
<BlendWidthUnits Sync="TRUE">1</BlendWidthUnits>
<UseTime Sync="TRUE">-1</UseTime>
<SortAscending Sync="TRUE">-1</SortAscending>
<SortField Sync="TRUE">Name</SortField>
<SortValue Sync="TRUE">0</SortValue>
</Properties>
<Functions Sync="TRUE">
<Function Description="Performs on-the-fly mosaic on a raster catalog." Name="Mosaic Function">
</Function>
</Functions>
</RasterProperties>
</DataProperties>
<SyncDate>20180927</SyncDate>
<SyncTime>12485300</SyncTime>
<ModDate>20180927</ModDate>
<ModTime>12485300</ModTime>
<scaleRange>
<minScale>150000000</minScale>
<maxScale>5000</maxScale>
</scaleRange>
<ArcGISProfile>ISO19139</ArcGISProfile>
</Esri>
<dataIdInfo>
<envirDesc Sync="FALSE">Esri ArcGIS 10.6.0.8321</envirDesc>
<dataLang>
<languageCode Sync="TRUE" value="eng">
</languageCode>
<countryCode Sync="TRUE" value="USA">
</countryCode>
</dataLang>
<idCitation>
<resTitle Sync="FALSE">Historical Topographic Maps of Idaho</resTitle>
<presForm>
<PresFormCd Sync="TRUE" value="005">
</PresFormCd>
</presForm>
<date>
<createDate>2018-03-08T00:00:00</createDate>
</date>
</idCitation>
<spatRpType>
<SpatRepTypCd Sync="TRUE" value="002">
</SpatRepTypCd>
</spatRpType>
<dataExt>
<geoEle>
<GeoBndBox esriExtentType="search">
<exTypeCode Sync="TRUE">1</exTypeCode>
<westBL Sync="TRUE">-118.001129</westBL>
<eastBL Sync="TRUE">-110.000703</eastBL>
<northBL Sync="TRUE">48.999976</northBL>
<southBL Sync="TRUE">40.999900</southBL>
</GeoBndBox>
</geoEle>
</dataExt>
<searchKeys>
<keyword>Digital Raster Graphic</keyword>
<keyword>DRG</keyword>
<keyword>Topographic Map</keyword>
<keyword>Topo Map</keyword>
<keyword>USGS</keyword>
<keyword>Historical Maps</keyword>
</searchKeys>
<idPurp>Scanned USGS topographic maps of Idaho that are useful as a source or background layer. 1:250,000, 1:100,000, and 1:24,000-scale maps are included.</idPurp>
<idAbs>&lt;div style='text-align:Left;'&gt;&lt;div&gt;&lt;div&gt;&lt;p&gt;&lt;span&gt;The original Digital Raster Graphic (DRG) is a raster image of a scanned USGS topographic map including the collar information, georeferenced to the UTM grid. This collection includes 24 1:250,000-scale maps, 77 1:100:000-scale maps, and 2296 1:24,000-scale maps. The collar information has been suppressed to enable a seamless statewide image. The collar information may be accessed by downloading an original source image. &lt;/span&gt;&lt;/p&gt;&lt;p&gt;&lt;span&gt;The date of the scanned map from the original source metadata is included as a footprint attribute. Check the information on the original source images for a possible revision date. Map dates range from 1949-1995.&lt;/span&gt;&lt;/p&gt;&lt;p&gt;&lt;span&gt;The data in this service is sourced from the U.S. Geological Survey (USGS).&lt;/span&gt;&lt;/p&gt;&lt;/div&gt;&lt;/div&gt;&lt;/div&gt;</idAbs>
<idCredit>Source data produced through an Innovative Partnership agreement between The Land Information Technology Company, Ltd., of Aurora, CO and the USGS.</idCredit>
<themeKeys>
<keyword>Digital Raster Graphic, DRG, Topographic Map, Topo Map, USGS</keyword>
</themeKeys>
<placeKeys>
<keyword>Idaho</keyword>
</placeKeys>
<resConst>
<Consts>
<useLimit>&lt;div style='text-align:Left;'&gt;&lt;div&gt;&lt;div&gt;&lt;p&gt;&lt;span&gt;Acknowledgment of the U.S. Geological Survey would be appreciated in products derived from these data.&lt;/span&gt;&lt;/p&gt;&lt;/div&gt;&lt;/div&gt;&lt;/div&gt;</useLimit>
</Consts>
</resConst>
<tpCat>
<TopicCatCd value="010">
</TopicCatCd>
</tpCat>
</dataIdInfo>
<mdLang>
<languageCode Sync="TRUE" value="eng">
</languageCode>
<countryCode Sync="TRUE" value="USA">
</countryCode>
</mdLang>
<refSysInfo>
<RefSystem>
<refSysID>
<identCode Sync="TRUE" code="3857">
</identCode>
<idCodeSpace Sync="TRUE">EPSG</idCodeSpace>
<idVersion Sync="TRUE">8.8(9.3.1.2)</idVersion>
</refSysID>
</RefSystem>
</refSysInfo>
<spatRepInfo>
<Georect>
<cellGeo>
<CellGeoCd Sync="TRUE" value="002">
</CellGeoCd>
</cellGeo>
<numDims Sync="TRUE">2</numDims>
<tranParaAv Sync="TRUE">1</tranParaAv>
<chkPtAv Sync="TRUE">0</chkPtAv>
<cornerPts>
<pos Sync="TRUE">-13135825.547100 5012326.887200</pos>
</cornerPts>
<cornerPts>
<pos Sync="TRUE">-13135825.547100 6274857.255200</pos>
</cornerPts>
<cornerPts>
<pos Sync="TRUE">-12245222.299100 6274857.255200</pos>
</cornerPts>
<cornerPts>
<pos Sync="TRUE">-12245222.299100 5012326.887200</pos>
</cornerPts>
<centerPt>
<pos Sync="TRUE">-12690523.923100 5643592.071200</pos>
</centerPt>
<axisDimension type="002">
<dimSize Sync="TRUE">438289</dimSize>
<dimResol>
<value Sync="TRUE" uom="m">2.032000</value>
</dimResol>
</axisDimension>
<axisDimension type="001">
<dimSize Sync="TRUE">621324</dimSize>
<dimResol>
<value Sync="TRUE" uom="m">2.032000</value>
</dimResol>
</axisDimension>
<ptInPixel>
<PixOrientCd Sync="TRUE" value="001">
</PixOrientCd>
</ptInPixel>
</Georect>
</spatRepInfo>
<contInfo>
<ImgDesc>
<contentTyp>
<ContentTypCd Sync="TRUE" value="001">
</ContentTypCd>
</contentTyp>
<covDim>
<Band>
<dimDescrp Sync="TRUE">Band_1</dimDescrp>
<bitsPerVal Sync="TRUE">8</bitsPerVal>
<valUnit>
<UOM gmlID="" type="length">
</UOM>
</valUnit>
</Band>
<Band>
<dimDescrp Sync="TRUE">Band_2</dimDescrp>
<bitsPerVal Sync="TRUE">8</bitsPerVal>
<valUnit>
<UOM gmlID="" type="length">
</UOM>
</valUnit>
</Band>
<Band>
<dimDescrp Sync="TRUE">Band_3</dimDescrp>
<bitsPerVal Sync="TRUE">8</bitsPerVal>
<valUnit>
<UOM gmlID="" type="length">
</UOM>
</valUnit>
</Band>
</covDim>
<trianInd>False</trianInd>
<radCalDatAv>False</radCalDatAv>
<camCalInAv>False</camCalInAv>
<filmDistInAv>False</filmDistInAv>
<lensDistInAv>False</lensDistInAv>
</ImgDesc>
</contInfo>
<mdDateSt Sync="TRUE">20180927</mdDateSt>
<mdHrLv>
<ScopeCd value="005">
</ScopeCd>
</mdHrLv>
<mdContact>
<rpIndName>Bruce Godfrey</rpIndName>
<rpOrgName>University of Idaho Library</rpOrgName>
<rpPosName>GIS Librarian</rpPosName>
<role>
<RoleCd value="001">
</RoleCd>
</role>
<rpCntInfo>
<cntAddress addressType="">
<eMailAdd>bgodfrey@uidaho.edu</eMailAdd>
</cntAddress>
<cntPhone>
<voiceNum tddtty="">208.292.1407</voiceNum>
</cntPhone>
</rpCntInfo>
</mdContact>
<dqInfo>
<dataLineage>
<dataSource type="">
<srcDesc>Scanned 1:250,000-scale USGS topographic maps of Idaho that are useful as a source or background layer. </srcDesc>
<srcCitatn>
<resTitle>Historical Topographic Maps of Idaho (1:250,000-scale)</resTitle>
<resAltTitle>1</resAltTitle>
<citOnlineRes>
<linkage>https://uidaho.maps.arcgis.com/home/item.html?id=a076611b8540498d8a77465edf3674ab</linkage>
<orFunct>
<OnFunctCd value="002">
</OnFunctCd>
</orFunct>
</citOnlineRes>
</srcCitatn>
</dataSource>
<dataSource type="">
<srcDesc>Scanned 1:100,000-scale USGS topographic maps of Idaho that are useful as a source or background layer.</srcDesc>
<srcCitatn>
<resTitle>Historical Topographic Maps of Idaho (1:100,000-scale)</resTitle>
<resAltTitle>2</resAltTitle>
<citOnlineRes>
<linkage>https://uidaho.maps.arcgis.com/home/item.html?id=6ba8fd6682304b54b4c0e2d015138845</linkage>
<orFunct>
<OnFunctCd value="002">
</OnFunctCd>
</orFunct>
</citOnlineRes>
</srcCitatn>
</dataSource>
<dataSource type="">
<srcDesc>Scanned 1:24,000-scale USGS topographic maps of Idaho that are useful as a source or background layer. </srcDesc>
<srcCitatn>
<resTitle>Historical Topographic Maps of Idaho (1:24,000-scale)</resTitle>
<resAltTitle>3</resAltTitle>
<citOnlineRes>
<linkage>https://uidaho.maps.arcgis.com/home/item.html?id=6f1bb022df16451382f1c5d60a71b1a3</linkage>
<orFunct>
<OnFunctCd value="002">
</OnFunctCd>
</orFunct>
</citOnlineRes>
</srcCitatn>
</dataSource>
</dataLineage>
</dqInfo>
</metadata>
