{
 "currentVersion": 10.91,
 "serviceDescription": "<div style='text-align:Left;'><div><div><p><span>The original Digital Raster Graphic (DRG) is a raster image of a scanned USGS topographic map including the collar information, georeferenced to the UTM grid. This collection includes 24 1:250,000-scale maps, 77 1:100:000-scale maps, and 2296 1:24,000-scale maps. The collar information has been suppressed to enable a seamless statewide image. The collar information may be accessed by downloading an original source image. <\/span><\/p><p><span>The date of the scanned map from the original source metadata is included as a footprint attribute. Check the information on the original source images for a possible revision date. Map dates range from 1949-1995.<\/span><\/p><p><span>The data in this service is sourced from the U.S. Geological Survey (USGS).<\/span><\/p><\/div><\/div><\/div>",
 "name": "historicalMaps/usgs_topo_idaho",
 "description": "<div style='text-align:Left;'><div><div><p><span>The original Digital Raster Graphic (DRG) is a raster image of a scanned USGS topographic map including the collar information, georeferenced to the UTM grid. This collection includes 24 1:250,000-scale maps, 77 1:100:000-scale maps, and 2296 1:24,000-scale maps. The collar information has been suppressed to enable a seamless statewide image. The collar information may be accessed by downloading an original source image. <\/span><\/p><p><span>The date of the scanned map from the original source metadata is included as a footprint attribute. Check the information on the original source images for a possible revision date. Map dates range from 1949-1995.<\/span><\/p><p><span>The data in this service is sourced from the U.S. Geological Survey (USGS).<\/span><\/p><\/div><\/div><\/div>",
 "extent": {
  "xmin": -1.31358255471E7,
  "ymin": 5012326.8872000445,
  "xmax": -1.2245222299100032E7,
  "ymax": 6274857.255199999,
  "spatialReference": {
   "wkid": 102100,
   "latestWkid": 3857
  }
 },
 "initialExtent": {
  "xmin": -1.31358255471E7,
  "ymin": 5012326.8872000445,
  "xmax": -1.2245222299100032E7,
  "ymax": 6274857.255199999,
  "spatialReference": {
   "wkid": 102100,
   "latestWkid": 3857
  }
 },
 "fullExtent": {
  "xmin": -1.31358255471E7,
  "ymin": 5012326.8872000445,
  "xmax": -1.2245222299100032E7,
  "ymax": 6274857.255199999,
  "spatialReference": {
   "wkid": 102100,
   "latestWkid": 3857
  }
 },
 "hasMultidimensions": false,
 "timeInfo": {
  "startTimeField": "DateYear",
  "endTimeField": "DateYear",
  "timeExtent": [
   -662688000000,
   788918400000
  ],
  "timeReference": null,
  "defaultTimeInterval": 1,
  "defaultTimeIntervalUnits": "esriTimeUnitsYears"
 },
 "pixelSizeX": 2.031999999999927,
 "pixelSizeY": 2.0319999999999263,
 "datasetFormat": "AMD",
 "uncompressedSize": 816956559936,
 "blockWidth": 2048,
 "blockHeight": 256,
 "compressionType": "None",
 "bandNames": [
  "Band_1",
  "Band_2",
  "Band_3"
 ],
 "allowCopy": true,
 "allowAnalysis": true,
 "bandCount": 3,
 "pixelType": "U8",
 "minPixelSize": 0,
 "maxPixelSize": 0,
 "copyrightText": "Source data produced through an Innovative Partnership agreement between The Land Information Technology Company, Ltd., of Aurora, CO and the USGS.",
 "serviceDataType": "esriImageServiceDataTypeThematic",
 "serviceSourceType": "esriImageServiceSourceTypeMosaicDataset",
 "minValues": [],
 "maxValues": [],
 "meanValues": [],
 "stdvValues": [],
 "objectIdField": "OBJECTID",
 "fields": [
  {
   "name": "OBJECTID",
   "type": "esriFieldTypeOID",
   "alias": "OBJECTID",
   "domain": null
  },
  {
   "name": "Shape",
   "type": "esriFieldTypeGeometry",
   "alias": "Shape",
   "domain": null
  },
  {
   "name": "Name",
   "type": "esriFieldTypeString",
   "alias": "Name",
   "domain": null,
   "length": 200
  },
  {
   "name": "Category",
   "type": "esriFieldTypeInteger",
   "alias": "Category",
   "domain": {
    "type": "codedValue",
    "name": "MosaicCatalogItemCategoryDomain",
    "description": "Catalog item categories.",
    "codedValues": [
     {
      "name": "Unknown",
      "code": 0
     },
     {
      "name": "Primary",
      "code": 1
     },
     {
      "name": "Overview",
      "code": 2
     },
     {
      "name": "Unprocessed Overview",
      "code": 3
     },
     {
      "name": "Partial Overview",
      "code": 4
     },
     {
      "name": "Inactive",
      "code": 5
     },
     {
      "name": "Uploaded",
      "code": 253
     },
     {
      "name": "Incomplete",
      "code": 254
     },
     {
      "name": "Custom",
      "code": 255
     }
    ],
    "mergePolicy": "esriMPTDefaultValue",
    "splitPolicy": "esriSPTDefaultValue"
   }
  },
  {
   "name": "DatasetID",
   "type": "esriFieldTypeSmallInteger",
   "alias": "Dateset Identifier",
   "domain": {
    "type": "codedValue",
    "name": "DatasetID",
    "description": "Dataset Identifier",
    "codedValues": [
     {
      "name": "Unknown",
      "code": 0
     },
     {
      "name": "1:250,000-scale",
      "code": 1
     },
     {
      "name": "1:100,000-scale",
      "code": 2
     },
     {
      "name": "1:24,000-scale",
      "code": 3
     }
    ],
    "mergePolicy": "esriMPTDefaultValue",
    "splitPolicy": "esriSPTDefaultValue"
   }
  },
  {
   "name": "Scale",
   "type": "esriFieldTypeSmallInteger",
   "alias": "Map Scale",
   "domain": {
    "type": "codedValue",
    "name": "Scale",
    "description": "Map Scale",
    "codedValues": [
     {
      "name": "Unknown",
      "code": 0
     },
     {
      "name": "1:250,000",
      "code": 1
     },
     {
      "name": "1:100,000",
      "code": 2
     },
     {
      "name": "1:24,000",
      "code": 3
     }
    ],
    "mergePolicy": "esriMPTDefaultValue",
    "splitPolicy": "esriSPTDefaultValue"
   }
  },
  {
   "name": "DownloadURL",
   "type": "esriFieldTypeString",
   "alias": "Download URL",
   "domain": null,
   "length": 256
  },
  {
   "name": "DateYear",
   "type": "esriFieldTypeSmallInteger",
   "alias": "Scanned Map Date",
   "domain": null
  }
 ],
 "capabilities": "Catalog,Mensuration,Download,Image,Metadata",
 "defaultMosaicMethod": "Northwest",
 "allowedMosaicMethods": "NorthWest,Center,LockRaster,ByAttribute,Nadir,Viewpoint,Seamline,None",
 "sortField": "",
 "sortValue": null,
 "sortAscending": true,
 "mosaicOperator": "First",
 "maxDownloadSizeLimit": 2048,
 "defaultCompressionQuality": 75,
 "defaultResamplingMethod": "Bilinear",
 "maxImageHeight": 4100,
 "maxImageWidth": 15000,
 "maxRecordCount": 1000,
 "maxDownloadImageCount": 20,
 "maxMosaicImageCount": 20,
 "allowRasterFunction": true,
 "rasterFunctionInfos": [
  {
   "name": "None",
   "description": "A No-Op Function.",
   "help": ""
  }
 ],
 "rasterTypeInfos": [
  {
   "name": "Raster Dataset",
   "description": "Supports all ArcGIS Raster Datasets",
   "help": ""
  }
 ],
 "mensurationCapabilities": "Basic",
 "hasHistograms": false,
 "hasColormap": false,
 "hasRasterAttributeTable": false,
 "minScale": 0,
 "maxScale": 0,
 "exportTilesAllowed": false,
 "supportsStatistics": true,
 "supportsAdvancedQueries": true,
 "editFieldsInfo": null,
 "ownershipBasedAccessControlForRasters": null,
 "allowComputeTiePoints": false,
 "useStandardizedQueries": true,
 "advancedQueryCapabilities": {
  "useStandardizedQueries": true,
  "supportsStatistics": true,
  "supportsOrderBy": true,
  "supportsDistinct": true,
  "supportsPagination": true
 },
 "spatialReference": {
  "wkid": 102100,
  "latestWkid": 3857
 }
}
