<?xml version="1.0" encoding="UTF-8" standalone="no"?>
<metadata xml:lang="en">
<Esri>
<CreaDate>20180409</CreaDate>
<CreaTime>21333500</CreaTime>
<ArcGISFormat>1.0</ArcGISFormat>
<ArcGISstyle>ISO 19139 Metadata Implementation Specification</ArcGISstyle>
<SyncOnce>FALSE</SyncOnce>
<DataProperties>
<itemProps>
<itemName Sync="TRUE">s_boise_2003</itemName>
<nativeExtBox>
<westBL Sync="TRUE">539150.700000</westBL>
<eastBL Sync="TRUE">572996.700000</eastBL>
<southBL Sync="TRUE">4802244.600000</southBL>
<northBL Sync="TRUE">4844432.400000</northBL>
<exTypeCode Sync="TRUE">1</exTypeCode>
</nativeExtBox>
<imsContentType export="False">
</imsContentType>
</itemProps>
<coordRef>
<type Sync="TRUE">Projected</type>
<geogcsn Sync="TRUE">GCS_North_American_1983</geogcsn>
<csUnits Sync="TRUE">Linear Unit: Meter (1.000000)</csUnits>
<projcsn Sync="TRUE">NAD_1983_UTM_Zone_11N</projcsn>
<peXml Sync="TRUE">&lt;ProjectedCoordinateSystem xsi:type='typens:ProjectedCoordinateSystem' xmlns:xsi='http://www.w3.org/2001/XMLSchema-instance' xmlns:xs='http://www.w3.org/2001/XMLSchema' xmlns:typens='http://www.esri.com/schemas/ArcGIS/10.6'&gt;&lt;WKT&gt;PROJCS[&amp;quot;NAD_1983_UTM_Zone_11N&amp;quot;,GEOGCS[&amp;quot;GCS_North_American_1983&amp;quot;,DATUM[&amp;quot;D_North_American_1983&amp;quot;,SPHEROID[&amp;quot;GRS_1980&amp;quot;,6378137.0,298.257222101]],PRIMEM[&amp;quot;Greenwich&amp;quot;,0.0],UNIT[&amp;quot;Degree&amp;quot;,0.0174532925199433]],PROJECTION[&amp;quot;Transverse_Mercator&amp;quot;],PARAMETER[&amp;quot;False_Easting&amp;quot;,500000.0],PARAMETER[&amp;quot;False_Northing&amp;quot;,0.0],PARAMETER[&amp;quot;Central_Meridian&amp;quot;,-117.0],PARAMETER[&amp;quot;Scale_Factor&amp;quot;,0.9996],PARAMETER[&amp;quot;Latitude_Of_Origin&amp;quot;,0.0],UNIT[&amp;quot;Meter&amp;quot;,1.0],AUTHORITY[&amp;quot;EPSG&amp;quot;,26911]]&lt;/WKT&gt;&lt;XOrigin&gt;-5120900&lt;/XOrigin&gt;&lt;YOrigin&gt;-9998100&lt;/YOrigin&gt;&lt;XYScale&gt;450445547.3910538&lt;/XYScale&gt;&lt;ZOrigin&gt;-100000&lt;/ZOrigin&gt;&lt;ZScale&gt;10000&lt;/ZScale&gt;&lt;MOrigin&gt;-100000&lt;/MOrigin&gt;&lt;MScale&gt;10000&lt;/MScale&gt;&lt;XYTolerance&gt;0.001&lt;/XYTolerance&gt;&lt;ZTolerance&gt;0.001&lt;/ZTolerance&gt;&lt;MTolerance&gt;0.001&lt;/MTolerance&gt;&lt;HighPrecision&gt;true&lt;/HighPrecision&gt;&lt;WKID&gt;26911&lt;/WKID&gt;&lt;LatestWKID&gt;26911&lt;/LatestWKID&gt;&lt;/ProjectedCoordinateSystem&gt;</peXml>
</coordRef>
<RasterProperties>
<General>
<PixelDepth Sync="TRUE">8</PixelDepth>
<HasColormap Sync="TRUE">FALSE</HasColormap>
<CompressionType Sync="TRUE">None</CompressionType>
<NumBands Sync="TRUE">3</NumBands>
<Format Sync="TRUE">AMD</Format>
<HasPyramids Sync="TRUE">TRUE</HasPyramids>
<SourceType Sync="TRUE">continuous</SourceType>
<PixelType Sync="TRUE">unsigned integer</PixelType>
<NoDataValue Sync="TRUE">
</NoDataValue>
</General>
<Properties>
<MaxImageHeight Sync="TRUE">20000</MaxImageHeight>
<MaxImageWidth Sync="TRUE">25000</MaxImageWidth>
<MaxRecordCount Sync="TRUE">1000</MaxRecordCount>
<MaxDownloadImageCount Sync="TRUE">10000</MaxDownloadImageCount>
<MaxDownloadSizeLimit Sync="TRUE">2048</MaxDownloadSizeLimit>
<MaxMosaicImageCount Sync="TRUE">20</MaxMosaicImageCount>
<DefaultCompressionQuality Sync="TRUE">80</DefaultCompressionQuality>
<DefaultCompressionTolerance Sync="TRUE">0.01</DefaultCompressionTolerance>
<BlendWidth Sync="TRUE">0</BlendWidth>
<ViewpointSpacingX Sync="TRUE">600</ViewpointSpacingX>
<ViewpointSpacingY Sync="TRUE">300</ViewpointSpacingY>
<AllowedItemMetadata Sync="TRUE">BASIC</AllowedItemMetadata>
<DefaultResamplingMethod Sync="TRUE">1</DefaultResamplingMethod>
<AllowedMosaicMethods Sync="TRUE">NorthWest,Center,LockRaster,ByAttribute,Nadir,Viewpoint,Seamline,None</AllowedMosaicMethods>
<AllowedCompressions Sync="TRUE">JPEG,NONE,LZ77,LERC</AllowedCompressions>
<AllowedMensurationCapabilities Sync="TRUE">None</AllowedMensurationCapabilities>
<AvailableMensurationCapabilities Sync="TRUE">None,Basic,Base-Top Height,Top-Top Shadow Height,Base-Top Shadow Height,3D</AvailableMensurationCapabilities>
<ClipToBoundary Sync="TRUE">0</ClipToBoundary>
<FootprintMayContainNoData Sync="TRUE">0</FootprintMayContainNoData>
<CellSizeTolerance Sync="TRUE">0.8</CellSizeTolerance>
<MinimumPixelContribution Sync="TRUE">1</MinimumPixelContribution>
<AvailableMosaicMethods Sync="TRUE">NorthWest,Center,LockRaster,ByAttribute,Nadir,Viewpoint,Seamline,None</AvailableMosaicMethods>
<AvailableCompressionMethods Sync="TRUE">None,JPEG,LZ77,LERC</AvailableCompressionMethods>
<AvailableItemMetadataLevels Sync="TRUE">None,Basic,Full</AvailableItemMetadataLevels>
<BandDefinitionKeyword Sync="TRUE">NATURAL_COLOR</BandDefinitionKeyword>
<AllowedFields Sync="TRUE">Name,AcqYearFirst,AcqYearLast,Resolution,ProDef,DatasetID,Rectification,Constraints,Source,AcqDateFirst,AcqDateLastDownloadURL,AcqYearFirst,AcqYearLast,Resolution,ProDef,DatasetID,Rectification,Constraints,Source,AcqDateFirst,AcqDateLast,DownloadURL</AllowedFields>
<LowCellSize Sync="TRUE">0.3</LowCellSize>
<HighCellSize Sync="TRUE">307.199999999999</HighCellSize>
<MaxCellSize Sync="TRUE">15359.9999999999</MaxCellSize>
<ClipToFootprint Sync="TRUE">-1</ClipToFootprint>
<ApplyColorCorrection Sync="TRUE">0</ApplyColorCorrection>
<SortAscending Sync="TRUE">-1</SortAscending>
<MosaicOperator Sync="TRUE">1</MosaicOperator>
<UseTime Sync="TRUE">0</UseTime>
<DataType Sync="TRUE">Processed</DataType>
<TimeStamp.RemoveItems Sync="TRUE">43213.8124871875</TimeStamp.RemoveItems>
<TimeStamp.UpdateExtent Sync="TRUE">43213.8192323958</TimeStamp.UpdateExtent>
</Properties>
<Functions Sync="TRUE">
<Function Description="Performs on-the-fly mosaic on a raster catalog." Name="Mosaic Function">
</Function>
</Functions>
</RasterProperties>
</DataProperties>
<SyncDate>20181112</SyncDate>
<SyncTime>10263900</SyncTime>
<ModDate>20181112</ModDate>
<ModTime>10263900</ModTime>
<scaleRange>
<minScale>150000000</minScale>
<maxScale>5000</maxScale>
</scaleRange>
<ArcGISProfile>ISO19139</ArcGISProfile>
</Esri>
<dataIdInfo>
<envirDesc Sync="FALSE">Esri ArcGIS 10.6.0.8321</envirDesc>
<dataLang>
<languageCode Sync="TRUE" value="eng">
</languageCode>
<countryCode Sync="TRUE" value="USA">
</countryCode>
</dataLang>
<idCitation>
<resTitle Sync="FALSE">Aerial Imagery of the Boise, Idaho Urban Area (2003, 30-centimeter)</resTitle>
<presForm>
<PresFormCd Sync="TRUE" value="005">
</PresFormCd>
</presForm>
<date>
<createDate>2018-04-16T00:00:00</createDate>
</date>
</idCitation>
<spatRpType>
<SpatRepTypCd Sync="TRUE" value="002">
</SpatRepTypCd>
</spatRpType>
<dataExt>
<geoEle>
<GeoBndBox esriExtentType="search">
<exTypeCode Sync="TRUE">1</exTypeCode>
<westBL Sync="TRUE">-116.516747</westBL>
<eastBL Sync="TRUE">-116.093333</eastBL>
<northBL Sync="TRUE">43.751900</northBL>
<southBL Sync="TRUE">43.369518</southBL>
</GeoBndBox>
</geoEle>
<tempEle>
<TempExtent>
<exTemp>
<TM_Instant>
<tmPosition>2003-04-08T00:00:00</tmPosition>
</TM_Instant>
</exTemp>
</TempExtent>
</tempEle>
<tempEle>
<TempExtent>
<exTemp>
<TM_Instant>
<tmPosition>2003-04-19T00:00:00</tmPosition>
</TM_Instant>
</exTemp>
</TempExtent>
</tempEle>
<exDesc>ground condition</exDesc>
</dataExt>
<searchKeys>
<keyword>air photo</keyword>
<keyword>aerial photography</keyword>
<keyword>aerial photo</keyword>
<keyword>orthoimagery</keyword>
<keyword>ortho imagery</keyword>
<keyword>orthophotography</keyword>
<keyword>imagery</keyword>
<keyword>orthorectified imagery</keyword>
<keyword>natural color</keyword>
</searchKeys>
<idPurp>This collection contains 468 2003 30-centimeter natural color orthorectified images for the Boise, Idaho urban area. This area includes most of northern Ada...</idPurp>
<idAbs>&lt;div style='text-align:Left;'&gt;&lt;div&gt;&lt;div&gt;&lt;p&gt;&lt;span&gt;These data depict geographic features on the surface of the earth. They were created primarily as a visual aid for urban and county planning. They also provides easily accessible geospatial data which is readily available to enhance the capability of Federal, State, and local emergency responders, as well as plan for homeland security efforts.&lt;/span&gt;&lt;/p&gt;&lt;p&gt;&lt;span&gt;An orthoimage is remotely sensed image data in which displacement of features in the image caused by terrain relief and sensor orientation have been mathematically removed. Orthoimagery combines the image characteristics of a photograph with the geometric qualities of a map. The design accuracy is estimated not to exceed 3-meter diagonal RMSE (2.12m RMSE in X or Y).&lt;/span&gt;&lt;/p&gt;&lt;p&gt;&lt;span /&gt;&lt;/p&gt;&lt;/div&gt;&lt;/div&gt;&lt;/div&gt;</idAbs>
<idCredit>U.S. Geological Survey (USGS)</idCredit>
<idPoC>
<rpIndName>Bruce Godfrey</rpIndName>
<rpOrgName>University of Idaho Library</rpOrgName>
<rpPosName>GIS Librarian</rpPosName>
<role>
<RoleCd value="007">
</RoleCd>
</role>
<rpCntInfo>
<cntAddress addressType="">
<eMailAdd>bgodfrey@uidaho.edu</eMailAdd>
</cntAddress>
<cntPhone>
<voiceNum tddtty="">208.292.1407</voiceNum>
</cntPhone>
</rpCntInfo>
</idPoC>
<resConst>
<Consts>
<useLimit>&lt;div style='text-align:Left;'&gt;&lt;div&gt;&lt;div&gt;&lt;p&gt;&lt;span&gt;Public data. However, users should be aware that temporal changes may have occurred since these data were collected and that some parts of these data may no longer represent actual surface conditions. Users should not use these data for critical applications without a full awareness of the limitations of these data as described in the lineage or elsewhere.&lt;/span&gt;&lt;/p&gt;&lt;p&gt;&lt;span /&gt;&lt;/p&gt;&lt;/div&gt;&lt;/div&gt;&lt;/div&gt;</useLimit>
</Consts>
</resConst>
<resMaint>
<maintFreq>
<MaintFreqCd value="011">
</MaintFreqCd>
</maintFreq>
</resMaint>
<dataChar>
<CharSetCd value="004">
</CharSetCd>
</dataChar>
<suppInfo>Original Native Dataset Environment: Digital images rectified on Windows based computers using Socet Set 4.4.1 software. Images cleaned in Corel Photopaint 8; color balanced in Adobe Photoshop 7. Images translated from Ada County coordinate system to UTM using Blue Marble Geographic Transformer 5.
Job Reference #: 03-053
Job Name: Ada County Ortho Update
Job Area/Location: Ada County, Idaho
3Di West (GeoTerra): Ron Sluggett - Project Manager / Gordon Peet - Photogrammetry Manager
Address: 3400 West 11th Ave., Eugene OR 97402
Phone: (541) 343-8877 Fax: (541) 343-8879 E-mail: rsluggett@3diwest.com
Primary Client: Community Planning Association of Southwest Idaho (COMPASS)
Contact person: Sheldon Bluestein (Ada County Assesor's Office)
Address: 650 Main Street, 4th Floor, Boise, ID 83702
Phone: 208-287-7200 Fax: E-mail: asbluesr@adaweb.net
Secondary Client: United States Geological Survey
Contact person: Tracy Fuller
Address: 230 Collins Road, Boise ID 83702
Phone: 208-387-1351 Fax: 208-387-1372 E-mail: tfuller@usgs.gov
Client contract #: PSA 2004-02
Date of award: 1-Oct-03
Purpose of Job: Orthophoto update with some additional new mapping
Scale of Job: 1" = 100' Contour Interval: n/a Pixel Resolution: 0.50' 0.3m
Photography source: Bergman Photographic Service Flown on: 8-Apr-03
Aerial photos: 24 line(s) 389 exposure(s) 12 " camera 1" = 840' Color
Camera info: camera #: 144163 lens #: 144177 F.L.: 305.042 calib.: 20-Apr-01
Original survey source: Orbitech
Contact name: Shelby Griggs
Address: PO Box 5305, Bend, OR 97708
Phone: 541-383-2715 Fax: 541-383-2715 E-mail: orbitech@bendcable.com
New survey source: Environmental Management Office, Idaho Military Division
Contact name: Nicholas Nydegger
Address: 4715 S. Byrd Street, Boise, ID 83705-8095
Phone: 208-422-4182 Fax: 208-422-4169 E-mail: nydeggen@id.ngb.army.mil
Control sources: 3 new control points established, other control established from 2000 photography, control network extended by aerial triangulation
Primary Datum: Horizontal: NAD 83 Vertical: NAVD 88
Coordinate system: modified State Plane Zone: Idaho West
Units: US Survey feet Secondary Datum: Horizontal: NAD 83 Vertical: NAVD 88
Coordinate system: UTM Zone: 11 North
Units: Meters General Accuracy: The map data used to generate these orthophotos was photogrammetrically compiled to meet National Map Accuracy Standards at 1"=100' or 1"=200'. Publication or use at any other scale will void any implied or stipulated accuracy standards.
Horizontal Accuracy: Not more than 10% of all well-defined planimetric features are in error by more than .02" at plot scale.
Orthophoto Quality: Orthophotos were designed for optimal viewing at 1" = 100' scale. Performing quality control on or plotting images at scales larger than 1" = 50' scale is not recommended. Anomalies observable only at scales larger than 1" = 50' scale are considered to fall outside the specifications of this project.
Note: Field verification of map accuracy should occur prior to design level tasks that are dependent on this map.</suppInfo>
<tpCat>
<TopicCatCd value="010">
</TopicCatCd>
</tpCat>
</dataIdInfo>
<mdLang>
<languageCode Sync="TRUE" value="eng">
</languageCode>
<countryCode Sync="TRUE" value="USA">
</countryCode>
</mdLang>
<refSysInfo>
<RefSystem>
<refSysID>
<identCode Sync="TRUE" code="26911">
</identCode>
<idCodeSpace Sync="TRUE">EPSG</idCodeSpace>
<idVersion Sync="TRUE">6.13(3.0.1)</idVersion>
</refSysID>
</RefSystem>
</refSysInfo>
<spatRepInfo>
<Georect>
<cellGeo>
<CellGeoCd Sync="TRUE" value="002">
</CellGeoCd>
</cellGeo>
<numDims Sync="TRUE">2</numDims>
<tranParaAv Sync="TRUE">1</tranParaAv>
<chkPtAv Sync="TRUE">0</chkPtAv>
<cornerPts>
<pos Sync="TRUE">539150.700000 4802244.600000</pos>
</cornerPts>
<cornerPts>
<pos Sync="TRUE">539150.700000 4844432.400000</pos>
</cornerPts>
<cornerPts>
<pos Sync="TRUE">572996.700000 4844432.400000</pos>
</cornerPts>
<cornerPts>
<pos Sync="TRUE">572996.700000 4802244.600000</pos>
</cornerPts>
<centerPt>
<pos Sync="TRUE">556073.700000 4823338.500000</pos>
</centerPt>
<axisDimension type="002">
<dimSize Sync="TRUE">112820</dimSize>
<dimResol>
<value Sync="TRUE" uom="m">0.300000</value>
</dimResol>
</axisDimension>
<axisDimension type="001">
<dimSize Sync="TRUE">140626</dimSize>
<dimResol>
<value Sync="TRUE" uom="m">0.300000</value>
</dimResol>
</axisDimension>
<ptInPixel>
<PixOrientCd Sync="TRUE" value="001">
</PixOrientCd>
</ptInPixel>
</Georect>
</spatRepInfo>
<contInfo>
<ImgDesc>
<contentTyp>
<ContentTypCd Sync="TRUE" value="001">
</ContentTypCd>
</contentTyp>
<covDim>
<Band>
<dimDescrp Sync="TRUE">Band_1</dimDescrp>
<maxVal Sync="TRUE">255.000000</maxVal>
<minVal Sync="TRUE">0.000000</minVal>
<bitsPerVal Sync="TRUE">8</bitsPerVal>
<valUnit>
<UOM type="length">
</UOM>
</valUnit>
</Band>
<Band>
<dimDescrp Sync="TRUE">Band_2</dimDescrp>
<maxVal Sync="TRUE">255.000000</maxVal>
<minVal Sync="TRUE">1.000000</minVal>
<bitsPerVal Sync="TRUE">8</bitsPerVal>
<valUnit>
<UOM type="length">
</UOM>
</valUnit>
</Band>
<Band>
<dimDescrp Sync="TRUE">Band_3</dimDescrp>
<maxVal Sync="TRUE">255.000000</maxVal>
<minVal Sync="TRUE">29.000000</minVal>
<bitsPerVal Sync="TRUE">8</bitsPerVal>
<valUnit>
<UOM type="length">
</UOM>
</valUnit>
</Band>
</covDim>
</ImgDesc>
</contInfo>
<mdDateSt Sync="TRUE">20181112</mdDateSt>
<mdHrLv>
<ScopeCd value="005">
</ScopeCd>
</mdHrLv>
<mdContact>
<rpIndName>Bruce Godfrey</rpIndName>
<rpOrgName>University of Idaho Library</rpOrgName>
<rpPosName>GIS Librarian</rpPosName>
<role>
<RoleCd value="007">
</RoleCd>
</role>
<rpCntInfo>
<cntAddress addressType="">
<eMailAdd>bgodfrey@uidaho.edu</eMailAdd>
</cntAddress>
<cntPhone>
<voiceNum tddtty="">208.292.1407</voiceNum>
</cntPhone>
</rpCntInfo>
</mdContact>
<dqInfo>
<dqScope>
<scpLvl>
<ScopeCd value="005">
</ScopeCd>
</scpLvl>
</dqScope>
<report type="DQConcConsis">
<measDesc>Aerial photography from which digital imagery was derived was obtained on 2 different days. Otherwise all imagery was processed using the same equipment and methodology.</measDesc>
</report>
<report type="DQCompOm">
<measDesc>Digital imagery covers two separate areas: the main area around Boise and environs; and a smaller area covering 9 sections south of Boise. The original orthophoto tiles were designed to approximate the PLSS layout of Ada County. For this data set the imagery was re-tiled to fit the National Grid System. Tiles around the exterior of the project were incomplete since there was no imagery to cover them, nor vector data for rectification.</measDesc>
</report>
<report type="DQQuanAttAcc">
<measDesc>Original orthophotos were designed to meet National Map 200' 0.5' pixel images. Conversion of images to 0.3m pixel resulted in no noticeable loss of accuracy when images were checked against vector data. No accuracy testing was performed.</measDesc>
</report>
<report dimension="horizontal" type="DQAbsExtPosAcc">
<measDesc>Imagery designed to meet National Map Accuracy 200' mapping.</measDesc>
</report>
<dataLineage>
<prcStep>
<stepDesc>Rectification and generation of orthophotos. Digitally scanned images were ortho-rectified to the 2000 Ada County vector data using Socet Set v.4.4.1 at a 0.5' pixel resolution.</stepDesc>
<stepDateTm date="unknown">
</stepDateTm>
<stepProc>
<rpIndName>Lynn Engel</rpIndName>
<rpOrgName>3di West / GeoTerra Mapping Group</rpOrgName>
<rpCntInfo>
<cntPhone>
<voiceNum>541-343-8877</voiceNum>
<faxNum>541-343-8878</faxNum>
</cntPhone>
<cntAddress addressType="both">
<delPoint>3400 W 11th Ave</delPoint>
<city>Eugene</city>
<adminArea>Oregon</adminArea>
<postCode>97402</postCode>
<eMailAdd>softcopy@3diwest.com</eMailAdd>
</cntAddress>
</rpCntInfo>
<role>
<RoleCd value="009">
</RoleCd>
</role>
</stepProc>
<stepSrc type="used">
<srcCitatn>
<resAltTitle>Axis</resAltTitle>
</srcCitatn>
</stepSrc>
<stepSrc type="used">
<srcCitatn>
<resAltTitle>Ada vector</resAltTitle>
</srcCitatn>
</stepSrc>
<stepSrc type="produced">
<srcCitatn>
<resAltTitle>Ada orthos</resAltTitle>
</srcCitatn>
</stepSrc>
</prcStep>
<prcStep>
<stepDesc>Aerial photography acquired</stepDesc>
<stepDateTm date="unknown">
</stepDateTm>
<stepProc>
<rpIndName>Bruce Bergman</rpIndName>
<rpOrgName>Bergman Photographic Services, Inc</rpOrgName>
<rpPosName>President</rpPosName>
<rpCntInfo>
<cntPhone>
<voiceNum>503-239-6010</voiceNum>
<faxNum>503-239-4637</faxNum>
</cntPhone>
<cntAddress addressType="both">
<delPoint>7816 SE 13th Ave</delPoint>
<city>Portland</city>
<adminArea>OR</adminArea>
<postCode>97202</postCode>
<country>US</country>
<eMailAdd>bruce@bergmanphotographic.com</eMailAdd>
</cntAddress>
</rpCntInfo>
<role>
<RoleCd value="009">
</RoleCd>
</role>
</stepProc>
<stepSrc type="produced">
<srcCitatn>
<resAltTitle>Bergman</resAltTitle>
</srcCitatn>
</stepSrc>
</prcStep>
<prcStep>
<stepDesc>Conversion of aerial photography film to digital imagery.</stepDesc>
<stepDateTm date="unknown">
</stepDateTm>
<stepProc>
<rpIndName>Justin Lahman</rpIndName>
<rpOrgName>Axis GeoSpatial</rpOrgName>
<rpPosName>President</rpPosName>
<rpCntInfo>
<cntPhone>
<voiceNum>410-822-1441</voiceNum>
<faxNum>410-822-6225</faxNum>
</cntPhone>
<cntAddress addressType="both">
<delPoint>8903 Glebe Park Drive</delPoint>
<city>Easton</city>
<adminArea>Maryland</adminArea>
<postCode>21601</postCode>
<eMailAdd>jlahman@axisgeospatial.com</eMailAdd>
</cntAddress>
</rpCntInfo>
<role>
<RoleCd value="009">
</RoleCd>
</role>
</stepProc>
<stepSrc type="used">
<srcCitatn>
<resAltTitle>Bergman</resAltTitle>
</srcCitatn>
</stepSrc>
<stepSrc type="produced">
<srcCitatn>
<resAltTitle>Axis</resAltTitle>
</srcCitatn>
</stepSrc>
</prcStep>
<prcStep>
<stepDesc>Conversion of orthos to UTM. The cleaned, balanced orthos were mosaiced together in groups of 4 using Socet Set 4.4.1. The mosaiced orthos were transformed from the Ada County coordinate system to UTM using Blue Marble Geographic Transformer 5. The transformed mosaics were then recut to the correct size tiles using Socet Set 4.4.1. QC was then performed on each new tile.</stepDesc>
<stepDateTm date="unknown">
</stepDateTm>
<stepProc>
<rpIndName>Lynn Engel</rpIndName>
<rpOrgName>3Di West / GeoTerra Mapping Group</rpOrgName>
<rpCntInfo>
<cntPhone>
<voiceNum>541-343-8877</voiceNum>
<faxNum>541-343-8878</faxNum>
</cntPhone>
<cntAddress addressType="both">
<delPoint>3400 W 11th Ave</delPoint>
<city>Eugene</city>
<adminArea>Oregon</adminArea>
<postCode>97402</postCode>
<eMailAdd>softcopy@3diwest.com</eMailAdd>
</cntAddress>
</rpCntInfo>
<role>
<RoleCd value="009">
</RoleCd>
</role>
</stepProc>
<stepSrc type="used">
<srcCitatn>
<resAltTitle>Ada finals</resAltTitle>
</srcCitatn>
</stepSrc>
<stepSrc type="produced">
<srcCitatn>
<resAltTitle>USGS tiles</resAltTitle>
</srcCitatn>
</stepSrc>
</prcStep>
<prcStep>
<stepDesc>QC of imagery. Orthophotos were edge-checked to ensure image alignment across tiles using ArcView 3.3. Orthos were checked for correct image alignment with vector data using VROne 2.0. Unwanted artifacts created during the scanning and rectification processes (such as dust particles, scratches, hair etc.) were removed using Corel Photopaint 8 and 11. Images were color balanced using Adobe PhotoShop 7.</stepDesc>
<stepDateTm date="unknown">
</stepDateTm>
<stepProc>
<rpIndName>Lynn Engel</rpIndName>
<rpOrgName>3Di West / GeoTerra Mapping Group</rpOrgName>
<rpCntInfo>
<cntPhone>
<voiceNum>541-343-8877</voiceNum>
<faxNum>541-343-8878</faxNum>
</cntPhone>
<cntAddress addressType="both">
<delPoint>3400 W 11th Ave</delPoint>
<city>Eugene</city>
<adminArea>Oregon</adminArea>
<postCode>97402</postCode>
<eMailAdd>softcopy@3diwest.com</eMailAdd>
</cntAddress>
</rpCntInfo>
<role>
<RoleCd value="009">
</RoleCd>
</role>
</stepProc>
<stepSrc type="used">
<srcCitatn>
<resAltTitle>Ada orthos</resAltTitle>
</srcCitatn>
</stepSrc>
<stepSrc type="produced">
<srcCitatn>
<resAltTitle>Ada finals</resAltTitle>
</srcCitatn>
</stepSrc>
</prcStep>
<prcStep>
<stepDesc>Compression of images. The final UTM orthophoto tiles were compressed at a 20:1 ratio using MrSID Workstation 1.4.</stepDesc>
<stepDateTm date="unknown">
</stepDateTm>
<stepProc>
<rpIndName>Lynn Engel</rpIndName>
<rpOrgName>3Di West / GeoTerra Mapping Group</rpOrgName>
<rpCntInfo>
<cntPhone>
<voiceNum>541-343-8877</voiceNum>
<faxNum>541-343-8878</faxNum>
</cntPhone>
<cntAddress addressType="both">
<delPoint>3400 W 11th Ave</delPoint>
<city>Eugene</city>
<adminArea>Oregon</adminArea>
<postCode>97402</postCode>
<eMailAdd>softcopy@3diwest.com</eMailAdd>
</cntAddress>
</rpCntInfo>
<role>
<RoleCd value="009">
</RoleCd>
</role>
</stepProc>
<stepSrc type="used">
<srcCitatn>
<resAltTitle>USGS tiles</resAltTitle>
</srcCitatn>
</stepSrc>
<stepSrc type="produced">
<srcCitatn>
<resAltTitle>MrSID</resAltTitle>
</srcCitatn>
</stepSrc>
</prcStep>
<dataSource>
<srcDesc>Provided aerial photography from which orthophotos were created. Photography taken at nominal scale of 1"=840'.</srcDesc>
<srcMedName>
<MedNameCd value="026">
</MedNameCd>
</srcMedName>
<srcScale>
<rfDenom>10080</rfDenom>
</srcScale>
<srcCitatn>
<resTitle>2003 Ada County aerial photography</resTitle>
<resAltTitle>Bergman</resAltTitle>
<date>
<pubDate date="inapplicable">
</pubDate>
</date>
<citRespParty>
<rpOrgName>Bergman Photographic Services</rpOrgName>
<role>
<RoleCd value="006">
</RoleCd>
</role>
</citRespParty>
<presForm>
<PresFormCd value="005">
</PresFormCd>
</presForm>
<presForm>
<fgdcGeoform>remote-sensing image</fgdcGeoform>
</presForm>
<otherCitDet>Acquisition of aerial photography</otherCitDet>
</srcCitatn>
<srcExt>
<exDesc>Date of photography</exDesc>
<tempEle>
<TempExtent>
<exTemp>
<TM_Instant>
<tmPosition>2003-04-08</tmPosition>
</TM_Instant>
</exTemp>
</TempExtent>
</tempEle>
<tempEle>
<TempExtent>
<exTemp>
<TM_Instant>
<tmPosition>2003-04-19</tmPosition>
</TM_Instant>
</exTemp>
</TempExtent>
</tempEle>
</srcExt>
</dataSource>
<dataSource>
<srcDesc>Converted aerial photography film to digital images. 1"=840' photography scanned at 12.5 micron scan width.</srcDesc>
<srcMedName>
<MedNameCd value="001">
</MedNameCd>
</srcMedName>
<srcScale>
<rfDenom>10080</rfDenom>
</srcScale>
<srcCitatn>
<resTitle>2003 Ada County digital imagery</resTitle>
<resAltTitle>Axis</resAltTitle>
<date>
