<?xml version="1.0" encoding="UTF-8" standalone="no"?>
<metadata xml:lang="en">
<Esri>
<CreaDate>20210322</CreaDate>
<CreaTime>08070700</CreaTime>
<ArcGISFormat>1.0</ArcGISFormat>
<ArcGISstyle>ISO 19139 Metadata Implementation Specification</ArcGISstyle>
<SyncOnce>FALSE</SyncOnce>
<DataProperties>
<itemProps>
<itemName Sync="TRUE">s_boise_2013</itemName>
<nativeExtBox>
<westBL Sync="TRUE">517500.000000</westBL>
<eastBL Sync="TRUE">583500.000000</eastBL>
<southBL Sync="TRUE">4788000.000000</southBL>
<northBL Sync="TRUE">4851000.000000</northBL>
<exTypeCode Sync="TRUE">1</exTypeCode>
</nativeExtBox>
<imsContentType export="False"/>
</itemProps>
<coordRef>
<type Sync="TRUE">Projected</type>
<geogcsn Sync="TRUE">GCS_North_American_1983</geogcsn>
<csUnits Sync="TRUE">Linear Unit: Meter (1.000000)</csUnits>
<projcsn Sync="TRUE">NAD_1983_UTM_Zone_11N</projcsn>
<peXml Sync="TRUE">&lt;ProjectedCoordinateSystem xsi:type='typens:ProjectedCoordinateSystem' xmlns:xsi='http://www.w3.org/2001/XMLSchema-instance' xmlns:xs='http://www.w3.org/2001/XMLSchema' xmlns:typens='http://www.esri.com/schemas/ArcGIS/10.7'&gt;&lt;WKT&gt;PROJCS[&amp;quot;NAD_1983_UTM_Zone_11N&amp;quot;,GEOGCS[&amp;quot;GCS_North_American_1983&amp;quot;,DATUM[&amp;quot;D_North_American_1983&amp;quot;,SPHEROID[&amp;quot;GRS_1980&amp;quot;,6378137.0,298.257222101]],PRIMEM[&amp;quot;Greenwich&amp;quot;,0.0],UNIT[&amp;quot;Degree&amp;quot;,0.0174532925199433]],PROJECTION[&amp;quot;Transverse_Mercator&amp;quot;],PARAMETER[&amp;quot;False_Easting&amp;quot;,500000.0],PARAMETER[&amp;quot;False_Northing&amp;quot;,0.0],PARAMETER[&amp;quot;Central_Meridian&amp;quot;,-117.0],PARAMETER[&amp;quot;Scale_Factor&amp;quot;,0.9996],PARAMETER[&amp;quot;Latitude_Of_Origin&amp;quot;,0.0],UNIT[&amp;quot;Meter&amp;quot;,1.0],AUTHORITY[&amp;quot;EPSG&amp;quot;,26911]]&lt;/WKT&gt;&lt;XOrigin&gt;-5120900&lt;/XOrigin&gt;&lt;YOrigin&gt;-9998100&lt;/YOrigin&gt;&lt;XYScale&gt;450445547.3910538&lt;/XYScale&gt;&lt;ZOrigin&gt;-100000&lt;/ZOrigin&gt;&lt;ZScale&gt;10000&lt;/ZScale&gt;&lt;MOrigin&gt;-100000&lt;/MOrigin&gt;&lt;MScale&gt;10000&lt;/MScale&gt;&lt;XYTolerance&gt;0.001&lt;/XYTolerance&gt;&lt;ZTolerance&gt;0.001&lt;/ZTolerance&gt;&lt;MTolerance&gt;0.001&lt;/MTolerance&gt;&lt;HighPrecision&gt;true&lt;/HighPrecision&gt;&lt;WKID&gt;26911&lt;/WKID&gt;&lt;LatestWKID&gt;26911&lt;/LatestWKID&gt;&lt;/ProjectedCoordinateSystem&gt;</peXml>
</coordRef>
<RasterProperties>
<General>
<PixelDepth Sync="TRUE">8</PixelDepth>
<HasColormap Sync="TRUE">FALSE</HasColormap>
<CompressionType Sync="TRUE">None</CompressionType>
<NumBands Sync="TRUE">3</NumBands>
<Format Sync="TRUE">AMD</Format>
<HasPyramids Sync="TRUE">TRUE</HasPyramids>
<SourceType Sync="TRUE">continuous</SourceType>
<PixelType Sync="TRUE">unsigned integer</PixelType>
<NoDataValue Sync="TRUE"/>
</General>
<Properties>
<MaxImageHeight Sync="TRUE">20000</MaxImageHeight>
<MaxImageWidth Sync="TRUE">25000</MaxImageWidth>
<MaxRecordCount Sync="TRUE">1000</MaxRecordCount>
<MaxDownloadImageCount Sync="TRUE">30000</MaxDownloadImageCount>
<MaxDownloadSizeLimit Sync="TRUE">1000000</MaxDownloadSizeLimit>
<MaxMosaicImageCount Sync="TRUE">20</MaxMosaicImageCount>
<DefaultCompressionQuality Sync="TRUE">80</DefaultCompressionQuality>
<DefaultCompressionTolerance Sync="TRUE">0.01</DefaultCompressionTolerance>
<BlendWidth Sync="TRUE">0</BlendWidth>
<ViewpointSpacingX Sync="TRUE">600</ViewpointSpacingX>
<ViewpointSpacingY Sync="TRUE">300</ViewpointSpacingY>
<AllowedItemMetadata Sync="TRUE">Basic</AllowedItemMetadata>
<DefaultResamplingMethod Sync="TRUE">1</DefaultResamplingMethod>
<AllowedMosaicMethods Sync="TRUE">NorthWest,Center,LockRaster,ByAttribute,Nadir,Viewpoint,Seamline,None</AllowedMosaicMethods>
<AllowedCompressions Sync="TRUE">JPEG,NONE,LZ77,LERC</AllowedCompressions>
<AllowedMensurationCapabilities Sync="TRUE">Basic</AllowedMensurationCapabilities>
<AvailableMensurationCapabilities Sync="TRUE">None,Basic,Base-Top Height,Top-Top Shadow Height,Base-Top Shadow Height,3D</AvailableMensurationCapabilities>
<ClipToBoundary Sync="TRUE">0</ClipToBoundary>
<FootprintMayContainNoData Sync="TRUE">0</FootprintMayContainNoData>
<CellSizeTolerance Sync="TRUE">0.8</CellSizeTolerance>
<MinimumPixelContribution Sync="TRUE">1</MinimumPixelContribution>
<AvailableMosaicMethods Sync="TRUE">NorthWest,Center,LockRaster,ByAttribute,Nadir,Viewpoint,Seamline,None</AvailableMosaicMethods>
<AvailableCompressionMethods Sync="TRUE">None,JPEG,LZ77,LERC</AvailableCompressionMethods>
<AvailableItemMetadataLevels Sync="TRUE">None,Basic,Full</AvailableItemMetadataLevels>
<BandDefinitionKeyword Sync="TRUE">NaturalColor</BandDefinitionKeyword>
<ApplyColorCorrection Sync="TRUE">0</ApplyColorCorrection>
<_docversion_ Sync="TRUE">10</_docversion_>
<AllowedFields Sync="TRUE">Name,AcqYearFirst,AcqYearLast,Resolution,ProDef,DatasetID,Rectification,Constraints,Source,AcqDateFirst,AcqDateLastDownloadURL,AcqYearFirst,AcqYearLast,Resolution,ProDef,DatasetID,Rectification,Constraints,Source,AcqDateFirst,AcqDateLast,DownloadURL</AllowedFields>
<LowCellSize Sync="TRUE">0.15</LowCellSize>
<HighCellSize Sync="TRUE">614.399999999998</HighCellSize>
<MaxCellSize Sync="TRUE">30719.9999999999</MaxCellSize>
<ClipToFootprint Sync="TRUE">-1</ClipToFootprint>
<SortAscending Sync="TRUE">-1</SortAscending>
<MosaicOperator Sync="TRUE">1</MosaicOperator>
<UseTime Sync="TRUE">0</UseTime>
<DataType Sync="TRUE">Processed</DataType>
<TimeValueFormat Sync="TRUE"/>
<EndTimeFieldName Sync="TRUE"/>
<StartTimeFieldName Sync="TRUE"/>
<TimeIntervalUnits Sync="TRUE"/>
<TimeInterval Sync="TRUE"/>
<VerticalDimension Sync="TRUE"/>
<FlowDirection Sync="TRUE"/>
<BlendWidthUnits Sync="TRUE">1</BlendWidthUnits>
<ClipOverviewsToFootprint Sync="TRUE">0</ClipOverviewsToFootprint>
<SortField Sync="TRUE">Name</SortField>
<SortValue Sync="TRUE">0</SortValue>
</Properties>
<Functions Sync="TRUE">
<Function Description="Performs on-the-fly mosaic on a raster catalog." Name="Mosaic Function"/>
</Functions>
</RasterProperties>
</DataProperties>
<ModDate>20210326</ModDate>
<ModTime>7484300</ModTime>
<SyncDate>20210322</SyncDate>
<SyncTime>08104000</SyncTime>
<scaleRange>
<minScale>150000000</minScale>
<maxScale>5000</maxScale>
</scaleRange>
<ArcGISProfile>ISO19139</ArcGISProfile>
</Esri>
<mdLang>
<languageCode value="eng"/>
<countryCode Sync="TRUE" value="USA"/>
</mdLang>
<mdChar>
<CharSetCd value="004"/>
</mdChar>
<mdHrLv>
<ScopeCd value="005"/>
</mdHrLv>
<mdContact>
<rpIndName>Bruce Godfrey</rpIndName>
<rpOrgName>University of Idaho</rpOrgName>
<rpPosName>GIS Librarian</rpPosName>
<role>
<RoleCd value="001"/>
</role>
<rpCntInfo>
<cntAddress>
<eMailAdd>bgodfrey@uidaho.edu</eMailAdd>
</cntAddress>
</rpCntInfo>
</mdContact>
<mdDateSt Sync="TRUE">20210326</mdDateSt>
<dataIdInfo>
<idCitation>
<resTitle Sync="FALSE">Aerial Imagery of Boise, Idaho and Surrounding Cities (2013,15-centimeter)</resTitle>
<date>
<createDate>2021-03-19T00:00:00</createDate>
</date>
<presForm>
<PresFormCd Sync="TRUE" value="005"/>
</presForm>
</idCitation>
<idPurp>This collection contains 1101 2013 15-centimeter natural color orthorectified images for areas in and around Boise, Caldwell, Eagle, Meridian, and Kuna, Idaho....</idPurp>
<searchKeys>
<keyword>air photo</keyword>
<keyword>aerial photography</keyword>
<keyword>aerial photo</keyword>
<keyword>orthoimagery</keyword>
<keyword>ortho imagery</keyword>
<keyword>orthophotography</keyword>
<keyword>imagery</keyword>
<keyword>orthorectified imagery</keyword>
<keyword>natural infrared</keyword>
</searchKeys>
<idAbs>&lt;div style='text-align:Left;'&gt;&lt;div&gt;&lt;div&gt;&lt;p&gt;&lt;span&gt;These data depict geographic features on the surface of the earth. They were created primarily as a visual aid for urban and county planning. &lt;/span&gt;&lt;/p&gt;&lt;p&gt;&lt;span&gt;The documentation and the tile index shapefile indicate that there are 1102 images in this collection. However, there are ony 1101 images available for download (March 2021) from USGS EarthExplorer. This image is missing from the collection: 11TNJ430240.tif&lt;/span&gt;&lt;/p&gt;&lt;p&gt;&lt;span&gt;Standards-based geospatial metadata did not accompany the source files for the collection. A standards-based metadata file for ground control points is included with the collection. Information from a QA/QC report follows. Note that the exact date of the flight appears to be in question.&lt;/span&gt;&lt;/p&gt;&lt;p&gt;&lt;span style='font-weight:bold;'&gt;OrthoImagery QA/QC Report&lt;/span&gt;&lt;/p&gt;&lt;p&gt;&lt;span&gt;Corrections received and accepted 11/18/2013&lt;/span&gt;&lt;/p&gt;&lt;p&gt;&lt;span&gt;Project Name: TreasureValley 2013 Boise ID State(s): ID&lt;/span&gt;&lt;/p&gt;&lt;p&gt;&lt;span&gt;Date Received: 10/29/2013 Date Review Completed: 11/01/2013&lt;/span&gt;&lt;/p&gt;&lt;p&gt;&lt;span&gt;Reviewer: Greg Sawyer Contract Type: Partnership&lt;/span&gt;&lt;/p&gt;&lt;p&gt;&lt;span&gt;Contractor: 3Di Geoterra Mapping&lt;/span&gt;&lt;/p&gt;&lt;p&gt;&lt;span&gt;Group, Eugene, OR&lt;/span&gt;&lt;/p&gt;&lt;p&gt;&lt;span&gt;Flight Date: 20130614 (?)&lt;/span&gt;&lt;/p&gt;&lt;p&gt;&lt;span&gt;Point of Contact: Scott Van Hoff&lt;/span&gt;&lt;/p&gt;&lt;p&gt;&lt;span&gt;Boise, ID&lt;/span&gt;&lt;/p&gt;&lt;p&gt;&lt;span&gt;POC Phone#: (208) 387-1351) POC E-mail: svanhoff@usgs.gov&lt;/span&gt;&lt;/p&gt;&lt;p&gt;&lt;span&gt;Projection: UTM Zone: 11&lt;/span&gt;&lt;/p&gt;&lt;p&gt;&lt;span&gt;Planar Units meters&lt;/span&gt;&lt;/p&gt;&lt;p&gt;&lt;span&gt;Image Info: GeoTiff Radiometry: 3 bands RGB 24bit&lt;/span&gt;&lt;/p&gt;&lt;p&gt;&lt;span&gt;Pixel Size: 1.15 Meter Number of Tiles: 1102&lt;/span&gt;&lt;/p&gt;&lt;p&gt;&lt;span&gt;Tile Size: 10000X10000 Project Size: 309 GB&lt;/span&gt;&lt;/p&gt;&lt;p&gt;&lt;span&gt;Applicable NGA Urban Area:98% of&lt;/span&gt;&lt;/p&gt;&lt;p&gt;&lt;span&gt;Boise ID&lt;/span&gt;&lt;/p&gt;&lt;p&gt;&lt;span&gt;Metadata Project and Tile level&lt;/span&gt;&lt;/p&gt;&lt;p&gt;&lt;span&gt;RMSE: no points&lt;/span&gt;&lt;/p&gt;&lt;p&gt;&lt;span&gt;Error File: An error shape file highlighting all noted errors&lt;/span&gt;&lt;/p&gt;&lt;p&gt;&lt;span&gt;Relative Horizontal Accuracy and Edge Alignment: appear to be ok&lt;/span&gt;&lt;/p&gt;&lt;p&gt;&lt;span&gt;File Naming Convention: Example 11TNJ820255.tif&lt;/span&gt;&lt;/p&gt;&lt;p&gt;&lt;span&gt;Quadrangle Information: 33 7.5-minute quadrangles 8 full and 25 partial&lt;/span&gt;&lt;/p&gt;&lt;p&gt;&lt;span&gt;Camera Information: Aerial photography acquired using a large format digital&lt;/span&gt;&lt;/p&gt;&lt;p&gt;&lt;span&gt;aerial camera&lt;/span&gt;&lt;/p&gt;&lt;p&gt;&lt;span&gt;Viewing Software: Global Mapper version Viewing Scale: 1:1500&lt;/span&gt;&lt;/p&gt;&lt;p&gt;&lt;span&gt;Bounding Coordinates:&lt;/span&gt;&lt;/p&gt;&lt;p&gt;&lt;span&gt;WEST LONGITUDE = - 116.78338512 º W&lt;/span&gt;&lt;/p&gt;&lt;p&gt;&lt;span&gt;NORTH LATITUDE = 43.81079306 º N&lt;/span&gt;&lt;/p&gt;&lt;p&gt;&lt;span&gt;EAST LONGITUDE = -115.96849041 º W&lt;/span&gt;&lt;/p&gt;&lt;p&gt;&lt;span&gt;SOUTH LATITUDE = 43.24025565 º N&lt;/span&gt;&lt;/p&gt;&lt;p&gt;&lt;span&gt;General Observations: Overall image characteristics such as brightness, contrast and visible appear to be good. I found 1 void area some shadows around tall buildings and in steep terrain also found a few offset wires. I included a few examples and that shape file.&lt;/span&gt;&lt;/p&gt;&lt;/div&gt;&lt;/div&gt;&lt;/div&gt;</idAbs>
<idCredit>U.S. Geological Survey</idCredit>
<resConst>
<Consts>
<useLimit>&lt;div style='text-align:Left;'&gt;&lt;div&gt;&lt;div&gt;&lt;p&gt;&lt;span&gt;Public data. However, users should be aware that temporal changes may have occurred since these data were collected and that some parts of these data may no longer represent actual surface conditions. Users should not use these data for critical applications without a full awareness of the limitations of these data as described in the lineage or elsewhere.&lt;/span&gt;&lt;/p&gt;&lt;/div&gt;&lt;/div&gt;&lt;/div&gt;</useLimit>
</Consts>
</resConst>
<dataExt>
<tempEle>
<TempExtent>
<exTemp>
<TM_Instant>
<tmPosition>2013-06-14T00:00:00</tmPosition>
</TM_Instant>
</exTemp>
</TempExtent>
</tempEle>
</dataExt>
<dataChar>
<CharSetCd value="004"/>
</dataChar>
<dataLang>
<languageCode value="eng"/>
<countryCode Sync="TRUE" value="USA"/>
</dataLang>
<envirDesc Sync="TRUE"> Version 6.2 (Build 9200) ; Esri ArcGIS 10.7.1.11595</envirDesc>
<spatRpType>
<SpatRepTypCd Sync="TRUE" value="002"/>
</spatRpType>
<dataExt>
<geoEle>
<GeoBndBox esriExtentType="search">
<exTypeCode Sync="TRUE">1</exTypeCode>
<westBL Sync="TRUE">-116.784441</westBL>
<eastBL Sync="TRUE">-115.961872</eastBL>
<northBL Sync="TRUE">43.811861</northBL>
<southBL Sync="TRUE">43.240177</southBL>
</GeoBndBox>
</geoEle>
</dataExt>
<tpCat>
<TopicCatCd value="010"/>
</tpCat>
</dataIdInfo>
<dqInfo>
<dataLineage>
<prcStep>
<stepDesc>These data were downloaded from EarthExplorer (https://earthexplorer.usgs.gov/) and archived at the University of Idaho Library.</stepDesc>
<stepDateTm>2021-03-17T00:00:00</stepDateTm>
<stepProc>
<rpIndName>Bruce Godfrey</rpIndName>
<rpOrgName>University of Idaho</rpOrgName>
<rpPosName>GIS Librarian</rpPosName>
<role>
<RoleCd value="001"/>
</role>
<rpCntInfo>
<cntAddress>
<eMailAdd>bgodfrey@uidaho.edu</eMailAdd>
</cntAddress>
</rpCntInfo>
<displayName>Bruce Godfrey</displayName>
</stepProc>
</prcStep>
</dataLineage>
</dqInfo>
<refSysInfo>
<RefSystem>
<refSysID>
<identCode Sync="TRUE" code="26911"/>
<idCodeSpace Sync="TRUE">EPSG</idCodeSpace>
<idVersion Sync="TRUE">6.13(3.0.1)</idVersion>
</refSysID>
</RefSystem>
</refSysInfo>
<spatRepInfo>
<Georect>
<cellGeo>
<CellGeoCd Sync="TRUE" value="002"/>
</cellGeo>
<numDims Sync="TRUE">2</numDims>
<tranParaAv Sync="TRUE">1</tranParaAv>
<chkPtAv Sync="TRUE">0</chkPtAv>
<cornerPts>
<pos Sync="TRUE">517500.000000 4788000.000000</pos>
</cornerPts>
<cornerPts>
<pos Sync="TRUE">517500.000000 4851000.000000</pos>
</cornerPts>
<cornerPts>
<pos Sync="TRUE">583500.000000 4851000.000000</pos>
</cornerPts>
<cornerPts>
<pos Sync="TRUE">583500.000000 4788000.000000</pos>
</cornerPts>
<centerPt>
<pos Sync="TRUE">550500.000000 4819500.000000</pos>
</centerPt>
<axisDimension type="002">
<dimSize Sync="TRUE">440000</dimSize>
<dimResol>
<value Sync="TRUE" uom="m">0.150000</value>
</dimResol>
</axisDimension>
<axisDimension type="001">
<dimSize Sync="TRUE">420000</dimSize>
<dimResol>
<value Sync="TRUE" uom="m">0.150000</value>
</dimResol>
</axisDimension>
<ptInPixel>
<PixOrientCd Sync="TRUE" value="001"/>
</ptInPixel>
</Georect>
</spatRepInfo>
<contInfo>
<ImgDesc>
<contentTyp>
<ContentTypCd Sync="TRUE" value="001"/>
</contentTyp>
<covDim>
<Band>
<dimDescrp Sync="TRUE">Red</dimDescrp>
<maxVal Sync="TRUE">255.000000</maxVal>
<minVal Sync="TRUE">0.000000</minVal>
<bitsPerVal Sync="TRUE">8</bitsPerVal>
<valUnit>
<UOM type="length"/>
</valUnit>
</Band>
<Band>
<dimDescrp Sync="TRUE">Green</dimDescrp>
<maxVal Sync="TRUE">255.000000</maxVal>
<minVal Sync="TRUE">0.000000</minVal>
<bitsPerVal Sync="TRUE">8</bitsPerVal>
<valUnit>
<UOM type="length"/>
</valUnit>
</Band>
<Band>
<dimDescrp Sync="TRUE">Blue</dimDescrp>
<maxVal Sync="TRUE">255.000000</maxVal>
<minVal Sync="TRUE">7.000000</minVal>
<bitsPerVal Sync="TRUE">8</bitsPerVal>
<valUnit>
<UOM type="length"/>
</valUnit>
</Band>
</covDim>
</ImgDesc>
</contInfo>
</metadata>
