<?xml version="1.0" encoding="UTF-8" standalone="no"?>
<metadata xml:lang="en">
<Esri>
<CreaDate>20220824</CreaDate>
<CreaTime>13555800</CreaTime>
<ArcGISFormat>1.0</ArcGISFormat>
<ArcGISstyle>ISO 19139 Metadata Implementation Specification</ArcGISstyle>
<SyncOnce>FALSE</SyncOnce>
<DataProperties>
<itemProps>
<itemName Sync="TRUE">s_duncansaddle_2021</itemName>
<nativeExtBox>
<westBL Sync="TRUE">86544.579900</westBL>
<eastBL Sync="TRUE">86918.309520</eastBL>
<southBL Sync="TRUE">4723085.976041</southBL>
<northBL Sync="TRUE">4723526.334200</northBL>
<exTypeCode Sync="TRUE">1</exTypeCode>
</nativeExtBox>
<imsContentType export="False"/>
</itemProps>
<coordRef>
<type Sync="TRUE">Projected</type>
<geogcsn Sync="TRUE">GCS_WGS_1984</geogcsn>
<csUnits Sync="TRUE">Linear Unit: Meter (1.000000)</csUnits>
<projcsn Sync="TRUE">WGS_1984_UTM_Zone_12N</projcsn>
<peXml Sync="TRUE">&lt;ProjectedCoordinateSystem xsi:type='typens:ProjectedCoordinateSystem' xmlns:xsi='http://www.w3.org/2001/XMLSchema-instance' xmlns:xs='http://www.w3.org/2001/XMLSchema' xmlns:typens='http://www.esri.com/schemas/ArcGIS/10.7'&gt;&lt;WKT&gt;PROJCS[&amp;quot;WGS_1984_UTM_Zone_12N&amp;quot;,GEOGCS[&amp;quot;GCS_WGS_1984&amp;quot;,DATUM[&amp;quot;D_WGS_1984&amp;quot;,SPHEROID[&amp;quot;WGS_1984&amp;quot;,6378137.0,298.257223563]],PRIMEM[&amp;quot;Greenwich&amp;quot;,0.0],UNIT[&amp;quot;Degree&amp;quot;,0.0174532925199433]],PROJECTION[&amp;quot;Transverse_Mercator&amp;quot;],PARAMETER[&amp;quot;False_Easting&amp;quot;,500000.0],PARAMETER[&amp;quot;False_Northing&amp;quot;,0.0],PARAMETER[&amp;quot;Central_Meridian&amp;quot;,-111.0],PARAMETER[&amp;quot;Scale_Factor&amp;quot;,0.9996],PARAMETER[&amp;quot;Latitude_Of_Origin&amp;quot;,0.0],UNIT[&amp;quot;Meter&amp;quot;,1.0],AUTHORITY[&amp;quot;EPSG&amp;quot;,32612]]&lt;/WKT&gt;&lt;XOrigin&gt;-5120900&lt;/XOrigin&gt;&lt;YOrigin&gt;-9998100&lt;/YOrigin&gt;&lt;XYScale&gt;450445547.3910538&lt;/XYScale&gt;&lt;ZOrigin&gt;-100000&lt;/ZOrigin&gt;&lt;ZScale&gt;10000&lt;/ZScale&gt;&lt;MOrigin&gt;-100000&lt;/MOrigin&gt;&lt;MScale&gt;10000&lt;/MScale&gt;&lt;XYTolerance&gt;0.001&lt;/XYTolerance&gt;&lt;ZTolerance&gt;0.001&lt;/ZTolerance&gt;&lt;MTolerance&gt;0.001&lt;/MTolerance&gt;&lt;HighPrecision&gt;true&lt;/HighPrecision&gt;&lt;WKID&gt;32612&lt;/WKID&gt;&lt;LatestWKID&gt;32612&lt;/LatestWKID&gt;&lt;/ProjectedCoordinateSystem&gt;</peXml>
</coordRef>
<RasterProperties>
<General>
<PixelDepth Sync="TRUE">16</PixelDepth>
<HasColormap Sync="TRUE">FALSE</HasColormap>
<CompressionType Sync="TRUE">None</CompressionType>
<NumBands Sync="TRUE">3</NumBands>
<Format Sync="TRUE">AMD</Format>
<HasPyramids Sync="TRUE">TRUE</HasPyramids>
<SourceType Sync="TRUE">continuous</SourceType>
<PixelType Sync="TRUE">unsigned integer</PixelType>
<NoDataValue Sync="TRUE"/>
</General>
<Properties>
<MaxImageHeight Sync="TRUE">20000</MaxImageHeight>
<MaxImageWidth Sync="TRUE">25000</MaxImageWidth>
<MaxRecordCount Sync="TRUE">1000</MaxRecordCount>
<MaxDownloadImageCount Sync="TRUE">30000</MaxDownloadImageCount>
<MaxDownloadSizeLimit Sync="TRUE">1000000</MaxDownloadSizeLimit>
<MaxMosaicImageCount Sync="TRUE">20</MaxMosaicImageCount>
<DefaultCompressionQuality Sync="TRUE">80</DefaultCompressionQuality>
<DefaultCompressionTolerance Sync="TRUE">0.01</DefaultCompressionTolerance>
<BlendWidth Sync="TRUE">0</BlendWidth>
<ViewpointSpacingX Sync="TRUE">600</ViewpointSpacingX>
<ViewpointSpacingY Sync="TRUE">300</ViewpointSpacingY>
<AllowedItemMetadata Sync="TRUE">Basic</AllowedItemMetadata>
<DefaultResamplingMethod Sync="TRUE">1</DefaultResamplingMethod>
<AllowedMosaicMethods Sync="TRUE">NorthWest,Center,LockRaster,ByAttribute,Nadir,Viewpoint,Seamline,None</AllowedMosaicMethods>
<AllowedCompressions Sync="TRUE">JPEG,NONE,LZ77,LERC</AllowedCompressions>
<AllowedMensurationCapabilities Sync="TRUE">Basic</AllowedMensurationCapabilities>
<AvailableMensurationCapabilities Sync="TRUE">None,Basic,Base-Top Height,Top-Top Shadow Height,Base-Top Shadow Height,3D</AvailableMensurationCapabilities>
<ClipToBoundary Sync="TRUE">0</ClipToBoundary>
<FootprintMayContainNoData Sync="TRUE">0</FootprintMayContainNoData>
<CellSizeTolerance Sync="TRUE">0.8</CellSizeTolerance>
<MinimumPixelContribution Sync="TRUE">1</MinimumPixelContribution>
<AvailableMosaicMethods Sync="TRUE">NorthWest,Center,LockRaster,ByAttribute,Nadir,Viewpoint,Seamline,None</AvailableMosaicMethods>
<AvailableCompressionMethods Sync="TRUE">None,JPEG,LZ77,LERC</AvailableCompressionMethods>
<AvailableItemMetadataLevels Sync="TRUE">None,Basic,Full</AvailableItemMetadataLevels>
<BandDefinitionKeyword Sync="TRUE">NaturalColor</BandDefinitionKeyword>
<ApplyColorCorrection Sync="TRUE">0</ApplyColorCorrection>
<_docversion_ Sync="TRUE">10</_docversion_>
<AllowedFields Sync="TRUE">Name,AcqYearFirst,AcqYearLast,Resolution,ProDef,DatasetID,Rectification,Constraints,Source,AcqDateFirst,AcqDateLast,DownloadURL,AcqYearFirst,AcqYearLast,Resolution,ProDef,DatasetID,Rectification,Constraints,Source,AcqDateFirst,AcqDateLast,DownloadURL</AllowedFields>
<LowCellSize Sync="TRUE">9.99678000000057E-03</LowCellSize>
<HighCellSize Sync="TRUE">2.55917567999814</HighCellSize>
<MaxCellSize Sync="TRUE">127.958783999907</MaxCellSize>
<ClipToFootprint Sync="TRUE">-1</ClipToFootprint>
<SortAscending Sync="TRUE">-1</SortAscending>
<MosaicOperator Sync="TRUE">1</MosaicOperator>
<UseTime Sync="TRUE">0</UseTime>
<DataType Sync="TRUE">Processed</DataType>
<TimeValueFormat Sync="TRUE"/>
<EndTimeFieldName Sync="TRUE"/>
<StartTimeFieldName Sync="TRUE"/>
<TimeIntervalUnits Sync="TRUE"/>
<TimeInterval Sync="TRUE"/>
<VerticalDimension Sync="TRUE"/>
<FlowDirection Sync="TRUE"/>
<BlendWidthUnits Sync="TRUE">1</BlendWidthUnits>
<ClipOverviewsToFootprint Sync="TRUE">0</ClipOverviewsToFootprint>
<SortField Sync="TRUE">Name</SortField>
<SortValue Sync="TRUE">0</SortValue>
</Properties>
<Functions Sync="TRUE">
<Function Description="Performs on-the-fly mosaic on a raster catalog." Name="Mosaic Function"/>
</Functions>
</RasterProperties>
</DataProperties>
<ModDate>20220824</ModDate>
<ModTime>14301000</ModTime>
<SyncDate>20220824</SyncDate>
<SyncTime>13585000</SyncTime>
<scaleRange>
<minScale>150000000</minScale>
<maxScale>5000</maxScale>
</scaleRange>
<ArcGISProfile>ISO19139</ArcGISProfile>
</Esri>
<mdDateSt Sync="TRUE">20220824</mdDateSt>
<dataIdInfo>
<envirDesc Sync="TRUE"> Version 6.2 (Build 9200) ; Esri ArcGIS 10.7.1.11595</envirDesc>
<dataLang>
<languageCode Sync="TRUE" value="eng"/>
<countryCode Sync="TRUE" value="USA"/>
</dataLang>
<idCitation>
<resTitle Sync="FALSE">Digital Aerial Imagery of Duncan Saddle, ID (August 2021, 1-cm)</resTitle>
<presForm>
<PresFormCd Sync="TRUE" value="005"/>
</presForm>
<date>
<pubDate>2022-06-28T00:00:00</pubDate>
</date>
</idCitation>
<spatRpType>
<SpatRepTypCd Sync="TRUE" value="002"/>
</spatRpType>
<dataExt>
<geoEle>
<GeoBndBox esriExtentType="search">
<exTypeCode Sync="TRUE">1</exTypeCode>
<westBL Sync="TRUE">-116.035673</westBL>
<eastBL Sync="TRUE">-116.030820</eastBL>
<northBL Sync="TRUE">42.553598</northBL>
<southBL Sync="TRUE">42.549448</southBL>
</GeoBndBox>
</geoEle>
</dataExt>
<searchKeys>
<keyword>air photo</keyword>
<keyword>aerial photography</keyword>
<keyword>aerial photo</keyword>
<keyword>orthoimagery</keyword>
<keyword>ortho imagery</keyword>
<keyword>orthophotography</keyword>
<keyword>imagery</keyword>
<keyword>orthorectified imagery</keyword>
<keyword>natural color</keyword>
<keyword>unoccupied aerial systems (uas)</keyword>
</searchKeys>
<idPurp>This collection contains 1 2021 1-centimeter natural color orthorectified image of Duncan Saddle, Idaho. These data were acquired August 20, 2021. These data...</idPurp>
<idAbs>&lt;div style='text-align:Left;'&gt;&lt;div&gt;&lt;div&gt;&lt;p&gt;&lt;span&gt;This collection contains 1 2021 1-centimeter natural color orthorectified image of Duncan Saddle, Idaho. This study area is approximately one hour south of Mountain Home, Idaho in the Big Jacks Creek Wilderness Area (Owyhee County). These data were acquired August 20, 2021. These data are sourced from US NSF Idaho EPSCOR.&lt;/span&gt;&lt;/p&gt;&lt;p&gt;&lt;span&gt;These data are part of a larger collection (&lt;/span&gt;&lt;a href='https://www.northwestknowledge.net/data/0a297bad-3ae8-4128-8160-8af018b0a9e2/readme.txt'&gt;&lt;span&gt;README.txt&lt;/span&gt;&lt;/a&gt;&lt;span&gt;) of UAS imagery data and data products collected at Duncan Saddle, approximately one hour south of Mountain Home, Idaho. We used a DJI Mavic 2 Pro with Map Pilot Pro software to capture imagery over the area of interest. The imagery was collected in a crossgrid pattern at 44m above ground level; the resulting imagery have a ground resolution of 1cm/pixel. The images were processed and the products created in Agisoft Metashape Pro. All products are georectified and in WGS84 UTM Zone 12 N.&lt;/span&gt;&lt;/p&gt;&lt;p&gt;&lt;span style='font-weight:bold;'&gt;Recommended Citation&lt;/span&gt;&lt;span&gt;: Roser, A., Marie, V., Olsoy, P., Delparte, D., &amp;amp; Caughlin, T. T. (2022). Unoccupied aerial systems imagery from Duncan Saddle Idaho (Version 1.0) [Data set]. University of Idaho. &lt;/span&gt;&lt;a href='https://doi.org/10.7923/S6Q0-1V41'&gt;&lt;span&gt;https://doi.org/10.7923/S6Q0-1V41&lt;/span&gt;&lt;/a&gt;&lt;/p&gt;&lt;p&gt;&lt;span&gt;Individual image tiles can be downloaded using the &lt;/span&gt;&lt;a href='https://www.insideidaho.org/apps/imagery-explorer/'&gt;&lt;span&gt;Idaho Imagery Explorer&lt;/span&gt;&lt;/a&gt;&lt;span&gt;.&lt;/span&gt;&lt;/p&gt;&lt;p&gt;&lt;span&gt;These data can be bulk downloaded from a &lt;/span&gt;&lt;a href='https://www.northwestknowledge.net/data/0a297bad-3ae8-4128-8160-8af018b0a9e2/'&gt;&lt;span&gt;web accessible folder&lt;/span&gt;&lt;/a&gt;&lt;span&gt;.&lt;/span&gt;&lt;/p&gt;&lt;p&gt;&lt;span&gt;Data are sourced from: &lt;/span&gt;&lt;a href='https://doi.org/10.7923/S6Q0-1V41'&gt;&lt;span&gt;https://doi.org/10.7923/S6Q0-1V41&lt;/span&gt;&lt;/a&gt;&lt;/p&gt;&lt;p&gt;&lt;span /&gt;&lt;/p&gt;&lt;/div&gt;&lt;/div&gt;&lt;/div&gt;</idAbs>
<idCredit>Creator(s): 1. Anna RoserUnique identifier: https://orcid.org/0000-0002-5184-2916Affiliation(s): Boise State University2. Valorie Marie Unique identifier: https://orcid.org/0000-0003-3051-4312Affiliation(s):Boise State University3. Peter OlsoyUnique identifier: https://orcid.org/0000-0002-8785-0459Affiliation(s):Boise State University, Idaho National Laboratory, Idaho State University, Washington State University4. Donna DelparteUnique identifier: https://orcid.org/0000-0002-9107-5117 Affiliation(s):Idaho State University5. Trevor Caughlin Unique identifier: https://orcid.org/0000-0001-6752-2055Affiliation(s): Boise State University, Fulbright Association, New College of Florida, University of FloridaOther Contributor(s): 1. Trevor CaughlinUnique identifier: https://orcid.org/0000-0001-6752-2055Affiliation(s): Boise State University, Fulbright Association, New College of Florida, University of FloridaRole: Contact person and Project leader2. Andrew Wright ChildUnique identifier: https://orcid.org/0000-0001-6666-0739 Affiliation(s): University of Idaho, Washington State UniversityRole: Data manager</idCredit>
<resConst>
<Consts>
<useLimit>&lt;div style='text-align:Left;'&gt;&lt;div&gt;&lt;div&gt;&lt;p&gt;&lt;span&gt;Creative Creative Commons Attribution ([CC-BY](&lt;/span&gt;&lt;a href='https://creativecommons.org/licenses/by/4.0/legalcode'&gt;&lt;span&gt;https://creativecommons.org/licenses/by/4.0/legalcode&lt;/span&gt;&lt;/a&gt;&lt;span&gt;)) &lt;/span&gt;&lt;/p&gt;&lt;/div&gt;&lt;/div&gt;&lt;/div&gt;</useLimit>
</Consts>
</resConst>
<idPoC>
<rpIndName>Bruce Godfrey</rpIndName>
<rpOrgName>University of Idaho</rpOrgName>
<rpPosName>GIS Librarian</rpPosName>
<role>
<RoleCd value="001"/>
</role>
<rpCntInfo>
<cntAddress addressType="">
<eMailAdd>bgodfrey@uidaho.edu</eMailAdd>
</cntAddress>
</rpCntInfo>
<displayName>Bruce Godfrey</displayName>
</idPoC>
<dataExt>
<exDesc>ground condition</exDesc>
<tempEle>
<TempExtent>
<exTemp>
<TM_Instant>
<tmPosition>2021-08-20T00:00:00</tmPosition>
</TM_Instant>
</exTemp>
</TempExtent>
</tempEle>
</dataExt>
<tpCat>
<TopicCatCd value="010"/>
</tpCat>
</dataIdInfo>
<mdLang>
<languageCode Sync="TRUE" value="eng"/>
<countryCode Sync="TRUE" value="USA"/>
</mdLang>
<refSysInfo>
<RefSystem>
<refSysID>
<identCode Sync="TRUE" code="32612"/>
<idCodeSpace Sync="TRUE">EPSG</idCodeSpace>
<idVersion Sync="TRUE">2.1(3.0.1)</idVersion>
</refSysID>
</RefSystem>
</refSysInfo>
<spatRepInfo>
<Georect>
<cellGeo>
<CellGeoCd Sync="TRUE" value="002"/>
</cellGeo>
<numDims Sync="TRUE">2</numDims>
<tranParaAv Sync="TRUE">1</tranParaAv>
<chkPtAv Sync="TRUE">0</chkPtAv>
<cornerPts>
<pos Sync="TRUE">86544.579900 4723085.976041</pos>
</cornerPts>
<cornerPts>
<pos Sync="TRUE">86544.579900 4723526.334200</pos>
</cornerPts>
<cornerPts>
<pos Sync="TRUE">86918.309520 4723526.334200</pos>
</cornerPts>
<cornerPts>
<pos Sync="TRUE">86918.309520 4723085.976041</pos>
</cornerPts>
<centerPt>
<pos Sync="TRUE">86731.444710 4723306.155121</pos>
</centerPt>
<axisDimension type="002">
<dimSize Sync="TRUE">37385</dimSize>
<dimResol>
<value Sync="TRUE" uom="m">0.009997</value>
</dimResol>
</axisDimension>
<axisDimension type="001">
<dimSize Sync="TRUE">44050</dimSize>
<dimResol>
<value Sync="TRUE" uom="m">0.009997</value>
</dimResol>
</axisDimension>
<ptInPixel>
<PixOrientCd Sync="TRUE" value="001"/>
</ptInPixel>
</Georect>
</spatRepInfo>
<contInfo>
<ImgDesc>
<contentTyp>
<ContentTypCd Sync="TRUE" value="001"/>
</contentTyp>
<covDim>
<Band>
<dimDescrp Sync="TRUE">Red</dimDescrp>
<maxVal Sync="TRUE">65535.000000</maxVal>
<minVal Sync="TRUE">5671.000000</minVal>
<bitsPerVal Sync="TRUE">16</bitsPerVal>
<valUnit>
<UOM type="length"/>
</valUnit>
</Band>
<Band>
<dimDescrp Sync="TRUE">Green</dimDescrp>
<maxVal Sync="TRUE">65535.000000</maxVal>
<minVal Sync="TRUE">7625.000000</minVal>
<bitsPerVal Sync="TRUE">16</bitsPerVal>
<valUnit>
<UOM type="length"/>
</valUnit>
</Band>
<Band>
<dimDescrp Sync="TRUE">Blue</dimDescrp>
<maxVal Sync="TRUE">65535.000000</maxVal>
<minVal Sync="TRUE">9007.000000</minVal>
<bitsPerVal Sync="TRUE">16</bitsPerVal>
<valUnit>
<UOM type="length"/>
</valUnit>
</Band>
</covDim>
</ImgDesc>
</contInfo>
<mdHrLv>
<ScopeCd value="005"/>
</mdHrLv>
<mdContact>
<rpIndName>Bruce Godfrey</rpIndName>
<rpOrgName>University of Idaho</rpOrgName>
<rpPosName>GIS Librarian</rpPosName>
<role>
<RoleCd value="001"/>
</role>
<rpCntInfo>
<cntAddress addressType="">
<eMailAdd>bgodfrey@uidaho.edu</eMailAdd>
</cntAddress>
</rpCntInfo>
</mdContact>
</metadata>
