<?xml version="1.0" encoding="UTF-8" standalone="no"?>
<metadata xml:lang="en">
<Esri>
<CreaDate>20240205</CreaDate>
<CreaTime>14222500</CreaTime>
<ArcGISFormat>1.0</ArcGISFormat>
<ArcGISstyle>ISO 19139 Metadata Implementation Specification</ArcGISstyle>
<SyncOnce>FALSE</SyncOnce>
<DataProperties>
<itemProps>
<itemName Sync="TRUE">s_glennsferry_2022</itemName>
<nativeExtBox>
<westBL Sync="TRUE">638040.088644</westBL>
<eastBL Sync="TRUE">638235.584901</eastBL>
<southBL Sync="TRUE">4772113.284517</southBL>
<northBL Sync="TRUE">4772335.030271</northBL>
<exTypeCode Sync="TRUE">1</exTypeCode>
</nativeExtBox>
<imsContentType export="False">
</imsContentType>
</itemProps>
<coordRef>
<type Sync="TRUE">Projected</type>
<geogcsn Sync="TRUE">GCS_WGS_1984</geogcsn>
<csUnits Sync="TRUE">Linear Unit: Meter (1.000000)</csUnits>
<projcsn Sync="TRUE">WGS_1984_UTM_Zone_11N</projcsn>
<peXml Sync="TRUE">&lt;ProjectedCoordinateSystem xsi:type='typens:ProjectedCoordinateSystem' xmlns:xsi='http://www.w3.org/2001/XMLSchema-instance' xmlns:xs='http://www.w3.org/2001/XMLSchema' xmlns:typens='http://www.esri.com/schemas/ArcGIS/10.7'&gt;&lt;WKT&gt;PROJCS[&amp;quot;WGS_1984_UTM_Zone_11N&amp;quot;,GEOGCS[&amp;quot;GCS_WGS_1984&amp;quot;,DATUM[&amp;quot;D_WGS_1984&amp;quot;,SPHEROID[&amp;quot;WGS_1984&amp;quot;,6378137.0,298.257223563]],PRIMEM[&amp;quot;Greenwich&amp;quot;,0.0],UNIT[&amp;quot;Degree&amp;quot;,0.0174532925199433]],PROJECTION[&amp;quot;Transverse_Mercator&amp;quot;],PARAMETER[&amp;quot;False_Easting&amp;quot;,500000.0],PARAMETER[&amp;quot;False_Northing&amp;quot;,0.0],PARAMETER[&amp;quot;Central_Meridian&amp;quot;,-117.0],PARAMETER[&amp;quot;Scale_Factor&amp;quot;,0.9996],PARAMETER[&amp;quot;Latitude_Of_Origin&amp;quot;,0.0],UNIT[&amp;quot;Meter&amp;quot;,1.0],AUTHORITY[&amp;quot;EPSG&amp;quot;,32611]]&lt;/WKT&gt;&lt;XOrigin&gt;-5120900&lt;/XOrigin&gt;&lt;YOrigin&gt;-9998100&lt;/YOrigin&gt;&lt;XYScale&gt;450445547.3910538&lt;/XYScale&gt;&lt;ZOrigin&gt;-100000&lt;/ZOrigin&gt;&lt;ZScale&gt;10000&lt;/ZScale&gt;&lt;MOrigin&gt;-100000&lt;/MOrigin&gt;&lt;MScale&gt;10000&lt;/MScale&gt;&lt;XYTolerance&gt;0.001&lt;/XYTolerance&gt;&lt;ZTolerance&gt;0.001&lt;/ZTolerance&gt;&lt;MTolerance&gt;0.001&lt;/MTolerance&gt;&lt;HighPrecision&gt;true&lt;/HighPrecision&gt;&lt;WKID&gt;32611&lt;/WKID&gt;&lt;LatestWKID&gt;32611&lt;/LatestWKID&gt;&lt;/ProjectedCoordinateSystem&gt;</peXml>
</coordRef>
<RasterProperties>
<General>
<PixelDepth Sync="TRUE">8</PixelDepth>
<HasColormap Sync="TRUE">FALSE</HasColormap>
<CompressionType Sync="TRUE">None</CompressionType>
<NumBands Sync="TRUE">3</NumBands>
<Format Sync="TRUE">AMD</Format>
<HasPyramids Sync="TRUE">TRUE</HasPyramids>
<SourceType Sync="TRUE">continuous</SourceType>
<PixelType Sync="TRUE">unsigned integer</PixelType>
<NoDataValue Sync="TRUE">
</NoDataValue>
</General>
<Properties>
<MaxImageHeight Sync="TRUE">20000</MaxImageHeight>
<MaxImageWidth Sync="TRUE">25000</MaxImageWidth>
<MaxRecordCount Sync="TRUE">1000</MaxRecordCount>
<MaxDownloadImageCount Sync="TRUE">30000</MaxDownloadImageCount>
<MaxDownloadSizeLimit Sync="TRUE">2048</MaxDownloadSizeLimit>
<MaxMosaicImageCount Sync="TRUE">20</MaxMosaicImageCount>
<DefaultCompressionQuality Sync="TRUE">80</DefaultCompressionQuality>
<DefaultCompressionTolerance Sync="TRUE">0.01</DefaultCompressionTolerance>
<BlendWidth Sync="TRUE">0</BlendWidth>
<ViewpointSpacingX Sync="TRUE">600</ViewpointSpacingX>
<ViewpointSpacingY Sync="TRUE">300</ViewpointSpacingY>
<AllowedItemMetadata Sync="TRUE">BASIC</AllowedItemMetadata>
<DefaultResamplingMethod Sync="TRUE">1</DefaultResamplingMethod>
<AllowedMosaicMethods Sync="TRUE">NorthWest,Center,LockRaster,ByAttribute,Nadir,Viewpoint,Seamline,None</AllowedMosaicMethods>
<AllowedCompressions Sync="TRUE">JPEG,NONE,LZ77,LERC</AllowedCompressions>
<AllowedMensurationCapabilities Sync="TRUE">Basic</AllowedMensurationCapabilities>
<AvailableMensurationCapabilities Sync="TRUE">None,Basic,Base-Top Height,Top-Top Shadow Height,Base-Top Shadow Height,3D</AvailableMensurationCapabilities>
<ClipToBoundary Sync="TRUE">0</ClipToBoundary>
<FootprintMayContainNoData Sync="TRUE">0</FootprintMayContainNoData>
<CellSizeTolerance Sync="TRUE">0.8</CellSizeTolerance>
<MinimumPixelContribution Sync="TRUE">1</MinimumPixelContribution>
<AvailableMosaicMethods Sync="TRUE">NorthWest,Center,LockRaster,ByAttribute,Nadir,Viewpoint,Seamline,None</AvailableMosaicMethods>
<AvailableCompressionMethods Sync="TRUE">None,JPEG,LZ77,LERC</AvailableCompressionMethods>
<AvailableItemMetadataLevels Sync="TRUE">None,Basic,Full</AvailableItemMetadataLevels>
<BandDefinitionKeyword Sync="TRUE">NaturalColor</BandDefinitionKeyword>
<ApplyColorCorrection Sync="TRUE">0</ApplyColorCorrection>
<_docversion_ Sync="TRUE">10</_docversion_>
<AllowedFields Sync="TRUE">Name,AcqYearFirst,AcqYearLast,Resolution,ProDef,DatasetID,Rectification,Constraints,Source,AcqDateFirst,AcqDateLast,DownloadURL,AcqYearFirst,AcqYearLast,Resolution,ProDef,DatasetID,Rectification,Constraints,Source,AcqDateFirst,AcqDateLast,DownloadURL</AllowedFields>
<LowCellSize Sync="TRUE">9.99980854758785E-03</LowCellSize>
<HighCellSize Sync="TRUE">1.27997549408993</HighCellSize>
<MaxCellSize Sync="TRUE">63.9987747044965</MaxCellSize>
<ClipToFootprint Sync="TRUE">-1</ClipToFootprint>
<SortAscending Sync="TRUE">-1</SortAscending>
<MosaicOperator Sync="TRUE">1</MosaicOperator>
<UseTime Sync="TRUE">0</UseTime>
<DataType Sync="TRUE">Processed</DataType>
</Properties>
<Functions Sync="TRUE">
<Function Description="Performs on-the-fly mosaic on a raster catalog." Name="Mosaic Function">
</Function>
</Functions>
</RasterProperties>
</DataProperties>
<SyncDate>20240205</SyncDate>
<SyncTime>13114200</SyncTime>
<ModDate>20240205</ModDate>
<ModTime>13115800</ModTime>
<scaleRange>
<minScale>150000000</minScale>
<maxScale>5000</maxScale>
</scaleRange>
<ArcGISProfile>ISO19139</ArcGISProfile>
</Esri>
<dataIdInfo>
<envirDesc Sync="TRUE"> Version 6.2 (Build 9200) ; Esri ArcGIS 10.7.1.11595</envirDesc>
<dataLang>
<languageCode Sync="TRUE" value="eng">
</languageCode>
<countryCode Sync="TRUE" value="USA">
</countryCode>
</dataLang>
<idCitation>
<resTitle Sync="FALSE">Digital Aerial Imagery from the 2007-COLD Wildfire Boundary Near Glenns Ferry, Idaho (June 2022, 1-cm)</resTitle>
<presForm>
<PresFormCd Sync="TRUE" value="005">
</PresFormCd>
</presForm>
<date>
<pubDate>2024-02-05T00:00:00</pubDate>
</date>
</idCitation>
<spatRpType>
<SpatRepTypCd Sync="TRUE" value="002">
</SpatRepTypCd>
</spatRpType>
<dataExt>
<geoEle>
<GeoBndBox esriExtentType="search">
<exTypeCode Sync="TRUE">1</exTypeCode>
<westBL Sync="TRUE">-115.303992</westBL>
<eastBL Sync="TRUE">-115.301536</eastBL>
<northBL Sync="TRUE">43.091169</northBL>
<southBL Sync="TRUE">43.089137</southBL>
</GeoBndBox>
</geoEle>
</dataExt>
<idPurp>This collection contains 1 2022 1-centimeter RGB (red, green, blue) orthorectified image of an area near Glenns Ferry, Idaho. These data were acquired on June...</idPurp>
<idAbs>This collection contains 1 2022 1-centimeter RGB (red, green, blue) orthorectified image of an area near Glenns Ferry, Idaho. These data were acquired on June 10, 2022. These data are sourced from US NSF Idaho EPSCOR.These data are part of a larger collection (README.txt) of UAS imagery data and data products which includes raw RGB (red, green, blue) and multispectral (5-band) digital imagery and processed data products collected 2022-06-10 at the 2007-COLD wildfire boundary (FireCode: ID4311811531420070801, Welty and Jeffries 2020) due east of Mountain Home Idaho and due north of Glenns Ferry Idaho, approximately one hour southeast of Boise Idaho off Interstate-84. We used a DJI Mavic 2 Pro with Hasselblad 20MP sensor (RGB) with Map Pilot Pro software and DJI Phantom 4 Multispectral sensor (5 band) with DJI GS Pro software to capture imagery over the area of interest. The RGB (Red, Green, Blue) imagery was collected in a crossgrid pattern (20 degree offset) at 44m above ground level; the resulting imagery have a ground resolution of 1cm/pixel. The multispectral imagery was collected at 38m above ground level (no crossgrid pattern); the resulting imagery have a ground resolution of 2cm/pixel. The images were processed and the products were created in OpenDroneMap version 2.8.8. All products are georectified and in WGS84 UTM Zone 11 N.Recommended Citation:Marie, V., Zaiats, A., Roser, A., Olsoy, P., Delparte, D., Wickersham, R., &amp; Caughlin, T. T. (2023). Digital aerial imagery (RGB and multispectral) from the 2007-COLD wildfire boundary near Glenns Ferry Idaho USA-2022 [Data set]. University of Idaho. https://doi.org/10.7923/RAGG-TV25Ancillary ODM Workflow:Marie, V., Zaiats, A., Wickersham, R., &amp; Caughlin, T. T. (2023). Open Drone Map: Structure-from-Motion Workflow (Version 1.0). University of Idaho. https://doi.org/10.7923/92HF-GP09Ancillary Fire Dataset:Welty, J.L., and Jeffries, M.I., 2020, Combined wildfire datasets for the United States and certain territories, 1878-2019: U.S. Geological Survey data release, https://doi.org/10.5066/P9Z2VVRTFunding:US National Science Foundation Idaho EPSCoR, Award: OIA-1757324US National Science Foundation, Award: BIO-2207158National Aeronautics and Space Administration, Award: 80NSSC21K1638</idAbs>
<themeKeys>
<keyword>air photo, aerial photography, aerial photo, orthoimagery, ortho imagery, orthophotography, imagery, orthorectified imagery, natural color RGB, multispectral, unoccupied aerial systems (uas)</keyword>
</themeKeys>
<resConst>
<Consts>
<useLimit>CC-BY 4.0 https://creativecommons.org/licenses/by/4.0/</useLimit>
</Consts>
</resConst>
<idPoC>
<rpIndName>Bruce Godfrey</rpIndName>
<rpOrgName>University of Idaho</rpOrgName>
<rpPosName>GIS Librarian</rpPosName>
<role>
<RoleCd value="001">
</RoleCd>
</role>
<rpCntInfo>
<cntAddress addressType="">
<eMailAdd>bgodfrey@uidaho.edu</eMailAdd>
</cntAddress>
</rpCntInfo>
<displayName>Bruce Godfrey</displayName>
</idPoC>
<idCredit>Creator(s): 1. Valorie Marie Unique identifier: https://orcid.org/0000-0003-3051-4312
Affiliation(s): Boise State University
2. Andrii Zaiats
Unique Identifier: https://orcid.org/0000-0001-8978-4152
Affiliation(s): Boise State University 3. Anna Roser
Unique identifier: https://orcid.org/0000-0002-5184-2916
Affiliation(s): Boise State University
4. Peter Olsoy
Unique identifier: https://orcid.org/0000-0002-8785-0459
Affiliation(s): Boise State University
5. Donna Delparte
Unique identifier: https://orcid.org/0000-0002-9107-5117 Affiliation(s): Idaho State University
6. Ryan Wickersham
Unique identifier: https://orcid.org/0000-0001-6957-8706
Affiliation(s): Boise State University
7. Trevor Caughlin Unique identifier: https://orcid.org/0000-0001-6752-2055
Affiliation(s): Boise State University
Other Contributor(s): 1. Trevor Caughlin
Unique identifier: https://orcid.org/0000-0001-6752-2055
Affiliation(s): Boise State University
Role: Project leader
2. Andrew Wright Child
Unique identifier: https://orcid.org/0000-0001-6666-0739
Affiliation(s): University of Idaho
Role: Data manager</idCredit>
<tpCat>
<TopicCatCd value="010">
</TopicCatCd>
</tpCat>
<searchKeys>
<keyword>air photo</keyword>
<keyword>aerial photography</keyword>
<keyword>aerial photo</keyword>
<keyword>orthoimagery</keyword>
<keyword>ortho imagery</keyword>
<keyword>orthophotography</keyword>
<keyword>imagery</keyword>
<keyword>orthorectified imagery</keyword>
<keyword>natural color RGB</keyword>
<keyword>multispectral</keyword>
<keyword>unoccupied aerial systems (uas)</keyword>
</searchKeys>
</dataIdInfo>
<mdLang>
<languageCode Sync="TRUE" value="eng">
</languageCode>
<countryCode Sync="TRUE" value="USA">
</countryCode>
</mdLang>
<refSysInfo>
<RefSystem>
<refSysID>
<identCode Sync="TRUE" code="32611">
</identCode>
<idCodeSpace Sync="TRUE">EPSG</idCodeSpace>
<idVersion Sync="TRUE">2.1(3.0.1)</idVersion>
</refSysID>
</RefSystem>
</refSysInfo>
<spatRepInfo>
<Georect>
<cellGeo>
<CellGeoCd Sync="TRUE" value="002">
</CellGeoCd>
</cellGeo>
<numDims Sync="TRUE">2</numDims>
<tranParaAv Sync="TRUE">1</tranParaAv>
<chkPtAv Sync="TRUE">0</chkPtAv>
<cornerPts>
<pos Sync="TRUE">638040.088644 4772113.284517</pos>
</cornerPts>
<cornerPts>
<pos Sync="TRUE">638040.088644 4772335.030271</pos>
</cornerPts>
<cornerPts>
<pos Sync="TRUE">638235.584901 4772335.030271</pos>
</cornerPts>
<cornerPts>
<pos Sync="TRUE">638235.584901 4772113.284517</pos>
</cornerPts>
<centerPt>
<pos Sync="TRUE">638137.836772 4772224.157394</pos>
</centerPt>
<axisDimension type="002">
<dimSize Sync="TRUE">19550</dimSize>
<dimResol>
<value Sync="TRUE" uom="m">0.010000</value>
</dimResol>
</axisDimension>
<axisDimension type="001">
<dimSize Sync="TRUE">22175</dimSize>
<dimResol>
<value Sync="TRUE" uom="m">0.010000</value>
</dimResol>
</axisDimension>
<ptInPixel>
<PixOrientCd Sync="TRUE" value="001">
</PixOrientCd>
</ptInPixel>
</Georect>
</spatRepInfo>
<contInfo>
<ImgDesc>
<contentTyp>
<ContentTypCd Sync="TRUE" value="001">
</ContentTypCd>
</contentTyp>
<covDim>
<Band>
<dimDescrp Sync="TRUE">Red</dimDescrp>
<maxVal Sync="TRUE">255.000000</maxVal>
<minVal Sync="TRUE">59.000000</minVal>
<bitsPerVal Sync="TRUE">8</bitsPerVal>
<valUnit>
<UOM type="length">
</UOM>
</valUnit>
</Band>
<Band>
<dimDescrp Sync="TRUE">Green</dimDescrp>
<maxVal Sync="TRUE">255.000000</maxVal>
<minVal Sync="TRUE">48.000000</minVal>
<bitsPerVal Sync="TRUE">8</bitsPerVal>
<valUnit>
<UOM type="length">
</UOM>
</valUnit>
</Band>
<Band>
<dimDescrp Sync="TRUE">Blue</dimDescrp>
<maxVal Sync="TRUE">254.000000</maxVal>
<minVal Sync="TRUE">33.000000</minVal>
<bitsPerVal Sync="TRUE">8</bitsPerVal>
<valUnit>
<UOM type="length">
</UOM>
</valUnit>
</Band>
</covDim>
</ImgDesc>
</contInfo>
<mdDateSt Sync="TRUE">20240205</mdDateSt>
<mdHrLv>
<ScopeCd value="005">
</ScopeCd>
</mdHrLv>
<mdContact>
<rpIndName>Bruce Godfrey</rpIndName>
<rpOrgName>University of Idaho</rpOrgName>
<rpPosName>GIS Librarian</rpPosName>
<role>
<RoleCd value="001">
</RoleCd>
</role>
<rpCntInfo>
<cntAddress addressType="">
<eMailAdd>bgodfrey@uidaho.edu</eMailAdd>
</cntAddress>
</rpCntInfo>
</mdContact>
</metadata>
