<?xml version="1.0" encoding="UTF-8" standalone="no"?>
<metadata xml:lang="en">
<Esri>
<CreaDate>20240226</CreaDate>
<CreaTime>10014200</CreaTime>
<ArcGISFormat>1.0</ArcGISFormat>
<SyncOnce>FALSE</SyncOnce>
<DataProperties>
<lineage>
<Process Date="20240221" Name="" Time="113131" ToolSource="c:\program files\arcgis\pro\Resources\ArcToolbox\toolboxes\Data Management Tools.tbx\CreateMosaicDataset" export="">CreateMosaicDataset C:/arcgisserver/resources/imageServices/imagery.gdb s_lowerdrycreekwatershed_2022 PROJCS["WGS_1984_UTM_Zone_11N",GEOGCS["GCS_WGS_1984",DATUM["D_WGS_1984",SPHEROID["WGS_1984",6378137.0,298.257223563]],PRIMEM["Greenwich",0.0],UNIT["Degree",0.0174532925199433]],PROJECTION["Transverse_Mercator"],PARAMETER["False_Easting",500000.0],PARAMETER["False_Northing",0.0],PARAMETER["Central_Meridian",-117.0],PARAMETER["Scale_Factor",0.9996],PARAMETER["Latitude_Of_Origin",0.0],UNIT["Meter",1.0]] 3 # "Natural color" "Red 630 690;Green 530 570;Blue 440 510"</Process>
<Process Date="20240221" Name="" Time="113338" ToolSource="c:\program files\arcgis\pro\Resources\ArcToolbox\toolboxes\Data Management Tools.tbx\AddRastersToMosaicDataset" export="">AddRastersToMosaicDataset C:/arcgisserver/resources/imageServices/imagery.gdb/s_lowerdrycreekwatershed_2022 "Raster Dataset" //nknportal.rocket.net/publishedpre/da595a67-71bb-4018-9b32-33d9118d5808 UPDATE_CELL_SIZES UPDATE_BOUNDARY NO_OVERVIEWS # 0 1500 # *odm_*.tif SUBFOLDERS "Exclude duplicates" NO_PYRAMIDS NO_STATISTICS NO_THUMBNAILS # NO_FORCE_SPATIAL_REFERENCE NO_STATISTICS # NO_PIXEL_CACHE C:\Users\bgodfrey\AppData\Local\Temp\3\ArcGISProTemp28724\s_lowerdrycreekwatershed_2022</Process>
<Process Date="20240226" Time="100719" ToolSource="c:\program files\arcgis\pro\Resources\ArcToolbox\Toolboxes\Data Management Tools.tbx\CopyMultiple">CopyMultiple "C:\arcgisserver\resources\imageServices\imagery.gdb\s_lowerdrycreekwatershed_2022 MosaicDataset" \\nknportal.rocket.net\arcgisserver\resources\imageServices\imagery.gdb s_lowerdrycreekwatershed_2022 "s_lowerdrycreekwatershed_2022 MosaicDataset s_lowerdrycreekwatershed_2022 #"</Process>
</lineage>
<itemProps>
<imsContentType export="False"/>
<itemName Sync="TRUE">s_lowerdrycreekwatershed_2022</itemName>
<itemLocation>
<linkage Sync="TRUE">file://\\nknportal.rocket.net\arcgisserver\resources\imageServices\imagery.gdb</linkage>
<protocol Sync="TRUE">Local Area Network</protocol>
</itemLocation>
<nativeExtBox>
<westBL Sync="TRUE">566676.554375</westBL>
<eastBL Sync="TRUE">567003.824477</eastBL>
<southBL Sync="TRUE">4837507.202002</southBL>
<northBL Sync="TRUE">4837726.365374</northBL>
<exTypeCode Sync="TRUE">1</exTypeCode>
</nativeExtBox>
</itemProps>
<coordRef>
<type Sync="TRUE">Projected</type>
<geogcsn Sync="TRUE">GCS_WGS_1984</geogcsn>
<csUnits Sync="TRUE">Linear Unit: Meter (1.000000)</csUnits>
<projcsn Sync="TRUE">WGS_1984_UTM_Zone_11N</projcsn>
<peXml Sync="TRUE">&lt;ProjectedCoordinateSystem xsi:type='typens:ProjectedCoordinateSystem' xmlns:xsi='http://www.w3.org/2001/XMLSchema-instance' xmlns:xs='http://www.w3.org/2001/XMLSchema' xmlns:typens='http://www.esri.com/schemas/ArcGIS/3.2.0'&gt;&lt;WKT&gt;PROJCS[&amp;quot;WGS_1984_UTM_Zone_11N&amp;quot;,GEOGCS[&amp;quot;GCS_WGS_1984&amp;quot;,DATUM[&amp;quot;D_WGS_1984&amp;quot;,SPHEROID[&amp;quot;WGS_1984&amp;quot;,6378137.0,298.257223563]],PRIMEM[&amp;quot;Greenwich&amp;quot;,0.0],UNIT[&amp;quot;Degree&amp;quot;,0.0174532925199433]],PROJECTION[&amp;quot;Transverse_Mercator&amp;quot;],PARAMETER[&amp;quot;False_Easting&amp;quot;,500000.0],PARAMETER[&amp;quot;False_Northing&amp;quot;,0.0],PARAMETER[&amp;quot;Central_Meridian&amp;quot;,-117.0],PARAMETER[&amp;quot;Scale_Factor&amp;quot;,0.9996],PARAMETER[&amp;quot;Latitude_Of_Origin&amp;quot;,0.0],UNIT[&amp;quot;Meter&amp;quot;,1.0],AUTHORITY[&amp;quot;EPSG&amp;quot;,32611]]&lt;/WKT&gt;&lt;XOrigin&gt;-5120900&lt;/XOrigin&gt;&lt;YOrigin&gt;-9998100&lt;/YOrigin&gt;&lt;XYScale&gt;450445547.3910538&lt;/XYScale&gt;&lt;ZOrigin&gt;-100000&lt;/ZOrigin&gt;&lt;ZScale&gt;10000&lt;/ZScale&gt;&lt;MOrigin&gt;-100000&lt;/MOrigin&gt;&lt;MScale&gt;10000&lt;/MScale&gt;&lt;XYTolerance&gt;0.001&lt;/XYTolerance&gt;&lt;ZTolerance&gt;0.001&lt;/ZTolerance&gt;&lt;MTolerance&gt;0.001&lt;/MTolerance&gt;&lt;HighPrecision&gt;true&lt;/HighPrecision&gt;&lt;WKID&gt;32611&lt;/WKID&gt;&lt;LatestWKID&gt;32611&lt;/LatestWKID&gt;&lt;/ProjectedCoordinateSystem&gt;</peXml>
</coordRef>
<RasterProperties>
<General>
<PixelDepth Sync="TRUE">8</PixelDepth>
<HasColormap Sync="TRUE">FALSE</HasColormap>
<CompressionType Sync="TRUE">None</CompressionType>
<NumBands Sync="TRUE">3</NumBands>
<Format Sync="TRUE">AMD</Format>
<HasPyramids Sync="TRUE">TRUE</HasPyramids>
<SourceType Sync="TRUE">continuous</SourceType>
<PixelType Sync="TRUE">unsigned integer</PixelType>
<NoDataValue Sync="TRUE"/>
</General>
<Properties>
<MaxImageHeight Sync="TRUE">20000</MaxImageHeight>
<MaxImageWidth Sync="TRUE">25000</MaxImageWidth>
<MaxRecordCount Sync="TRUE">1000</MaxRecordCount>
<MaxDownloadImageCount Sync="TRUE">30000</MaxDownloadImageCount>
<MaxDownloadSizeLimit Sync="TRUE">2048</MaxDownloadSizeLimit>
<MaxMosaicImageCount Sync="TRUE">20</MaxMosaicImageCount>
<DefaultCompressionQuality Sync="TRUE">80</DefaultCompressionQuality>
<DefaultCompressionTolerance Sync="TRUE">0.01</DefaultCompressionTolerance>
<BlendWidth Sync="TRUE">0</BlendWidth>
<ViewpointSpacingX Sync="TRUE">600</ViewpointSpacingX>
<ViewpointSpacingY Sync="TRUE">300</ViewpointSpacingY>
<AllowedItemMetadata Sync="TRUE">BASIC</AllowedItemMetadata>
<DefaultResamplingMethod Sync="TRUE">1</DefaultResamplingMethod>
<AllowedMosaicMethods Sync="TRUE">NorthWest,Center,LockRaster,ByAttribute,Nadir,Viewpoint,Seamline,None</AllowedMosaicMethods>
<AllowedCompressions Sync="TRUE">JPEG,NONE,LZ77,LERC</AllowedCompressions>
<AllowedMensurationCapabilities Sync="TRUE">None</AllowedMensurationCapabilities>
<AvailableMensurationCapabilities Sync="TRUE">None,Basic,Base-Top Height,Top-Top Shadow Height,Base-Top Shadow Height,3D</AvailableMensurationCapabilities>
<ClipToBoundary Sync="TRUE">0</ClipToBoundary>
<FootprintMayContainNoData Sync="TRUE">0</FootprintMayContainNoData>
<CellSizeTolerance Sync="TRUE">0.8</CellSizeTolerance>
<MinimumPixelContribution Sync="TRUE">1</MinimumPixelContribution>
<AvailableMosaicMethods Sync="TRUE">NorthWest,Center,LockRaster,ByAttribute,Nadir,Viewpoint,Seamline,None</AvailableMosaicMethods>
<AvailableCompressionMethods Sync="TRUE">None,JPEG,LZ77,LERC</AvailableCompressionMethods>
<AvailableItemMetadataLevels Sync="TRUE">None,Basic,Full</AvailableItemMetadataLevels>
<BandDefinitionKeyword Sync="TRUE">NaturalColor</BandDefinitionKeyword>
<ApplyColorCorrection Sync="TRUE">0</ApplyColorCorrection>
<_docversion_ Sync="TRUE">10</_docversion_>
<AllowedFields Sync="TRUE">Name,AcqYearFirst,AcqYearLast,Resolution,ProDef,DatasetID,Rectification,Constraints,Source,AcqDateFirst,AcqDateLast,DownloadURL,AcqYearFirst,AcqYearLast,Resolution,ProDef,DatasetID,Rectification,Constraints,Source,AcqDateFirst,AcqDateLast,DownloadURL</AllowedFields>
<LowCellSize Sync="TRUE">9.99969757381419E-03</LowCellSize>
<HighCellSize Sync="TRUE">7.99975805905136E-02</HighCellSize>
<MaxCellSize Sync="TRUE">63.998064472404</MaxCellSize>
<ClipToFootprint Sync="TRUE">-1</ClipToFootprint>
<SortAscending Sync="TRUE">-1</SortAscending>
<MosaicOperator Sync="TRUE">1</MosaicOperator>
<UseTime Sync="TRUE">0</UseTime>
<DataType Sync="TRUE">Processed</DataType>
</Properties>
<Functions Sync="TRUE">
<Function Description="Performs on-the-fly mosaic on a raster catalog." Name="Mosaic Function"/>
</Functions>
</RasterProperties>
</DataProperties>
<scaleRange>
<minScale>150000000</minScale>
<maxScale>5000</maxScale>
</scaleRange>
<ArcGISProfile>ISO19139</ArcGISProfile>
<SyncDate>20240223</SyncDate>
<SyncTime>10530500</SyncTime>
<ModDate>20240223</ModDate>
<ModTime>10530500</ModTime>
</Esri>
<dataIdInfo>
<idCitation>
<resTitle>lowerdrycreekwatershed_2022</resTitle>
<date>
<createDate>2023-02-23T00:00:00</createDate>
</date>
<presForm>
<PresFormCd Sync="TRUE" value="005"/>
</presForm>
</idCitation>
<searchKeys>
<keyword>air photo</keyword>
<keyword>aerial photography</keyword>
<keyword>aerial photo</keyword>
<keyword>orthoimagery</keyword>
<keyword>ortho imagery</keyword>
<keyword>orthophotography</keyword>
<keyword>imagery</keyword>
<keyword>orthorectified imagery</keyword>
<keyword>natural color RGB</keyword>
<keyword>multispectral</keyword>
<keyword>unoccupied aerial systems (uas)</keyword>
</searchKeys>
<idAbs>&lt;div style='text-align:Left;'&gt;&lt;div&gt;&lt;div&gt;&lt;p&gt;&lt;span&gt;This collection contains 1 2022 1-centimeter RGB (red, green, blue) orthorectified image of an area around Lower Dry Creek Watershed near Boise, Idaho. These data were acquired on June 29, 2022. These data are sourced from US NSF Idaho EPSCOR.&lt;/span&gt;&lt;/p&gt;&lt;p&gt;&lt;span&gt;These data are part of a larger collection (&lt;/span&gt;&lt;a href='https://www.northwestknowledge.net:443/data/da595a67-71bb-4018-9b32-33d9118d5808/readme.txt' style='text-decoration:underline;'&gt;&lt;span&gt;README.txt&lt;/span&gt;&lt;/a&gt;&lt;span&gt;) of UAS imagery data and data products which includes raw RGB (red, green, blue) and multispectral (5-band) digital imagery and processed data products collected 2022-06-29 within the lower Dry Creek watershed within the 1988-STEWART and 1996-EIGHTH STREET wildfire boundaries (FireCode: ID4368311615219880802 and ID4366611613519960826, respectively, Welty and Jeffries 2020) near Boise Idaho, approximately 20 minutes from Boise off Bogus Basin Road. We used a DJI Mavic 2 Pro with Hasselblad 20MP sensor (RGB) with Map Pilot Pro software and DJI Phantom 4 Multispectral sensor (5 band) with DJI GS Pro software to capture imagery over the area of interest. The RGB (Red, Green, Blue) imagery was collected in a crossgrid pattern (20 degree offset) at 44m above ground level; the resulting imagery have a ground resolution of 1cm/pixel. The multispectral imagery was collected at 38m above ground level (no crossgrid pattern); the resulting imagery have ground resolution of 2cm/pixel. The images were processed and the products were created in OpenDroneMap version 2.8.8. All products are georectified and in WGS84 UTM Zone 11 N.&lt;/span&gt;&lt;/p&gt;&lt;p&gt;&lt;span&gt;Recommended Citation: Marie, V., Zaiats, A., Roser, A., Olsoy, P., Delparte, D., Wickersham, R., &amp;amp; Caughlin, T. T. (2023). Digital aerial imagery (RGB and multispectral) from within the lower Dry Creek watershed near Boise Idaho USA-2022 [Data set]. University of Idaho. &lt;/span&gt;&lt;a href='https://doi.org:443/10.7923/ZS2V-7B04' style='text-decoration:underline;'&gt;&lt;span&gt;https://doi.org/10.7923/ZS2V-7B04&lt;/span&gt;&lt;/a&gt;&lt;/p&gt;&lt;p&gt;&lt;span&gt;Ancillary Fire Dataset: Welty, J.L., and Jeffries, M.I., 2020, Combined wildfire datasets for the United States and certain territories, 1878-2019: U.S. Geological Survey data release, &lt;/span&gt;&lt;a href='https://doi.org:443/10.5066/P9Z2VVRT' style='text-decoration:underline;'&gt;&lt;span&gt;https://doi.org/10.5066/P9Z2VVRT&lt;/span&gt;&lt;/a&gt;&lt;/p&gt;&lt;p&gt;&lt;span&gt;Funding:&lt;/span&gt;&lt;/p&gt;&lt;p&gt;&lt;span&gt;US National Science Foundation Idaho EPSCoR, Award: OIA-1757324&lt;/span&gt;&lt;/p&gt;&lt;p&gt;&lt;span&gt;US National Science Foundation, Award: BIO-2207158&lt;/span&gt;&lt;/p&gt;&lt;p&gt;&lt;span&gt;National Aeronautics and Space Administration, Award: 80NSSC21K1638&lt;/span&gt;&lt;/p&gt;&lt;/div&gt;&lt;/div&gt;&lt;/div&gt;</idAbs>
<resConst>
<Consts>
<useLimit>&lt;div style='text-align:Left;'&gt;&lt;div&gt;&lt;div&gt;&lt;p&gt;&lt;span&gt;CC-BY 4.0 https://creativecommons.org/licenses/by/4.0/&lt;/span&gt;&lt;/p&gt;&lt;/div&gt;&lt;/div&gt;&lt;/div&gt;</useLimit>
</Consts>
</resConst>
<idPurp>This collection contains 1 2022 1-centimeter RGB (red, green, blue) orthorectified image of an area around Lower Dry Creek Watershed near Boise, Idaho. These data were acquired on June 29, 2022. These data are sourced from US NSF Idaho EPSCOR.</idPurp>
<idCredit>Creator(s): 1. Valorie Marie Unique identifier: https://orcid.org/0000-0003-3051-4312 Affiliation(s): Boise State University 2. Andrii Zaiats Unique Identifier: https://orcid.org/0000-0001-8978-4152 Affiliation(s): Boise State University 3. Anna Roser Unique identifier: https://orcid.org/0000-0002-5184-2916 Affiliation(s): Boise State University 4. Peter Olsoy Unique identifier: https://orcid.org/0000-0002-8785-0459 Affiliation(s): Boise State University 5. Donna Delparte Unique identifier: https://orcid.org/0000-0002-9107-5117 Affiliation(s): Idaho State University 6. Ryan Wickersham Unique identifier: https://orcid.org/0000-0001-6957-8706 Affiliation(s): Boise State University 7. Trevor Caughlin Unique identifier: https://orcid.org/0000-0001-6752-2055 Affiliation(s): Boise State UniversityOther Contributor(s): 1. Trevor Caughlin Unique identifier: https://orcid.org/0000-0001-6752-2055 Affiliation(s): Boise State University Role: Project leader 2. Andrew Wright Child Unique identifier: https://orcid.org/0000-0001-6666-0739 Affiliation(s): University of Idaho Role: Data manager</idCredit>
<dataLang>
<languageCode value="eng"/>
<countryCode Sync="TRUE" value="USA"/>
</dataLang>
<dataChar>
<CharSetCd value="004"/>
</dataChar>
<tpCat>
<TopicCatCd value="010"/>
</tpCat>
<envirDesc Sync="TRUE">Microsoft Windows Server 2016 Technical Preview Version 10.0 (Build 17763) ; Esri ArcGIS 13.2.0.49743</envirDesc>
<spatRpType>
<SpatRepTypCd Sync="TRUE" value="002"/>
</spatRpType>
<dataExt>
<geoEle>
<GeoBndBox esriExtentType="search">
<exTypeCode Sync="TRUE">1</exTypeCode>
<westBL Sync="TRUE">-116.172683</westBL>
<eastBL Sync="TRUE">-116.168596</eastBL>
<northBL Sync="TRUE">43.689559</northBL>
<southBL Sync="TRUE">43.687557</southBL>
</GeoBndBox>
</geoEle>
</dataExt>
</dataIdInfo>
<mdHrLv>
<ScopeCd value="005"/>
</mdHrLv>
<mdDateSt Sync="TRUE">20240223</mdDateSt>
<mdLang>
<languageCode value="eng"/>
<countryCode Sync="TRUE" value="USA"/>
</mdLang>
<mdChar>
<CharSetCd value="004"/>
</mdChar>
<mdContact>
<rpIndName>Bruce Godfrey</rpIndName>
<rpOrgName>University of Idaho</rpOrgName>
<rpPosName>GIS Librarian</rpPosName>
<role>
<RoleCd value="001"/>
</role>
</mdContact>
<refSysInfo>
<RefSystem>
<refSysID>
<identCode Sync="TRUE" code="32611"/>
<idCodeSpace Sync="TRUE">EPSG</idCodeSpace>
<idVersion Sync="TRUE">9.8.8(3.0.1)</idVersion>
</refSysID>
</RefSystem>
</refSysInfo>
<spatRepInfo>
<Georect>
<cellGeo>
<CellGeoCd Sync="TRUE" value="002"/>
</cellGeo>
<numDims Sync="TRUE">2</numDims>
<tranParaAv Sync="TRUE">1</tranParaAv>
<chkPtAv Sync="TRUE">0</chkPtAv>
<cornerPts>
<pos Sync="TRUE">566676.554375 4837507.202002</pos>
</cornerPts>
<cornerPts>
<pos Sync="TRUE">566676.554375 4837726.365374</pos>
</cornerPts>
<cornerPts>
<pos Sync="TRUE">567003.824477 4837726.365374</pos>
</cornerPts>
<cornerPts>
<pos Sync="TRUE">567003.824477 4837507.202002</pos>
</cornerPts>
<centerPt>
<pos Sync="TRUE">566840.189426 4837616.783688</pos>
</centerPt>
<axisDimension type="002">
<dimSize Sync="TRUE">32728</dimSize>
<dimResol>
<value Sync="TRUE" uom="m">0.010000</value>
</dimResol>
</axisDimension>
<axisDimension type="001">
<dimSize Sync="TRUE">21917</dimSize>
<dimResol>
<value Sync="TRUE" uom="m">0.010000</value>
</dimResol>
</axisDimension>
<ptInPixel>
<PixOrientCd Sync="TRUE" value="001"/>
</ptInPixel>
</Georect>
</spatRepInfo>
<contInfo>
<ImgDesc>
<contentTyp>
<ContentTypCd Sync="TRUE" value="001"/>
</contentTyp>
<covDim>
<Band>
<dimDescrp Sync="TRUE">Red</dimDescrp>
<maxVal Sync="TRUE">255.000000</maxVal>
<minVal Sync="TRUE">0.000000</minVal>
<bitsPerVal Sync="TRUE">8</bitsPerVal>
<valUnit>
<UOM type="length"/>
</valUnit>
</Band>
<Band>
<dimDescrp Sync="TRUE">Green</dimDescrp>
<maxVal Sync="TRUE">255.000000</maxVal>
<minVal Sync="TRUE">0.000000</minVal>
<bitsPerVal Sync="TRUE">8</bitsPerVal>
<valUnit>
<UOM type="length"/>
</valUnit>
</Band>
<Band>
<dimDescrp Sync="TRUE">Blue</dimDescrp>
<maxVal Sync="TRUE">255.000000</maxVal>
<minVal Sync="TRUE">0.000000</minVal>
<bitsPerVal Sync="TRUE">8</bitsPerVal>
<valUnit>
<UOM type="length"/>
</valUnit>
</Band>
</covDim>
</ImgDesc>
</contInfo>
</metadata>
