<metadata xml:lang="en">
  <Esri>
    <MetaID>{91B8DF74-7396-4D2F-BFBC-326A8135A40E}</MetaID>
    <CreaDate>20091112</CreaDate>
    <CreaTime>16485700</CreaTime>
    <SyncOnce>FALSE</SyncOnce>
    <SyncDate>20100319</SyncDate>
    <SyncTime>12293900</SyncTime>
    <ModDate>20100319</ModDate>
    <ModTime>12293900</ModTime>
  </Esri>
  <idinfo>
    <citation>
      <citeinfo>
        <serinfo>
          <sername>http://iiapps.lib.uidaho.edu/data/anonymous/elevation/lidar/idwr/boiseRiver/2m/metadata.xml</sername>
          <issue>tile</issue>
        </serinfo>
        <origin>Idaho Department of Water Resources</origin>
        <pubdate>2009</pubdate>
        <title>First Return Digital Elevation Model (DEM) Generated from LiDAR data of Tile 4960-4847 Boise River, Idaho</title>
        <ftname Sync="TRUE">frdem2m2007_4960-4847_idwr.img</ftname>
        <onlink>http://cloud.insideidaho.org/webApps/util/zip.ashx?fn=http://cloud.insideidaho.org/data/elevation/lidar/2007_boiseRiver/dem/fr/frdem2m2007_4960-4847_idwr.img</onlink>
        <geoform Sync="TRUE">remote-sensing image</geoform>
        <pubinfo>
          <pubplace>Boise, ID USA</pubplace>
          <publish>Idaho Department of Water Resources</publish>
        </pubinfo>
      </citeinfo>
    </citation>
    <keywords>
      <theme>
        <themekt>ISO 19115 Topic Category</themekt>
        <themekey>elevation</themekey>
      </theme>
      <theme>
        <themekey>LiDAR</themekey>
        <themekey>Digital Elevation Model</themekey>
        <themekt>None</themekt>
        <themekey>DEM</themekey>
      </theme>
    </keywords>
    <native Sync="TRUE">Microsoft Windows 2000 Version 5.2 (Build 3790) Service Pack 2; ESRI ArcCatalog 9.3.1.3000</native>
    <descript>
      <langdata Sync="TRUE">en</langdata>
      <abstract>The United States Geological Survey (USGS) Center for Coastal and Watershed Studies, the National Aeronautics and Space Administration (NASA), United States Bureau of Reclamation (Reclamation), Idaho Department of Water Resources (IDWR) and a consortium of local city, county agencies and private entities (see supplemental information) are using airborne LiDAR to measure the submerged topography of the Boise River.  The study area encompasses the 500 year floodplain from Lucky Peak Reservoir to the confluence of the Boise River and the Snake River.  Elevation measurements were collected in March of 2006 using the NASA Experimental Advanced Airborne Research LiDAR (EAARL).  Initially developed by NASA and Wallops Flight Facility (WFF) in Virginia and now administered by the USGS Coastal and Marine Geology Program, EAARL measures ground elevation with a vertical accuracy of roughly 15 centimeters.  The data were processed by IDWR using the Airborne LiDAR Processing System (ALPS), a multi-tiered processing system developed by a USGS/NASA collaborative project for the use of subaerial and submarine LiDAR.  The output from this processing is 2 meter resolution raster data that can be easily ingested into a Geographic Information System (GIS).  The data were organized as 2 km by 2 km data tiles in ERDAS imagine format.  Point data information is also available for first return, bare earth, submerged topography and a submerged topography/bare earth combination. These tiles are created for visual interpretation and regional quantitative analysis. The data are in UTM Zone 11 meters, NAD83, NAVD88 (Geoid 03 model).  At the same time that the Boise River LiDAR data were collected, USGS collected cross sectional data using survey grade GPS at three separate sections along the river - upper, middle and lower.  These ground observations were then used to quality check the LiDAR data and to provide a vertical accuracy assessment.  The results of the quality assessment will be available by the end of December, 2009.  This metadata document will be updated at that time.</abstract>
      <purpose>One objective of this research is the development of techniques for the surveying of bare earth and submerged topography for habitat mapping, ecological monitoring, change detection, and event assessment (e.g., flood events) in riverine environments. The EAARL sensor has the potential to make significant contributions in this realm for measuring the elevation of shallow water bed elevation and conducting cross-environment surveys. High spatial resolution and low costs were found to be key factors in providing accurate and affordable data to managers.</purpose>
      <supplinf>Other participating agencies in this project include, Ada County Highway District, Ada County, City of Boise, City of Eagle, City of Star, U.S. Corps of Engineers, Eagle Sewer District, Flood Control Dist. 10, Flood Control District 11, Garden City, Harris Ranch, Idaho Rivers United, and Trout Unlimited. Light Detection and Ranging (LiDAR) is a remote sensing technique that uses laser light to detect, range, or identify remote objects based on light reflected by the object. Airborne LiDAR is now being applied in coastal and riverine environments to produce accurate, cost-efficient elevation datasets with high data density.  Raw LiDAR data is not in a format that is generally usable by resource managers and scientists for scientific analysis.  Specialized processing algorithms are used to convert raw waveform LiDAR data acquired by the EAARL to geo-referenced spot (x,y,z) returns for submarine topography.  Metadata files include the standard FGDC format.</supplinf>
    </descript>
    <timeperd>
      <current>ground condition</current>
      <timeinfo>
        <sngdate>
          <caldate>200703</caldate>
        </sngdate>
      </timeinfo>
    </timeperd>
    <status>
      <progress>Complete</progress>
      <update>None planned</update>
    </status>
    <spdom>
      <bounding>
        <westbc Sync="TRUE">-117.049741</westbc>
        <eastbc Sync="TRUE">-117.024824</eastbc>
        <northbc Sync="TRUE">43.794074</northbc>
        <southbc Sync="TRUE">43.776022</southbc>
      </bounding>
      <lboundng>
        <leftbc Sync="TRUE">495998.280000</leftbc>
        <rightbc Sync="TRUE">498002.280000</rightbc>
        <bottombc Sync="TRUE">4846997.820200</bottombc>
        <topbc Sync="TRUE">4849001.820200</topbc>
      </lboundng>
    </spdom>
    <natvform Sync="TRUE">Raster Dataset</natvform>
    <accconst>Any use of these data signifies a user's agreement to comprehension and compliance that this is a dataset created to the best of ability but errors may be present.  Ensure all portions of metadata are read and clearly understood before using these data in order to protect both user and IDWR and Reclamation interests.</accconst>
    <useconst>Although IDWR and Reclamation are making these data sets available to others who may find the data of value, IDWR and Reclamation do not warrant, endorse, or recommend the use of these data for any given purpose.  The user assumes the entire risk related to the use of these data.   IDWR and Reclamation are providing these data "as is", and IDWR and Reclamation disclaim any and all warranties, whether expressed or implied, including (without limitation) any implied warranties of merchantability or fitness for a particular purpose.  In no event will IDWR nor Reclamation be liable to you or to any third party for any direct, indirect, incidental, consequential, special, or exemplary damages or lost profits resulting from any use or misuse of these data.  Acknowledgement of the U.S. Geological Survey Center for Coastal and Watershed Studies as a data source would be appreciated in products developed from these data, and such acknowledgement as is standard for citation and legal practices for data source is expected by users of this data.  Sharing new data layers developed directly from these data would also be appreciated.  Users should be aware that comparisons with other data sets for the same area from other time periods may be inaccurate due to inconsistencies resulting from changes in photo interpretation, mapping conventions, and digital processes over time.  These data are not legal documents and are not to be used as such.</useconst>
    <ptcontac>
      <cntinfo>
        <cntorgp>
          <cntorg>Idaho Department of Water Resources</cntorg>
          <cntper>Linda Davis</cntper>
        </cntorgp>
        <cntpos>Sr. GIS Analyst</cntpos>
        <cntaddr>
          <addrtype>mailing and physical address</addrtype>
          <address>322 East Front Street</address>
          <address>suite 419</address>
          <city>Boise</city>
          <state>Idaho</state>
          <postal>83712</postal>
          <country>USA</country>
        </cntaddr>
        <cntvoice>(208) 327-8995</cntvoice>
        <cntfax>(208) 287-6700</cntfax>
        <cntemail>linda.davis@idwr.idaho.gov</cntemail>
        <hours>8am to 5pm M-F MST</hours>
      </cntinfo>
    </ptcontac>
    <datacred>IDWR would like to acknowledge Reclamation, USGS Western Region, USGS Center for Coastal and Watershed Studies and NASA Goddard Space Flight Center for their cooperation and assistance in the development of the data.  IDWR would also like to acknowledge local contributors.</datacred>
  </idinfo>
  <metainfo>
    <metc>
      <cntinfo>
        <cntpos>GIS Specialist</cntpos>
        <cntaddr>
          <addrtype>mailing and physical address</addrtype>
          <address>1000 West Hubbard Avenue, Suite 242</address>
          <city>Coeur d'Alene</city>
          <state>ID</state>
          <postal>83814-2277</postal>
        </cntaddr>
        <cntvoice>208.292.1407</cntvoice>
        <cntemail>bgodfrey@uidaho.edu</cntemail>
        <cntorgp>
          <cntorg>Idaho Geospatial Data Clearinghouse</cntorg>
          <cntper>Bruce Godfrey</cntper>
        </cntorgp>
      </cntinfo>
    </metc>
    <metstdn>FGDC Content Standards for Digital Geospatial Metadata</metstdn>
    <metstdv>FGDC-STD-001-1998</metstdv>
    <langmeta Sync="TRUE">en</langmeta>
    <mettc Sync="TRUE">local time</mettc>
    <metd Sync="TRUE">20100319</metd>
    <metextns>
      <onlink Sync="TRUE">http://www.esri.com/metadata/esriprof80.html</onlink>
      <metprof Sync="TRUE">ESRI Metadata Profile</metprof>
    </metextns>
  </metainfo>
  <spdoinfo>
    <direct Sync="TRUE">Raster</direct>
    <rastinfo>
      <rasttype Sync="TRUE">Pixel</rasttype>
      <rowcount Sync="TRUE">1002</rowcount>
      <colcount Sync="TRUE">1002</colcount>
      <rastxsz Sync="TRUE">2.000000</rastxsz>
      <rastysz Sync="TRUE">2.000000</rastysz>
      <rastbpp Sync="TRUE">32</rastbpp>
      <vrtcount Sync="TRUE">1</vrtcount>
      <rastorig Sync="TRUE">Upper Left</rastorig>
      <rastcmap Sync="TRUE">FALSE</rastcmap>
      <rastcomp Sync="TRUE">Run-Length Encoding (ESRI)</rastcomp>
      <rastband Sync="TRUE">1</rastband>
      <rastdtyp Sync="TRUE">pixel RGB</rastdtyp>
      <rastifor Sync="TRUE">IMAGINE Image</rastifor>
      <rastplyr Sync="TRUE">TRUE</rastplyr>
    </rastinfo>
  </spdoinfo>
  <spref>
    <horizsys>
      <cordsysn>
        <geogcsn Sync="TRUE">GCS_North_American_1983</geogcsn>
        <projcsn Sync="TRUE">NAD_1983_UTM_Zone_11N</projcsn>
      </cordsysn>
      <planar>
        <planci>
          <plance Sync="TRUE">row and column</plance>
          <plandu Sync="TRUE">meters</plandu>
          <coordrep>
            <absres Sync="TRUE">2.000000</absres>
            <ordres Sync="TRUE">2.000000</ordres>
          </coordrep>
        </planci>
        <gridsys>
          <gridsysn Sync="TRUE">Universal Transverse Mercator</gridsysn>
          <utm>
            <utmzone Sync="TRUE">11</utmzone>
            <transmer>
              <sfctrmer Sync="TRUE">0.999600</sfctrmer>
              <longcm Sync="TRUE">-117.000000</longcm>
              <latprjo Sync="TRUE">0.000000</latprjo>
              <feast Sync="TRUE">500000.000000</feast>
              <fnorth Sync="TRUE">0.000000</fnorth>
            </transmer>
          </utm>
        </gridsys>
      </planar>
      <geodetic>
        <horizdn Sync="TRUE">North American Datum of 1983</horizdn>
        <ellips Sync="TRUE">Geodetic Reference System 80</ellips>
        <semiaxis Sync="TRUE">6378137.000000</semiaxis>
        <denflat Sync="TRUE">298.257222</denflat>
      </geodetic>
    </horizsys>
  </spref>
  <eainfo>
    <detailed Name="fr_4960-4847_idwr.img.vat">
      <enttyp>
        <enttypl Sync="TRUE">fr_4960-4847_idwr.img.vat</enttypl>
        <enttypt Sync="TRUE">Table</enttypt>
        <enttypc Sync="TRUE">256</enttypc>
      </enttyp>
      <attr>
        <attrlabl Sync="TRUE">OID</attrlabl>
        <attalias Sync="TRUE">OID</attalias>
        <attrtype Sync="TRUE">OID</attrtype>
        <attwidth Sync="TRUE">4</attwidth>
        <atprecis Sync="TRUE">0</atprecis>
        <attscale Sync="TRUE">0</attscale>
        <attrdef Sync="TRUE">Internal feature number.</attrdef>
        <attrdefs Sync="TRUE">ESRI</attrdefs>
        <attrdomv>
          <udom Sync="TRUE">Sequential unique whole numbers that are automatically generated.</udom>
        </attrdomv>
      </attr>
      <attr>
        <attrlabl Sync="TRUE">Value</attrlabl>
        <attalias Sync="TRUE">Value</attalias>
        <attrtype Sync="TRUE">Integer</attrtype>
        <attwidth Sync="TRUE">0</attwidth>
        <atprecis Sync="TRUE">0</atprecis>
        <attscale Sync="TRUE">0</attscale>
      </attr>
      <attr>
        <attrlabl Sync="TRUE">Count</attrlabl>
        <attalias Sync="TRUE">Count</attalias>
        <attrtype Sync="TRUE">Double</attrtype>
        <attwidth Sync="TRUE">0</attwidth>
        <atprecis Sync="TRUE">0</atprecis>
        <attscale Sync="TRUE">0</attscale>
      </attr>
    </detailed>
  </eainfo>
  <distinfo>
    <distrib>
      <cntinfo>
        <cntorgp>
          <cntorg>Idaho Geospatial Data Clearinghouse</cntorg>
          <cntper>Bruce Godfrey</cntper>
        </cntorgp>
        <cntpos>GIS Specialist</cntpos>
        <cntaddr>
          <addrtype>mailing and physical address</addrtype>
          <address>1031 N. Academic Way, Suite 242</address>
          <city>Coeur d'Alene</city>
          <state>ID</state>
          <postal>83814-2277</postal>
        </cntaddr>
        <cntvoice>208.292.1407</cntvoice>
        <cntemail>bgodfrey@uidaho.edu</cntemail>
      </cntinfo>
    </distrib>
    <stdorder>
      <fees>None</fees>
      <digform>
        <digtopt>
          <onlinopt>
            <computer>
              <networka>
                <networkr>http://cloud.insideidaho.org/webApps/util/zip.ashx?fn=http://cloud.insideidaho.org/data/elevation/lidar/2007_boiseRiver/dem/fr/frdem2m2007_4960-4847_idwr.img</networkr>
              </networka>
            </computer>
          </onlinopt>
        </digtopt>
        <digtinfo>
          <transize Sync="TRUE">0.000</transize>
          <dssize Sync="TRUE">0.000</dssize>
          <formname>ERDAS IMAGINE (.img)</formname>
        </digtinfo>
      </digform>
    </stdorder>
    <distliab>Although these data have been processed successfully on a computer system at the Idaho Geospatial Data Clearinghouse, no warranty, expressed or implied, is made regarding the utility of the data on any other system, nor shall the act of distribution constitute any such warranty. </distliab>
  </distinfo>
  <dataqual>
    <posacc>
      <horizpa>
        <horizpar>EAARL System specifications have been determined to provide 1 meter horizontal accuracy on level surfaces. Processing steps (grid interpolation) may introduce additional error which has not been tested at the time of this publication. Spacing of points may introduce additional error.</horizpar>
        <qhorizpa>
          <horizpav>1</horizpav>
        </qhorizpa>
      </horizpa>
      <vertacc>
        <vertaccr>EAARL System specifications are as follows: attitude within 0.07 degree, 3-5 cm nominal ranging accuracy for return signals within the operating dynamic range of the LiDAR receiver to targets perpendicular to the laser beam, nominal horizontal positioning accuracy is &lt; 1m and vertical elevation accuracy of +/-15 cm for the "first return" surface under optimal GPS conditions (atmosphere, satellite constellation geometry, satellite health, clear unobstructed view of the sky from the aircraft and associated base stations).  At the same time that the Boise River LiDAR data were collected, USGS collected cross sectional data using survey grade GPS at three separate sections along the river - upper, middle and lower.  These ground observations were then used to quality check the LiDAR data.  The results of the quality assessment will be available by the end of December, 2009.  This metadata document will be updated at that time.</vertaccr>
        <qvertpa>
          <vertaccv>.20</vertaccv>
        </qvertpa>
      </vertacc>
    </posacc>
    <lineage>
      <srcinfo>
        <typesrc>Point elevation measurements collected by the EAARL sensor.</typesrc>
        <srctime>
          <timeinfo>
            <rngdates>
              <begdate>March 16 2007</begdate>
              <enddate>March 21 2007</enddate>
            </rngdates>
          </timeinfo>
          <srccurr>ground condition</srccurr>
        </srctime>
      </srcinfo>
      <procstep>
        <procdesc>The data are collected using a Cessna 310 aircraft. A sampling rate of up to 5 kHz results in a sufficiently dense spatial elevation data set. The EAARL system is typically flown at 300 m altitude above ground level (AGL), resulting in a 240 m swath for each flight line. The NASA Experimental Advanced Airborne Research LiDAR (EAARL) laser scanner collects the data using a green (532nm) raster scanning laser, while a pair of digital cameras acquires acquire a visual photographic record of the flight. The data are stored and archived at the USGS office in St. Petersburg, Florida.  The navigational and raw data are then downloaded loaded and processed by into the Airborne LiDAR Processing System (ALPS).  Data are converted from units of time and signal strength to x,y,z points for elevation. The derived surface data can then be converted into raster data.</procdesc>
        <proccont>
          <cntinfo>
            <cntorgp>
              <cntorg>United States Geological Survey Center for Coastal and Watershed Studies</cntorg>
              <cntper>Amar Nayegandhi</cntper>
            </cntorgp>
            <cntpos>Computer Scientist</cntpos>
            <cntaddr>
              <addrtype>mailing and physical address</addrtype>
              <address>600 4th Street South</address>
              <address>Suite 419</address>
              <city>St. Petersburg</city>
              <state>Florida</state>
              <postal>33701</postal>
              <country>USA</country>
            </cntaddr>
            <cntvoice>727-803-8747</cntvoice>
            <hours>8am to 5pm M-F EST</hours>
            <cntinst>Call Survey for Details</cntinst>
          </cntinfo>
        </proccont>
      </procstep>
      <procstep>
        <procdesc>INSIDE Idaho received the data from IDWR, copied the data to the server, renamed the files and created metadata.</procdesc>
        <procdate>20100319</procdate>
      </procstep>
    </lineage>
  </dataqual>
</metadata>