View In:
ArcGIS JavaScript
ArcGIS Online Map Viewer
ArcGIS Earth
ArcMap
View Footprint In:
ArcGIS Online Map Viewer
Service Description: These data depict geographic features on the surface of the earth. They were created primarily as a visual aid for urban and county planning.
Standards-based geospatial metadata did not accompany the source files for the collection. However, information from USGS EarthExplorer about the collection can be found below.
Beginning Date: 2006/10/01
Ending Date: 2006/10/01
EPSG: 32611
Map Projection Description: WGS 84 / UTM zone 11N
State/Province/Country: ID
Datum: WGS84
Dataset: 200610_boise_id_0x3000m_utm_clr
Projection Zone: 11
Sensor: ADS40
Sensor Type: Color
Number of Bands: 3
Vendor: AERIALS_EXPRESS
Resolution: 0.30
Units of Resolution: METER
Agency:USGS
Name: imagery/boisefoothills_2006
Description: These data depict geographic features on the surface of the earth. They were created primarily as a visual aid for urban and county planning.
Standards-based geospatial metadata did not accompany the source files for the collection. However, information from USGS EarthExplorer about the collection can be found below.
Beginning Date: 2006/10/01
Ending Date: 2006/10/01
EPSG: 32611
Map Projection Description: WGS 84 / UTM zone 11N
State/Province/Country: ID
Datum: WGS84
Dataset: 200610_boise_id_0x3000m_utm_clr
Projection Zone: 11
Sensor: ADS40
Sensor Type: Color
Number of Bands: 3
Vendor: AERIALS_EXPRESS
Resolution: 0.30
Units of Resolution: METER
Agency:USGS
Single Fused Map Cache: false
Extent:
XMin: 539150.1000000003
YMin: 4788300.000000003
XMax: 583199.999999971
YMax: 4850859.899999961
Spatial Reference: 32611
(32611)
Initial Extent:
XMin: 539150.1000000003
YMin: 4788300.000000003
XMax: 583199.999999971
YMax: 4850859.899999961
Spatial Reference: 32611
(32611)
Full Extent:
XMin: 539150.1000000003
YMin: 4788300.000000003
XMax: 583199.999999971
YMax: 4850859.899999961
Spatial Reference: 32611
(32611)
Pixel Size X: 0.29999999999980037
Pixel Size Y: 0.2999999999998008
Band Count: 3
Pixel Type: U8
RasterFunction Infos: {"rasterFunctionInfos": [{
"name": "None",
"description": "A No-Op Function.",
"help": ""
}]}
Mensuration Capabilities: Basic
Has Histograms: true
Has Colormap: false
Has Multi Dimensions : false
Rendering Rule:
Min Scale: 0
Max Scale: 0
Copyright Text: U.S. Geological Survey
Service Data Type: esriImageServiceDataTypeProcessed
Min Values: 0, 2, 0
Max Values: 236, 231, 222
Mean Values: 118.25669839509547, 116.62992637772123, 97.36242491451827
Standard Deviation Values: 20.217801949283775, 18.073449328605793, 16.88789396317319
Object ID Field: OBJECTID
Fields:
-
OBJECTID
(
type: esriFieldTypeOID, alias: OBJECTID
)
-
Shape
(
type: esriFieldTypeGeometry, alias: Shape
)
-
Name
(
type: esriFieldTypeString, alias: Name, length: 200
)
-
Category
(
type: esriFieldTypeInteger, alias: Category
, Coded Values:
[0: Unknown]
, [1: Primary]
, [2: Overview]
, ...6 more...
)
-
AcqYearFirst
(
type: esriFieldTypeSmallInteger, alias: Acquisition Year First
)
-
AcqYearLast
(
type: esriFieldTypeSmallInteger, alias: Acquisition Year Last
)
-
Resolution
(
type: esriFieldTypeSingle, alias: Resolution (cm)
)
-
ProDef
(
type: esriFieldTypeSmallInteger, alias: Product Definition
, Coded Values:
[0: Unknown]
, [2: Natural Color]
, [3: Natural Color + Infrared]
, ...2 more...
)
-
DatasetID
(
type: esriFieldTypeSmallInteger, alias: Collection Name
, Coded Values:
[5: Island Park Reservoir 2016]
, [6: Challis National Forest 2010]
, [0: Idaho 2004]
, ...114 more...
)
-
Rectification
(
type: esriFieldTypeSmallInteger, alias: Rectification
, Coded Values:
[0: Unknown]
, [1: Orthorectified]
, [2: Georectified]
)
-
Constraints
(
type: esriFieldTypeSmallInteger, alias: Constraints
, Coded Values:
[1: Public]
, [2: Restricted]
)
-
Source
(
type: esriFieldTypeSmallInteger, alias: Source
, Coded Values:
[0: Unknown]
, [2: U.S. Geological Survey]
, [3: Idaho Department of Water Resources]
, ...11 more...
)
-
AcqDateFirst
(
type: esriFieldTypeDate, alias: Acquistition Date First, length: 8
)
-
AcqDateLast
(
type: esriFieldTypeDate, alias: Acquistition Date Last, length: 8
)
-
DownloadURL
(
type: esriFieldTypeString, alias: Download URL, length: 256
)
Default Mosaic Method: Northwest
Allowed Mosaic Methods: NorthWest,Center,LockRaster,ByAttribute,Nadir,Viewpoint,Seamline,None
SortField:
SortValue: null
Mosaic Operator: First
Default Compression Quality: 80
Default Resampling Method: Bilinear
Max Record Count: 1000
Max Image Height: 20000
Max Image Width: 25000
Max Download Image Count: 30000
Max Mosaic Image Count: 20
Allow Raster Function: true
Allow Copy: null
Allow Analysis: null
Allow Compute TiePoints: false
Supports Statistics: true
Supports Advanced Queries: true
Use StandardizedQueries: true
Raster Type Infos:
Name: Raster Dataset
Description: Supports all ArcGIS Raster Datasets
Help:
Has Raster Attribute Table: false
Edit Fields Info: null
Ownership Based AccessControl For Rasters: null
Child Resources:
Info
Histograms
Key Properties
Legend
Raster Function Infos
Supported Operations:
Export Image
Query
Identify
Download Rasters
Measure
Compute Histograms
Compute Statistics Histograms
Get Samples
Compute Class Statistics
Query Boundary
Compute Pixel Location
Validate
Project