View In:
ArcGIS JavaScript
ArcGIS Online Map Viewer
ArcGIS Earth
ArcMap
View Footprint In:
ArcGIS Online Map Viewer
Service Description: An orthoimage is remotely sensed image data in which displacement of features in the image caused by terrain relief and sensor orientation have been mathematically removed. Orthoimagery combines the image characteristics of a photograph with the geometric qualities of a map. For this dataset, the natural color orthoimages were produced at 0.3-meter pixel resolution (approximately 1-foot). The design accuracy is estimated not to exceed 6 meter horizontal RMSE for locations within the United States. Each orthoimage provides imagery for a 1500-meter by 1500-meter block on the ground. The projected coordinate system is UTM with a NAD83 datum, spheroid GRS80. There is no image overlap between adjacent files. The naming convention is based on the U.S. National Grid (USNG), taking the coordinates of the SW corner of the orthoimage.
These data have been created as a result of the need for having geospatial data immediately available and easily accessible in order to provide geographic reference for federal, state, and local emergency responders, as well as for homeland security efforts. Orthoimages also serve a variety of purposes, from interim maps to field references for earth science investigations and analysis. The digital orthoimage is useful as a layer of a geographic information system. These data can be used to provide reference information for web browsers and for map applications at a scale of 1:100,000 or smaller.
Name: imagery/boundarycounty_2009
Description: An orthoimage is remotely sensed image data in which displacement of features in the image caused by terrain relief and sensor orientation have been mathematically removed. Orthoimagery combines the image characteristics of a photograph with the geometric qualities of a map. For this dataset, the natural color orthoimages were produced at 0.3-meter pixel resolution (approximately 1-foot). The design accuracy is estimated not to exceed 6 meter horizontal RMSE for locations within the United States. Each orthoimage provides imagery for a 1500-meter by 1500-meter block on the ground. The projected coordinate system is UTM with a NAD83 datum, spheroid GRS80. There is no image overlap between adjacent files. The naming convention is based on the U.S. National Grid (USNG), taking the coordinates of the SW corner of the orthoimage.
These data have been created as a result of the need for having geospatial data immediately available and easily accessible in order to provide geographic reference for federal, state, and local emergency responders, as well as for homeland security efforts. Orthoimages also serve a variety of purposes, from interim maps to field references for earth science investigations and analysis. The digital orthoimage is useful as a layer of a geographic information system. These data can be used to provide reference information for web browsers and for map applications at a scale of 1:100,000 or smaller.
Single Fused Map Cache: false
Extent:
XMin: 492000.00000000035
YMin: 5379000.000000001
XMax: 619499.9999999953
YMax: 5444999.999999998
Spatial Reference: 26911
(26911)
Initial Extent:
XMin: 492000.00000000035
YMin: 5379000.000000001
XMax: 619499.9999999953
YMax: 5444999.999999998
Spatial Reference: 26911
(26911)
Full Extent:
XMin: 492000.00000000035
YMin: 5379000.000000001
XMax: 619499.9999999953
YMax: 5444999.999999998
Spatial Reference: 26911
(26911)
Pixel Size X: 0.2999999999999882
Pixel Size Y: 0.2999999999999873
Band Count: 3
Pixel Type: U8
RasterFunction Infos: {"rasterFunctionInfos": [{
"name": "None",
"description": "A No-Op Function.",
"help": ""
}]}
Mensuration Capabilities: None
Has Histograms: true
Has Colormap: false
Has Multi Dimensions : false
Rendering Rule:
Min Scale: 0
Max Scale: 0
Copyright Text: U.S. Geological Survey; 3001, Inc.
Service Data Type: esriImageServiceDataTypeProcessed
Min Values: 0, 0, 14
Max Values: 250, 253, 218
Mean Values: 66.3839973002083, 67.23554385556174, 61.98300878236223
Standard Deviation Values: 15.720178336726905, 14.303354657833836, 10.082650913414577
Object ID Field: OBJECTID
Fields:
-
OBJECTID
(
type: esriFieldTypeOID, alias: OBJECTID
)
-
Shape
(
type: esriFieldTypeGeometry, alias: Shape
)
-
Name
(
type: esriFieldTypeString, alias: Name, length: 200
)
-
Category
(
type: esriFieldTypeInteger, alias: Category
, Coded Values:
[0: Unknown]
, [1: Primary]
, [2: Overview]
, ...6 more...
)
-
AcqYearFirst
(
type: esriFieldTypeSmallInteger, alias: Acquisition Year First
)
-
AcqYearLast
(
type: esriFieldTypeSmallInteger, alias: Acquisition Year Last
)
-
Resolution
(
type: esriFieldTypeSingle, alias: Resolution (cm)
)
-
ProDef
(
type: esriFieldTypeSmallInteger, alias: Image Type
, Coded Values:
[0: Unknown]
, [2: Natural Color]
, [3: Natural Color + Infrared]
, ...2 more...
)
-
DatasetID
(
type: esriFieldTypeSmallInteger, alias: Collection Name
, Coded Values:
[5: Island Park Reservoir 2016]
, [6: Challis National Forest 2010]
, [0: Idaho 2004]
, ...114 more...
)
-
Rectification
(
type: esriFieldTypeSmallInteger, alias: Rectification
, Coded Values:
[0: Unknown]
, [1: Orthorectified]
, [2: Georectified]
)
-
Constraints
(
type: esriFieldTypeSmallInteger, alias: Constraints
, Coded Values:
[1: Public]
, [2: Restricted]
)
-
Source
(
type: esriFieldTypeSmallInteger, alias: Source
, Coded Values:
[0: Unknown]
, [2: U.S. Geological Survey]
, [3: Idaho Department of Water Resources]
, ...11 more...
)
-
AcqDateFirst
(
type: esriFieldTypeDate, alias: Acquisition Date First, length: 8
)
-
AcqDateLast
(
type: esriFieldTypeDate, alias: Acquisition Date Last, length: 8
)
-
DownloadURL
(
type: esriFieldTypeString, alias: Download URL, length: 256
)
Default Mosaic Method: Northwest
Allowed Mosaic Methods: NorthWest,Center,LockRaster,ByAttribute,Nadir,Viewpoint,Seamline,None
SortField:
SortValue: null
Mosaic Operator: First
Default Compression Quality: 80
Default Resampling Method: Bilinear
Max Record Count: 1000
Max Image Height: 20000
Max Image Width: 25000
Max Download Image Count: 30000
Max Mosaic Image Count: 20
Allow Raster Function: true
Allow Copy: null
Allow Analysis: null
Allow Compute TiePoints: false
Supports Statistics: true
Supports Advanced Queries: true
Use StandardizedQueries: true
Raster Type Infos:
Name: Raster Dataset
Description: Supports all ArcGIS Raster Datasets
Help:
Has Raster Attribute Table: false
Edit Fields Info: null
Ownership Based AccessControl For Rasters: null
Child Resources:
Info
Histograms
Key Properties
Legend
Raster Function Infos
Supported Operations:
Export Image
Query
Identify
Download Rasters
Compute Histograms
Compute Statistics Histograms
Get Samples
Compute Class Statistics
Query Boundary
Compute Pixel Location
Validate
Project