View In:
ArcGIS JavaScript
ArcGIS Online Map Viewer
ArcGIS Earth
ArcMap
View Footprint In:
ArcGIS Online Map Viewer
Service Description: This collection contains 1 2021 1-centimeter natural color orthorectified image of Duncan Saddle, Idaho. This study area is approximately one hour south of Mountain Home, Idaho in the Big Jacks Creek Wilderness Area (Owyhee County). These data were acquired August 20, 2021. These data are sourced from US NSF Idaho EPSCOR.
These data are part of a larger collection (README.txt) of UAS imagery data and data products collected at Duncan Saddle, approximately one hour south of Mountain Home, Idaho. We used a DJI Mavic 2 Pro with Map Pilot Pro software to capture imagery over the area of interest. The imagery was collected in a crossgrid pattern at 44m above ground level; the resulting imagery have a ground resolution of 1cm/pixel. The images were processed and the products created in Agisoft Metashape Pro. All products are georectified and in WGS84 UTM Zone 12 N.
Recommended Citation: Roser, A., Marie, V., Olsoy, P., Delparte, D., & Caughlin, T. T. (2022). Unoccupied aerial systems imagery from Duncan Saddle Idaho (Version 1.0) [Data set]. University of Idaho. https://doi.org/10.7923/S6Q0-1V41
Individual image tiles can be downloaded using the Idaho Imagery Explorer.
These data can be bulk downloaded from a web accessible folder.
Data are sourced from: https://doi.org/10.7923/S6Q0-1V41
Name: imagery/duncansaddle_2021
Description: This collection contains 1 2021 1-centimeter natural color orthorectified image of Duncan Saddle, Idaho. This study area is approximately one hour south of Mountain Home, Idaho in the Big Jacks Creek Wilderness Area (Owyhee County). These data were acquired August 20, 2021. These data are sourced from US NSF Idaho EPSCOR.
These data are part of a larger collection (README.txt) of UAS imagery data and data products collected at Duncan Saddle, approximately one hour south of Mountain Home, Idaho. We used a DJI Mavic 2 Pro with Map Pilot Pro software to capture imagery over the area of interest. The imagery was collected in a crossgrid pattern at 44m above ground level; the resulting imagery have a ground resolution of 1cm/pixel. The images were processed and the products created in Agisoft Metashape Pro. All products are georectified and in WGS84 UTM Zone 12 N.
Recommended Citation: Roser, A., Marie, V., Olsoy, P., Delparte, D., & Caughlin, T. T. (2022). Unoccupied aerial systems imagery from Duncan Saddle Idaho (Version 1.0) [Data set]. University of Idaho. https://doi.org/10.7923/S6Q0-1V41
Individual image tiles can be downloaded using the Idaho Imagery Explorer.
These data can be bulk downloaded from a web accessible folder.
Data are sourced from: https://doi.org/10.7923/S6Q0-1V41
Single Fused Map Cache: false
Extent:
XMin: 86544.57990000024
YMin: 4723085.976041
XMax: 86918.30952030026
YMax: 4723526.3342
Spatial Reference: 32612
(32612)
Initial Extent:
XMin: 86544.57990000024
YMin: 4723085.976041
XMax: 86918.30952030026
YMax: 4723526.3342
Spatial Reference: 32612
(32612)
Full Extent:
XMin: 86544.57990000024
YMin: 4723085.976041
XMax: 86918.30952030026
YMax: 4723526.3342
Spatial Reference: 32612
(32612)
Pixel Size X: 0.009996780000000403
Pixel Size Y: 0.009996780000001227
Band Count: 3
Pixel Type: U16
RasterFunction Infos: {"rasterFunctionInfos": [{
"name": "None",
"description": "A No-Op Function.",
"help": ""
}]}
Mensuration Capabilities: Basic
Has Histograms: true
Has Colormap: false
Has Multi Dimensions : false
Rendering Rule:
Min Scale: 0
Max Scale: 0
Copyright Text: Creator(s): 1. Anna RoserUnique identifier: https://orcid.org/0000-0002-5184-2916Affiliation(s): Boise State University2. Valorie Marie Unique identifier: https://orcid.org/0000-0003-3051-4312Affiliation(s):Boise State University3. Peter OlsoyUnique identifier: https://orcid.org/0000-0002-8785-0459Affiliation(s):Boise State University, Idaho National Laboratory, Idaho State University, Washington State University4. Donna DelparteUnique identifier: https://orcid.org/0000-0002-9107-5117 Affiliation(s):Idaho State University5. Trevor Caughlin Unique identifier: https://orcid.org/0000-0001-6752-2055Affiliation(s): Boise State University, Fulbright Association, New College of Florida, University of FloridaOther Contributor(s): 1. Trevor CaughlinUnique identifier: https://orcid.org/0000-0001-6752-2055Affiliation(s): Boise State University, Fulbright Association, New College of Florida, University of FloridaRole: Contact person and Project leader2. Andrew Wright ChildUnique identifier: https://orcid.org/0000-0001-6666-0739 Affiliation(s): University of Idaho, Washington State UniversityRole: Data manager
Service Data Type: esriImageServiceDataTypeProcessed
Min Values: 5671, 7625, 9007
Max Values: 65535, 65535, 65535
Mean Values: 28655.579721748647, 28885.953764902104, 28158.007552611238
Standard Deviation Values: 3700.5477053650225, 3468.523658944058, 3290.333298705167
Object ID Field: OBJECTID
Fields:
-
OBJECTID
(
type: esriFieldTypeOID, alias: OBJECTID
)
-
Shape
(
type: esriFieldTypeGeometry, alias: Shape
)
-
Name
(
type: esriFieldTypeString, alias: Name, length: 200
)
-
Category
(
type: esriFieldTypeInteger, alias: Category
, Coded Values:
[0: Unknown]
, [1: Primary]
, [2: Overview]
, ...6 more...
)
-
AcqYearFirst
(
type: esriFieldTypeSmallInteger, alias: Acquisition Year First
)
-
AcqYearLast
(
type: esriFieldTypeSmallInteger, alias: Acquisition Year Last
)
-
Resolution
(
type: esriFieldTypeSingle, alias: Resolution (cm)
)
-
ProDef
(
type: esriFieldTypeSmallInteger, alias: Product Definition
, Coded Values:
[0: Unknown]
, [2: Natural Color]
, [3: Natural Color + Infrared]
, ...2 more...
)
-
DatasetID
(
type: esriFieldTypeSmallInteger, alias: Collection Name
, Coded Values:
[5: Island Park Reservoir 2016]
, [6: Challis National Forest 2010]
, [0: Idaho 2004]
, ...114 more...
)
-
Rectification
(
type: esriFieldTypeSmallInteger, alias: Rectification
, Coded Values:
[0: Unknown]
, [1: Orthorectified]
, [2: Georectified]
)
-
Constraints
(
type: esriFieldTypeSmallInteger, alias: Constraints
, Coded Values:
[1: Public]
, [2: Restricted]
)
-
Source
(
type: esriFieldTypeSmallInteger, alias: Source
, Coded Values:
[0: Unknown]
, [2: U.S. Geological Survey]
, [3: Idaho Department of Water Resources]
, ...11 more...
)
-
AcqDateFirst
(
type: esriFieldTypeDate, alias: Acquistition Date First, length: 8
)
-
AcqDateLast
(
type: esriFieldTypeDate, alias: Acquistition Date Last, length: 8
)
-
DownloadURL
(
type: esriFieldTypeString, alias: Download URL, length: 256
)
Default Mosaic Method: Northwest
Allowed Mosaic Methods: NorthWest,Center,LockRaster,ByAttribute,Nadir,Viewpoint,Seamline,None
SortField:
SortValue: null
Mosaic Operator: First
Default Compression Quality: 80
Default Resampling Method: Bilinear
Max Record Count: 1000
Max Image Height: 20000
Max Image Width: 25000
Max Download Image Count: 30000
Max Mosaic Image Count: 20
Allow Raster Function: true
Allow Copy: null
Allow Analysis: null
Allow Compute TiePoints: false
Supports Statistics: true
Supports Advanced Queries: true
Use StandardizedQueries: true
Raster Type Infos:
Name: Raster Dataset
Description: Supports all ArcGIS Raster Datasets
Help:
Has Raster Attribute Table: false
Edit Fields Info: null
Ownership Based AccessControl For Rasters: null
Child Resources:
Info
Histograms
Key Properties
Legend
Raster Function Infos
Supported Operations:
Export Image
Query
Identify
Download Rasters
Measure
Compute Histograms
Compute Statistics Histograms
Get Samples
Compute Class Statistics
Query Boundary
Compute Pixel Location
Validate
Project