View In:
ArcGIS JavaScript
ArcGIS Online Map Viewer
ArcGIS Earth
ArcMap
View Footprint In:
ArcGIS Online Map Viewer
Service Description: On May 3, 2016, Aero-Graphics acquired high resolution LiDAR data and digital 3-band stereo imagery over approximately 22 square miles located in Fremont County, Idaho. The LiDAR and orthoimagery deliverables were collected to support the Island Park Reservoir Enlargement Assessment. See the vendor supplied reportfor detailed collection information.
LiDAR and imagery acquisition for the Island Park Reservoir project was performed simultaneously with an Optech ALTM Orion H300 LiDAR sensor and an Optech CS-10000 aerial camera system. The LiDAR sensor and the aerial camera were paired in a customized mount to minimize error and increase accuracy between datasets. Aero-Graphics flew at an average altitude of 2,625 ft AGL (above ground level) and made appropriate adjustments to compensate for topographic relief. The imagery was acquired at a 5.9 cm ground sampling distance with 60% forward and 50% side overlap, collecting 2,579 images over 48 flightlines. LiDAR acquisition was performed with 50% overlap and yielded an average 8.8 points per square meter throughout the project area. The PRF (pulse rate frequency) used for collection was 125 kHz, scan frequency 57.1 Hz, and scan angle +/- 15° from the nadir position (full scan angle 30°).
Aero-Graphics, Geospatial Services, 40 W. Oakland Ave., Salt Lake City, UT 84115, (801) 487-3273, www.aero-graphics.com
Name: imagery/ipr_2016
Description: On May 3, 2016, Aero-Graphics acquired high resolution LiDAR data and digital 3-band stereo imagery over approximately 22 square miles located in Fremont County, Idaho. The LiDAR and orthoimagery deliverables were collected to support the Island Park Reservoir Enlargement Assessment. See the vendor supplied reportfor detailed collection information.
LiDAR and imagery acquisition for the Island Park Reservoir project was performed simultaneously with an Optech ALTM Orion H300 LiDAR sensor and an Optech CS-10000 aerial camera system. The LiDAR sensor and the aerial camera were paired in a customized mount to minimize error and increase accuracy between datasets. Aero-Graphics flew at an average altitude of 2,625 ft AGL (above ground level) and made appropriate adjustments to compensate for topographic relief. The imagery was acquired at a 5.9 cm ground sampling distance with 60% forward and 50% side overlap, collecting 2,579 images over 48 flightlines. LiDAR acquisition was performed with 50% overlap and yielded an average 8.8 points per square meter throughout the project area. The PRF (pulse rate frequency) used for collection was 125 kHz, scan frequency 57.1 Hz, and scan angle +/- 15° from the nadir position (full scan angle 30°).
Aero-Graphics, Geospatial Services, 40 W. Oakland Ave., Salt Lake City, UT 84115, (801) 487-3273, www.aero-graphics.com
Single Fused Map Cache: false
Extent:
XMin: 452518.4400000134
YMin: 4913033.340000006
XMax: 470514.4199999827
YMax: 4923579.719999989
Spatial Reference: 26912
(26912)
Initial Extent:
XMin: 452518.4400000134
YMin: 4913033.340000006
XMax: 470514.4199999827
YMax: 4923579.719999989
Spatial Reference: 26912
(26912)
Full Extent:
XMin: 452518.4400000134
YMin: 4913033.340000006
XMax: 470514.4199999827
YMax: 4923579.719999989
Spatial Reference: 26912
(26912)
Pixel Size X: 0.05999999999989766
Pixel Size Y: 0.0599999999998987
Band Count: 3
Pixel Type: U8
RasterFunction Infos: {"rasterFunctionInfos": [{
"name": "None",
"description": "A No-Op Function.",
"help": ""
}]}
Mensuration Capabilities: None
Has Histograms: true
Has Colormap: false
Has Multi Dimensions : false
Rendering Rule:
Min Scale: 0
Max Scale: 0
Copyright Text: Idaho Department of Water Resources
Service Data Type: esriImageServiceDataTypeProcessed
Min Values: 0, 0, 0
Max Values: 252, 247, 255
Mean Values: 64.9936369520476, 68.61210846807114, 51.34342426008663
Standard Deviation Values: 32.084098081050584, 23.58269738258494, 20.436460048402523
Object ID Field: OBJECTID
Fields:
-
OBJECTID
(
type: esriFieldTypeOID, alias: OBJECTID
)
-
Shape
(
type: esriFieldTypeGeometry, alias: Shape
)
-
Name
(
type: esriFieldTypeString, alias: Name, length: 200
)
-
Category
(
type: esriFieldTypeInteger, alias: Category
, Coded Values:
[0: Unknown]
, [1: Primary]
, [2: Overview]
, ...6 more...
)
-
AcqYearFirst
(
type: esriFieldTypeSmallInteger, alias: Acquisition Year First
)
-
AcqYearLast
(
type: esriFieldTypeSmallInteger, alias: Acquisition Year Last
)
-
Resolution
(
type: esriFieldTypeSingle, alias: Resolution (cm)
)
-
ProDef
(
type: esriFieldTypeSmallInteger, alias: Image Type
, Coded Values:
[0: Unknown]
, [2: Natural Color]
, [3: Natural Color + Infrared]
, ...2 more...
)
-
DatasetID
(
type: esriFieldTypeSmallInteger, alias: Collection Name
, Coded Values:
[5: Island Park Reservoir 2016]
, [6: Challis National Forest 2010]
, [0: Idaho 2004]
, ...114 more...
)
-
Rectification
(
type: esriFieldTypeSmallInteger, alias: Rectification
, Coded Values:
[0: Unknown]
, [1: Orthorectified]
, [2: Georectified]
)
-
Constraints
(
type: esriFieldTypeSmallInteger, alias: Constraints
, Coded Values:
[1: Public]
, [2: Restricted]
)
-
Source
(
type: esriFieldTypeSmallInteger, alias: Source
, Coded Values:
[0: Unknown]
, [2: U.S. Geological Survey]
, [3: Idaho Department of Water Resources]
, ...11 more...
)
-
AcqDateFirst
(
type: esriFieldTypeDate, alias: Acquistition Date First, length: 8
)
-
AcqDateLast
(
type: esriFieldTypeDate, alias: Acquistition Date Last, length: 8
)
-
DownloadURL
(
type: esriFieldTypeString, alias: Download URL, length: 256
)
Default Mosaic Method: Northwest
Allowed Mosaic Methods: NorthWest,Center,LockRaster,ByAttribute,Nadir,Viewpoint,Seamline,None
SortField:
SortValue: null
Mosaic Operator: First
Default Compression Quality: 80
Default Resampling Method: Bilinear
Max Record Count: 1000
Max Image Height: 20000
Max Image Width: 25000
Max Download Image Count: 30000
Max Mosaic Image Count: 20
Allow Raster Function: true
Allow Copy: null
Allow Analysis: null
Allow Compute TiePoints: false
Supports Statistics: true
Supports Advanced Queries: true
Use StandardizedQueries: true
Raster Type Infos:
Name: Raster Dataset
Description: Supports all ArcGIS Raster Datasets
Help:
Has Raster Attribute Table: false
Edit Fields Info: null
Ownership Based AccessControl For Rasters: null
Child Resources:
Info
Histograms
Key Properties
Legend
Raster Function Infos
Supported Operations:
Export Image
Query
Identify
Download Rasters
Compute Histograms
Compute Statistics Histograms
Get Samples
Compute Class Statistics
Query Boundary
Compute Pixel Location
Validate
Project