View In:
ArcGIS JavaScript
ArcGIS Online Map Viewer
ArcGIS Earth
ArcMap
View Footprint In:
ArcGIS Online Map Viewer
Service Description: This collection contains 226 2023 15.24-centimeter RGB (red, green, blue) orthorectified image of an area along Lanes Creek in Caribou County, Idaho. These data were acquired July 4, 2023-July 11, 2023. These data are sourced from the Idaho Department of Fish and Game.
These data are part of a larger collection of data products which include includes classified LAS 1.4 files, orthorectified color imagery with 0.5 foot pixel size in TIFF and SID formats, DEM surface data in TIFF format with a 1.5 foot cell size, one-foot contours, planimetric vector data, and DTM surface in DWG format, and Technical Project Report and Metadata including methodology, accuracy, and results, covering an area of approximately 25.5 square miles.
Name: imagery/lanescreek_2023
Description: This collection contains 226 2023 15.24-centimeter RGB (red, green, blue) orthorectified image of an area along Lanes Creek in Caribou County, Idaho. These data were acquired July 4, 2023-July 11, 2023. These data are sourced from the Idaho Department of Fish and Game.
These data are part of a larger collection of data products which include includes classified LAS 1.4 files, orthorectified color imagery with 0.5 foot pixel size in TIFF and SID formats, DEM surface data in TIFF format with a 1.5 foot cell size, one-foot contours, planimetric vector data, and DTM surface in DWG format, and Technical Project Report and Metadata including methodology, accuracy, and results, covering an area of approximately 25.5 square miles.
Single Fused Map Cache: false
Extent:
XMin: 877636.5
YMin: 375653
XMax: 916920.5
YMax: 469622.5
Spatial Reference: 102668
(2241)
Initial Extent:
XMin: 877636.5
YMin: 375653
XMax: 916920.5
YMax: 469622.5
Spatial Reference: 102668
(2241)
Full Extent:
XMin: 877636.5
YMin: 375653
XMax: 916920.5
YMax: 469622.5
Spatial Reference: 102668
(2241)
Pixel Size X: 0.5
Pixel Size Y: 0.5
Band Count: 3
Pixel Type: U8
RasterFunction Infos: {"rasterFunctionInfos": [{
"name": "None",
"description": "Make a Raster or Raster Dataset into a Function Raster Dataset.",
"help": ""
}]}
Mensuration Capabilities: None
Has Histograms: true
Has Colormap: false
Has Multi Dimensions : false
Rendering Rule:
Min Scale: 0
Max Scale: 0
Copyright Text: Aero-graphics, Inc.; Idaho Department of Fish and Game
Service Data Type: esriImageServiceDataTypeProcessed
Min Values: 0, 0, 0
Max Values: 255, 255, 249
Mean Values: 131.65822962478052, 136.52445858415933, 108.28648513770594
Standard Deviation Values: 24.775730613246555, 19.704037433153324, 18.07297000971666
Object ID Field: OBJECTID
Fields:
-
OBJECTID
(
type: esriFieldTypeOID, alias: OBJECTID
)
-
Shape
(
type: esriFieldTypeGeometry, alias: Shape
)
-
Name
(
type: esriFieldTypeString, alias: Name, length: 200
)
-
Category
(
type: esriFieldTypeInteger, alias: Category
, Coded Values:
[0: Unknown]
, [1: Primary]
, [2: Overview]
, ...6 more...
)
-
AcqYearFirst
(
type: esriFieldTypeSmallInteger, alias: Acquisition Year First
)
-
AcqYearLast
(
type: esriFieldTypeSmallInteger, alias: Acquisition Year Last
)
-
Resolution
(
type: esriFieldTypeSingle, alias: Resolution (cm)
)
-
ProDef
(
type: esriFieldTypeSmallInteger, alias: Product Definition
, Coded Values:
[0: Unknown]
, [2: Natural Color]
, [3: Natural Color + Infrared]
, ...2 more...
)
-
DatasetID
(
type: esriFieldTypeSmallInteger, alias: Collection Name
, Coded Values:
[5: Island Park Reservoir 2016]
, [6: Challis National Forest 2010]
, [0: Idaho 2004]
, ...122 more...
)
-
Rectification
(
type: esriFieldTypeSmallInteger, alias: Rectification
, Coded Values:
[0: Unknown]
, [1: Orthorectified]
, [2: Georectified]
)
-
Constraints
(
type: esriFieldTypeSmallInteger, alias: Constraints
, Coded Values:
[1: Public]
, [2: Restricted]
)
-
Source
(
type: esriFieldTypeSmallInteger, alias: Source
, Coded Values:
[0: Unknown]
, [2: U.S. Geological Survey]
, [3: Idaho Department of Water Resources]
, ...12 more...
)
-
AcqDateFirst
(
type: esriFieldTypeDate, alias: Acquistition Date First, length: 8
)
-
AcqDateLast
(
type: esriFieldTypeDate, alias: Acquistition Date Last, length: 8
)
-
DownloadURL
(
type: esriFieldTypeString, alias: Download URL, length: 256
)
Default Mosaic Method: Northwest
Allowed Mosaic Methods: NorthWest,Center,LockRaster,ByAttribute,Nadir,Viewpoint,Seamline,None
SortField:
SortValue: null
Mosaic Operator: First
Default Compression Quality: 80
Default Resampling Method: Bilinear
Max Record Count: 1000
Max Image Height: 20000
Max Image Width: 25000
Max Download Image Count: 30000
Max Mosaic Image Count: 20
Allow Raster Function: true
Allow Copy: true
Allow Analysis: true
Allow Compute TiePoints: false
Supports Statistics: true
Supports Advanced Queries: true
Use StandardizedQueries: true
Raster Type Infos:
Name: Raster Dataset
Description: Supports all ArcGIS Raster Datasets
Help:
Has Raster Attribute Table: false
Edit Fields Info: null
Ownership Based AccessControl For Rasters: null
Child Resources:
Info
Histograms
Statistics
Key Properties
Legend
Raster Function Infos
Supported Operations:
Export Image
Query
Identify
Compute Histograms
Compute Statistics Histograms
Get Samples
Compute Class Statistics
Query Boundary
Compute Pixel Location
Validate
Project