View In:
ArcGIS JavaScript
ArcGIS Online Map Viewer
ArcGIS Earth
ArcMap
View Footprint In:
ArcGIS Online Map Viewer
Service Description: This collections contains 89 2019 6-inch natural color digital orthorectified images of the southern portion of the City of McCall Impact Area. The southern portion of the Impact Area covers the City of McCall and surrounding areas. These data were acquired on October 25, 2019. These data are sourced from the City of McCall GIS Department.
No geospatial standards-based metadata accompanied the delivery of these data. However, data acquisition details can be found in a Technical Project Report.
Individual image tiles can be downloaded using the Idaho Aerial Imagery Explorer.
These data can be bulk downloaded from a web accessible folder.
Name: imagery/mccallimpactareasouth_2019
Description: This collections contains 89 2019 6-inch natural color digital orthorectified images of the southern portion of the City of McCall Impact Area. The southern portion of the Impact Area covers the City of McCall and surrounding areas. These data were acquired on October 25, 2019. These data are sourced from the City of McCall GIS Department.
No geospatial standards-based metadata accompanied the delivery of these data. However, data acquisition details can be found in a Technical Project Report.
Individual image tiles can be downloaded using the Idaho Aerial Imagery Explorer.
These data can be bulk downloaded from a web accessible folder.
Single Fused Map Cache: false
Extent:
XMin: 2517250
YMin: 1164150
XMax: 2544500
YMax: 1195300
Spatial Reference: 103269
(103269)
Initial Extent:
XMin: 2517250
YMin: 1164150
XMax: 2544500
YMax: 1195300
Spatial Reference: 103269
(103269)
Full Extent:
XMin: 2517250
YMin: 1164150
XMax: 2544500
YMax: 1195300
Spatial Reference: 103269
(103269)
Pixel Size X: 0.5
Pixel Size Y: 0.5
Band Count: 3
Pixel Type: U8
RasterFunction Infos: {"rasterFunctionInfos": [{
"name": "None",
"description": "A No-Op Function.",
"help": ""
}]}
Mensuration Capabilities: Basic
Has Histograms: true
Has Colormap: false
Has Multi Dimensions : false
Rendering Rule:
Min Scale: 0
Max Scale: 0
Copyright Text: McCall GIS Department; GeoTerra, Inc.
Service Data Type: esriImageServiceDataTypeProcessed
Min Values: 0, 0, 15
Max Values: 255, 255, 255
Mean Values: 90.8506692912255, 94.09860330501009, 95.64566164259482
Standard Deviation Values: 47.689218150064775, 43.195238085323616, 39.04045757001743
Object ID Field: OBJECTID
Fields:
-
OBJECTID
(
type: esriFieldTypeOID, alias: OBJECTID
)
-
Shape
(
type: esriFieldTypeGeometry, alias: Shape
)
-
Name
(
type: esriFieldTypeString, alias: Name, length: 200
)
-
Category
(
type: esriFieldTypeInteger, alias: Category
, Coded Values:
[0: Unknown]
, [1: Primary]
, [2: Overview]
, ...6 more...
)
-
AcqYearFirst
(
type: esriFieldTypeSmallInteger, alias: Acquisition Year First
)
-
AcqYearLast
(
type: esriFieldTypeSmallInteger, alias: Acquisition Year Last
)
-
Resolution
(
type: esriFieldTypeSingle, alias: Resolution (cm)
)
-
ProDef
(
type: esriFieldTypeSmallInteger, alias: Product Definition
, Coded Values:
[0: Unknown]
, [2: Natural Color]
, [3: Natural Color + Infrared]
, ...2 more...
)
-
DatasetID
(
type: esriFieldTypeSmallInteger, alias: Collection Name
, Coded Values:
[5: Island Park Reservoir 2016]
, [6: Challis National Forest 2010]
, [0: Idaho 2004]
, ...114 more...
)
-
Rectification
(
type: esriFieldTypeSmallInteger, alias: Rectification
, Coded Values:
[0: Unknown]
, [1: Orthorectified]
, [2: Georectified]
)
-
Constraints
(
type: esriFieldTypeSmallInteger, alias: Constraints
, Coded Values:
[1: Public]
, [2: Restricted]
)
-
Source
(
type: esriFieldTypeSmallInteger, alias: Source
, Coded Values:
[0: Unknown]
, [2: U.S. Geological Survey]
, [3: Idaho Department of Water Resources]
, ...11 more...
)
-
AcqDateFirst
(
type: esriFieldTypeDate, alias: Acquistition Date First, length: 8
)
-
AcqDateLast
(
type: esriFieldTypeDate, alias: Acquistition Date Last, length: 8
)
-
DownloadURL
(
type: esriFieldTypeString, alias: Download URL, length: 256
)
Default Mosaic Method: Northwest
Allowed Mosaic Methods: NorthWest,Center,LockRaster,ByAttribute,Nadir,Viewpoint,Seamline,None
SortField:
SortValue: null
Mosaic Operator: First
Default Compression Quality: 80
Default Resampling Method: Bilinear
Max Record Count: 1000
Max Image Height: 20000
Max Image Width: 25000
Max Download Image Count: 30000
Max Mosaic Image Count: 20
Allow Raster Function: true
Allow Copy: null
Allow Analysis: null
Allow Compute TiePoints: false
Supports Statistics: true
Supports Advanced Queries: true
Use StandardizedQueries: true
Raster Type Infos:
Name: Raster Dataset
Description: Supports all ArcGIS Raster Datasets
Help:
Has Raster Attribute Table: false
Edit Fields Info: null
Ownership Based AccessControl For Rasters: null
Child Resources:
Info
Histograms
Key Properties
Legend
Raster Function Infos
Supported Operations:
Export Image
Query
Identify
Download Rasters
Measure
Compute Histograms
Compute Statistics Histograms
Get Samples
Compute Class Statistics
Query Boundary
Compute Pixel Location
Validate
Project