View In:
ArcGIS JavaScript
ArcGIS Online Map Viewer
ArcGIS Earth
ArcMap
View Footprint In:
ArcGIS Online Map Viewer
Service Description: These data were created for the City of Moscow, Idaho as a seamless 3-inch pixel resolution orthorectified aerial image covering approximately 25 square miles of the city and environs. Additionally, topographic data were included in the collection. Topographic data extraction includes 1-foot interval contour mapping in both NAVD88 and NGVD29 (adjusted at -~3.60' relative to NAVD88). An UltraCamX Digital Camera System was used to collect the project area on April 19, 2018, with a 60 percent forward / 30 percent side overlap. Native projection is Idaho West State Plane, NAD83(2011), NAVD88 with units in US Survey Feet. Control for the project was provided by the City of Moscow and an original surface extraction was generated. The orthophotography content was processed as 24-bit . These data were contributed to the University of Idaho Library by the City of Moscow in coordination with University of Idaho Facilities Services.
Name: imagery/moscow_2018
Description: These data were created for the City of Moscow, Idaho as a seamless 3-inch pixel resolution orthorectified aerial image covering approximately 25 square miles of the city and environs. Additionally, topographic data were included in the collection. Topographic data extraction includes 1-foot interval contour mapping in both NAVD88 and NGVD29 (adjusted at -~3.60' relative to NAVD88). An UltraCamX Digital Camera System was used to collect the project area on April 19, 2018, with a 60 percent forward / 30 percent side overlap. Native projection is Idaho West State Plane, NAD83(2011), NAVD88 with units in US Survey Feet. Control for the project was provided by the City of Moscow and an original surface extraction was generated. The orthophotography content was processed as 24-bit . These data were contributed to the University of Idaho Library by the City of Moscow in coordination with University of Idaho Facilities Services.
Single Fused Map Cache: false
Extent:
XMin: 2300650.25
YMin: 1838600
XMax: 2325380
YMax: 1860300
Spatial Reference: 103034
(6453)
Initial Extent:
XMin: 2300650.25
YMin: 1838600
XMax: 2325380
YMax: 1860300
Spatial Reference: 103034
(6453)
Full Extent:
XMin: 2300650.25
YMin: 1838600
XMax: 2325380
YMax: 1860300
Spatial Reference: 103034
(6453)
Pixel Size X: 0.25
Pixel Size Y: 0.25
Band Count: 3
Pixel Type: U8
RasterFunction Infos: {"rasterFunctionInfos": [{
"name": "None",
"description": "A No-Op Function.",
"help": ""
}]}
Mensuration Capabilities: Basic
Has Histograms: true
Has Colormap: false
Has Multi Dimensions : false
Rendering Rule:
Min Scale: 0
Max Scale: 0
Copyright Text: City of Moscow; Access Geographic, LLC, Tempe, Arizona in conjunction with Zennacle Geospatial and Peregrine Aerial Surveys
Service Data Type: esriImageServiceDataTypeProcessed
Min Values: 10, 11, 15
Max Values: 255, 255, 250
Mean Values: 93.99898558564907, 89.34934135525744, 75.29655799551816
Standard Deviation Values: 23.782616137881387, 20.16288862772073, 19.24864727642559
Object ID Field: OBJECTID
Fields:
-
OBJECTID
(
type: esriFieldTypeOID, alias: OBJECTID
)
-
Shape
(
type: esriFieldTypeGeometry, alias: Shape
)
-
Name
(
type: esriFieldTypeString, alias: Name, length: 200
)
-
Category
(
type: esriFieldTypeInteger, alias: Category
, Coded Values:
[0: Unknown]
, [1: Primary]
, [2: Overview]
, ...6 more...
)
-
AcqYearFirst
(
type: esriFieldTypeSmallInteger, alias: Acquisition Year First
)
-
AcqYearLast
(
type: esriFieldTypeSmallInteger, alias: Acquisition Year Last
)
-
Resolution
(
type: esriFieldTypeSingle, alias: Resolution (cm)
)
-
ProDef
(
type: esriFieldTypeSmallInteger, alias: Product Definition
, Coded Values:
[0: Unknown]
, [2: Natural Color]
, [3: Natural Color + Infrared]
, ...2 more...
)
-
DatasetID
(
type: esriFieldTypeSmallInteger, alias: Collection Name
, Coded Values:
[5: Island Park Reservoir 2016]
, [6: Challis National Forest 2010]
, [0: Idaho 2004]
, ...114 more...
)
-
Rectification
(
type: esriFieldTypeSmallInteger, alias: Rectification
, Coded Values:
[0: Unknown]
, [1: Orthorectified]
, [2: Georectified]
)
-
Constraints
(
type: esriFieldTypeSmallInteger, alias: Constraints
, Coded Values:
[1: Public]
, [2: Restricted]
)
-
Source
(
type: esriFieldTypeSmallInteger, alias: Source
, Coded Values:
[0: Unknown]
, [2: U.S. Geological Survey]
, [3: Idaho Department of Water Resources]
, ...11 more...
)
-
AcqDateFirst
(
type: esriFieldTypeDate, alias: Acquistition Date First, length: 8
)
-
AcqDateLast
(
type: esriFieldTypeDate, alias: Acquistition Date Last, length: 8
)
-
DownloadURL
(
type: esriFieldTypeString, alias: Download URL, length: 256
)
Default Mosaic Method: Northwest
Allowed Mosaic Methods: NorthWest,Center,LockRaster,ByAttribute,Nadir,Viewpoint,Seamline,None
SortField:
SortValue: null
Mosaic Operator: First
Default Compression Quality: 80
Default Resampling Method: Bilinear
Max Record Count: 1000
Max Image Height: 20000
Max Image Width: 25000
Max Download Image Count: 30000
Max Mosaic Image Count: 20
Allow Raster Function: true
Allow Copy: null
Allow Analysis: null
Allow Compute TiePoints: false
Supports Statistics: true
Supports Advanced Queries: true
Use StandardizedQueries: true
Raster Type Infos:
Name: Raster Dataset
Description: Supports all ArcGIS Raster Datasets
Help:
Has Raster Attribute Table: false
Edit Fields Info: null
Ownership Based AccessControl For Rasters: null
Child Resources:
Info
Histograms
Key Properties
Legend
Raster Function Infos
Supported Operations:
Export Image
Query
Identify
Download Rasters
Measure
Compute Histograms
Compute Statistics Histograms
Get Samples
Compute Class Statistics
Query Boundary
Compute Pixel Location
Validate
Project