View In:
ArcGIS JavaScript
ArcGIS Online Map Viewer
ArcGIS Earth
ArcMap
View Footprint In:
ArcGIS Online Map Viewer
Service Description: This image web service contains all digital elevation collections at the University of Idaho Library. Individual collections can be filtered by the 'DatasetID' field. The default image display order is from highest resolution to lowest resolution. New collections continue to be added to this collection as they are received and processed.
Name: elevation/elevation_bedem
Description: This image web service contains all digital elevation collections at the University of Idaho Library. Individual collections can be filtered by the 'DatasetID' field. The default image display order is from highest resolution to lowest resolution. New collections continue to be added to this collection as they are received and processed.
Single Fused Map Cache: false
Extent:
XMin: -1.31357015263E7
YMin: 5083815.154699998
XMax: -1.22809941263E7
YMax: 6274956.754699998
Spatial Reference: 102100
(3857)
Initial Extent:
XMin: -1.31357015263E7
YMin: 5083815.154699998
XMax: -1.22809941263E7
YMax: 6274956.754699998
Spatial Reference: 102100
(3857)
Full Extent:
XMin: -1.31357015263E7
YMin: 5083815.154699998
XMax: -1.22809941263E7
YMax: 6274956.754699998
Spatial Reference: 102100
(3857)
Pixel Size X: 0.2000000000000001
Pixel Size Y: 0.19999999999999993
Band Count: 1
Pixel Type: F32
RasterFunction Infos: {"rasterFunctionInfos": [
{
"name": "None",
"description": "A No-Op Function.",
"help": ""
},
{
"name": "GrayscaleHillshade",
"description": "A raster function template.",
"help": ""
}
]}
Mensuration Capabilities: Basic
Has Histograms: false
Has Colormap: false
Has Multi Dimensions : false
Rendering Rule:
Min Scale: 0
Max Scale: 0
Copyright Text: University of Idaho Library
Service Data Type: esriImageServiceDataTypeElevation
Min Values: 195
Max Values: 3991
Mean Values: 0
Standard Deviation Values: -1
Object ID Field: OBJECTID
Fields:
-
OBJECTID
(
type: esriFieldTypeOID, alias: OBJECTID
)
-
Shape
(
type: esriFieldTypeGeometry, alias: Shape
)
-
Name
(
type: esriFieldTypeString, alias: Name, length: 200
)
-
MaxPS
(
type: esriFieldTypeDouble, alias: MaxPS
)
-
Category
(
type: esriFieldTypeInteger, alias: Category
, Coded Values:
[0: Unknown]
, [1: Primary]
, [2: Overview]
, ...6 more...
)
-
AcqYearFirst
(
type: esriFieldTypeSmallInteger, alias: Acquisition Year First
)
-
AcqYearLast
(
type: esriFieldTypeSmallInteger, alias: Acquisition Year Last
)
-
Resolution
(
type: esriFieldTypeSingle, alias: Resolution (cm)
)
-
LE90
(
type: esriFieldTypeSingle, alias: Horizontal Accuracy (cm)
)
-
CE90
(
type: esriFieldTypeSingle, alias: Vertical Accuracy (cm)
)
-
DEMType
(
type: esriFieldTypeSmallInteger, alias: Elevation Type
, Coded Values:
[0: Undefined]
, [1: Digital Surface Model (DSM)]
, [2: Bare Earth DEM]
)
-
VerticalDatum
(
type: esriFieldTypeSmallInteger, alias: Vertical Datum
, Coded Values:
[0: Unknown]
, [1: NADV88]
)
-
DatasetID
(
type: esriFieldTypeSmallInteger, alias: Collection Name
, Coded Values:
[1: Idaho 1 arc-second (~30-meter)]
, [2: Idaho 1/3 arc-second (~10-meter)]
)
-
Constraints
(
type: esriFieldTypeSmallInteger, alias: Constraints
, Coded Values:
[0: Unknown]
, [1: Public]
, [2: Restricted]
)
-
Source
(
type: esriFieldTypeSmallInteger, alias: Source
, Coded Values:
[0: Unknown]
, [1: U.S. Geological Survey]
)
-
AcqDateFirst
(
type: esriFieldTypeDate, alias: Acquistition Date First, length: 8
)
-
AcqDateLast
(
type: esriFieldTypeDate, alias: Acquistition Date Last, length: 8
)
-
DownloadURL
(
type: esriFieldTypeString, alias: Download URL, length: 256
)
Default Mosaic Method: ByAttribute
Allowed Mosaic Methods: ByAttribute,LockRaster
SortField: Resolution
SortValue: 0
Mosaic Operator: First
Default Compression Quality: 80
Default Resampling Method: Bilinear
Max Record Count: 1000
Max Image Height: 4100
Max Image Width: 15000
Max Download Image Count: 20
Max Mosaic Image Count: 20
Allow Raster Function: true
Allow Copy: true
Allow Analysis: true
Allow Compute TiePoints: false
Supports Statistics: true
Supports Advanced Queries: true
Use StandardizedQueries: true
Raster Type Infos:
Name: Raster Dataset
Description: Supports all ArcGIS Raster Datasets
Help:
Has Raster Attribute Table: false
Edit Fields Info: null
Ownership Based AccessControl For Rasters: null
Child Resources:
Info
Statistics
Key Properties
Legend
Raster Function Infos
Supported Operations:
Export Image
Query
Identify
Download Rasters
Measure
Compute Histograms
Compute Statistics Histograms
Get Samples
Compute Class Statistics
Query Boundary
Compute Pixel Location
Compute Angles
Validate
Project
Calculate Volume