View In:
ArcGIS JavaScript
ArcGIS Online Map Viewer
ArcGIS Earth
ArcMap
View Footprint In:
ArcGIS Online Map Viewer
Service Description: These data were contributed to the University of Idaho Library by Nez Perce County GIS. These data were purchased by Nez Perce County and the Nez Perce County Soil Water Conservation District to support their business operations. No standards-based metadata accompanied these data.
These data were acquired by:Northwest Aerial Systems, PLLC P.O. Box 357Genesee, ID 83832 Gregg N Teasdale, PhD, PE Principal Engineer Phone | (208) 301-0254Email | teasdale@nwasimaging.com
This collections also contains non-georeferenced aerial obliques of the canyons, aerial stereo anaglyphs of the canyons, GIS images of significant burn sites, and GIS layers of possible erosion sites.
Name: imagery/bigcanyoncreek_2015
Description: These data were contributed to the University of Idaho Library by Nez Perce County GIS. These data were purchased by Nez Perce County and the Nez Perce County Soil Water Conservation District to support their business operations. No standards-based metadata accompanied these data.
These data were acquired by:Northwest Aerial Systems, PLLC P.O. Box 357Genesee, ID 83832 Gregg N Teasdale, PhD, PE Principal Engineer Phone | (208) 301-0254Email | teasdale@nwasimaging.com
This collections also contains non-georeferenced aerial obliques of the canyons, aerial stereo anaglyphs of the canyons, GIS images of significant burn sites, and GIS layers of possible erosion sites.
Single Fused Map Cache: false
Extent:
XMin: 535821.6950088846
YMin: 5126470.584105898
XMax: 552039.5150088846
YMax: 5136933.804105897
Spatial Reference: 32611
(32611)
Initial Extent:
XMin: 535821.6950088846
YMin: 5126470.584105898
XMax: 552039.5150088846
YMax: 5136933.804105897
Spatial Reference: 32611
(32611)
Full Extent:
XMin: 535821.6950088846
YMin: 5126470.584105898
XMax: 552039.5150088846
YMax: 5136933.804105897
Spatial Reference: 32611
(32611)
Pixel Size X: 0.17999999999999944
Pixel Size Y: 0.17999999999999552
Band Count: 3
Pixel Type: U8
RasterFunction Infos: {"rasterFunctionInfos": [{
"name": "None",
"description": "A No-Op Function.",
"help": ""
}]}
Mensuration Capabilities: None
Has Histograms: true
Has Colormap: false
Has Multi Dimensions : false
Rendering Rule:
Min Scale: 0
Max Scale: 0
Copyright Text: Nez Perce County; Nez Perce County Soil Water Conservation District; Northwest Aerial Systems
Service Data Type: esriImageServiceDataTypeProcessed
Min Values: 0, 6, 33
Max Values: 255, 253, 254
Mean Values: 154.23211049837775, 140.9837576251206, 127.04688371160638
Standard Deviation Values: 41.58798558418336, 33.35174569589175, 21.35670269431418
Object ID Field: OBJECTID
Fields:
-
OBJECTID
(
type: esriFieldTypeOID, alias: OBJECTID
)
-
Shape
(
type: esriFieldTypeGeometry, alias: Shape
)
-
Name
(
type: esriFieldTypeString, alias: Name, length: 200
)
-
Category
(
type: esriFieldTypeInteger, alias: Category
, Coded Values:
[0: Unknown]
, [1: Primary]
, [2: Overview]
, ...6 more...
)
-
AcqYearFirst
(
type: esriFieldTypeSmallInteger, alias: Acquisition Year First
)
-
AcqYearLast
(
type: esriFieldTypeSmallInteger, alias: Acquisition Year Last
)
-
Resolution
(
type: esriFieldTypeSingle, alias: Resolution (cm)
)
-
ProDef
(
type: esriFieldTypeSmallInteger, alias: Product Definition
, Coded Values:
[0: Unknown]
, [2: Natural Color]
, [3: Natural Color + Infrared]
, ...2 more...
)
-
DatasetID
(
type: esriFieldTypeSmallInteger, alias: Collection Name
, Coded Values:
[5: Island Park Reservoir 2016]
, [6: Challis National Forest 2010]
, [0: Idaho 2004]
, ...134 more...
)
-
Rectification
(
type: esriFieldTypeSmallInteger, alias: Rectification
, Coded Values:
[0: Unknown]
, [1: Orthorectified]
, [2: Georectified]
)
-
Constraints
(
type: esriFieldTypeSmallInteger, alias: Constraints
, Coded Values:
[1: Public]
, [2: Restricted]
)
-
Source
(
type: esriFieldTypeSmallInteger, alias: Source
, Coded Values:
[0: Unknown]
, [2: U.S. Geological Survey]
, [3: Idaho Department of Water Resources]
, ...12 more...
)
-
AcqDateFirst
(
type: esriFieldTypeDate, alias: Acquistition Date First, length: 8
)
-
AcqDateLast
(
type: esriFieldTypeDate, alias: Acquistition Date Last, length: 8
)
-
DownloadURL
(
type: esriFieldTypeString, alias: Download URL, length: 256
)
Default Mosaic Method: Northwest
Allowed Mosaic Methods: NorthWest,Center,LockRaster,ByAttribute,Nadir,Viewpoint,Seamline,None
SortField:
SortValue: null
Mosaic Operator: First
Default Compression Quality: 80
Default Resampling Method: Bilinear
Max Record Count: 1000
Max Image Height: 20000
Max Image Width: 25000
Max Download Image Count: 30000
Max Mosaic Image Count: 20
Allow Raster Function: true
Allow Copy: true
Allow Analysis: true
Allow Compute TiePoints: false
Supports Statistics: true
Supports Advanced Queries: true
Use StandardizedQueries: true
Raster Type Infos:
Name: Raster Dataset
Description: Supports all ArcGIS Raster Datasets
Help:
Has Raster Attribute Table: false
Edit Fields Info: null
Ownership Based AccessControl For Rasters: null
Child Resources:
Info
Histograms
Statistics
Key Properties
Legend
Raster Function Infos
Supported Operations:
Export Image
Query
Identify
Download Rasters
Compute Histograms
Compute Statistics Histograms
Get Samples
Compute Class Statistics
Query Boundary
Compute Pixel Location
Compute Angles
Validate
Project