View In:
ArcGIS JavaScript
ArcGIS Online Map Viewer
ArcGIS Earth
ArcMap
View Footprint In:
ArcGIS Online Map Viewer
Service Description: This collection contains 4 2021 1-centimeter color infrared orthorectified image of an area near Castle Rocks State Park, Idaho. These data were acquired in September, 2021. These data are sourced from US NSF Idaho EPSCOR.These data are part of a larger collection (README.txt) of UAS imagery data and data products.The images used to make these data products were collected at and near Castle Rocks State Park, Idaho, in September 2021. A DJI Mavic 2 Pro with Map Pilot Pro software was used to capture imagery over four sites of interest. The imagery was collected in a crossgrid pattern at 40m above ground level; the resulting imagery have a ground resolution of 1cm/pixel. The images were processed and the products created in Agisoft Metashape Pro. All products are georectified and in WGS84 UTM Zone 12 N. The sites are located along an elevation gradient, ranging from 5,300-6,000ft. The vegetation in Site 1 is dominated about mountain big sagebrush (Artemisia tridentata spp. vaseyana), pinyon pine (Pinus cembroides), and juniper (Juniperus occidentalis). Site 2 and 3 contain a mix of basin big sagebrush (Artemisia tridentata spp. tridentata), rabbit brush (Ericameria nauseosa), and bitterbrush (Purshia tridentata). Site 4 contains Wyoming big sagebrush (Artemisia tridentata spp. wyomingensis).Recommended Citation:Roser, A., Marie, V., Olsoy, P., Delparte, D., & Caughlin, T. T. (2022). Unoccupied aerial systems imagery near Castle Rocks Idaho-2021 (Version 1.0) [Data set]. University of Idaho. https://doi.org/10.7923/Z23P-9444See the Data Processing Reports (Site C1, Site C2, Site C3, Site C4) to learn more about camera location, camera calibrarion, and image overlap.Individual image tiles can be downloaded using the Idaho Imagery Explorer.These data can be bulk downloaded from a web accessible folder.Data are sourced from: https://doi.org/10.7923/Z23P-9444
Name: imagery/castlerockssept_2021
Description: This collection contains 4 2021 1-centimeter color infrared orthorectified image of an area near Castle Rocks State Park, Idaho. These data were acquired in September, 2021. These data are sourced from US NSF Idaho EPSCOR.These data are part of a larger collection (README.txt) of UAS imagery data and data products.The images used to make these data products were collected at and near Castle Rocks State Park, Idaho, in September 2021. A DJI Mavic 2 Pro with Map Pilot Pro software was used to capture imagery over four sites of interest. The imagery was collected in a crossgrid pattern at 40m above ground level; the resulting imagery have a ground resolution of 1cm/pixel. The images were processed and the products created in Agisoft Metashape Pro. All products are georectified and in WGS84 UTM Zone 12 N. The sites are located along an elevation gradient, ranging from 5,300-6,000ft. The vegetation in Site 1 is dominated about mountain big sagebrush (Artemisia tridentata spp. vaseyana), pinyon pine (Pinus cembroides), and juniper (Juniperus occidentalis). Site 2 and 3 contain a mix of basin big sagebrush (Artemisia tridentata spp. tridentata), rabbit brush (Ericameria nauseosa), and bitterbrush (Purshia tridentata). Site 4 contains Wyoming big sagebrush (Artemisia tridentata spp. wyomingensis).Recommended Citation:Roser, A., Marie, V., Olsoy, P., Delparte, D., & Caughlin, T. T. (2022). Unoccupied aerial systems imagery near Castle Rocks Idaho-2021 (Version 1.0) [Data set]. University of Idaho. https://doi.org/10.7923/Z23P-9444See the Data Processing Reports (Site C1, Site C2, Site C3, Site C4) to learn more about camera location, camera calibrarion, and image overlap.Individual image tiles can be downloaded using the Idaho Imagery Explorer.These data can be bulk downloaded from a web accessible folder.Data are sourced from: https://doi.org/10.7923/Z23P-9444
Single Fused Map Cache: false
Extent:
XMin: 279648.15918878274
YMin: 4662410.587233842
XMax: 282036.0468969448
YMax: 4668834.568930401
Spatial Reference: 32612
(32612)
Initial Extent:
XMin: 279648.15918878274
YMin: 4662410.587233842
XMax: 282036.0468969448
YMax: 4668834.568930401
Spatial Reference: 32612
(32612)
Full Extent:
XMin: 279648.15918878274
YMin: 4662410.587233842
XMax: 282036.0468969448
YMax: 4668834.568930401
Spatial Reference: 32612
(32612)
Pixel Size X: 0.005000989999983401
Pixel Size Y: 0.005000989999983017
Band Count: 4
Pixel Type: U16
RasterFunction Infos: {"rasterFunctionInfos": [
{
"name": "None",
"description": "A No-Op Function.",
"help": ""
},
{
"name": "Color Infrared",
"description": "Display color infrared (CIR). A band combination (4,1,2 | near infrared + red + green) useful in seeing changes in plant health.",
"help": ""
}
]}
Mensuration Capabilities: Basic
Has Histograms: true
Has Colormap: false
Has Multi Dimensions : false
Rendering Rule:
Min Scale: 0
Max Scale: 0
Copyright Text: Creator(s): 1. Anna Roser Unique identifier: https://orcid.org/0000-0002-5184-2916 Affiliation(s): Boise State University 2. Valorie Marie Unique identifier: https://orcid.org/0000-0003-3051-4312 Affiliation(s):Boise State University 3. Peter Olsoy Unique identifier: https://orcid.org/0000-0002-8785-0459 Affiliation(s):Boise State University, Idaho National Laboratory, Idaho State University, Washington State University 4. Donna Delparte Unique identifier: https://orcid.org/0000-0002-9107-5117 Affiliation(s):Idaho State University 5. Trevor Caughlin Unique identifier: https://orcid.org/0000-0001-6752-2055 Affiliation(s): Boise State University, Fulbright Association, New College of Florida, University of FloridaOther Contributor(s): 1. Unique identifier: https://orcid.org/0000-0001-6752-2055 Full Name: Trevor Caughlin Affiliation(s): Boise State University, Fulbright Association, New College of Florida, University of Florida Role: Contact person and Project leader 2. Unique identifier: https://orcid.org/0000-0001-6666-0739 Full Name: Andrew Wright Child Affiliation(s): University of Idaho Role: Data manager
Service Data Type: esriImageServiceDataTypeProcessed
Min Values: 7572, 9486, 8745, 24539
Max Values: 51471, 50271, 46057, 65535
Mean Values: 31460.58620689651, 31149.014863258017, 28719.47740784778, 64684.60998810932
Standard Deviation Values: 6525.217185250907, 5662.576270726048, 5666.752304952811, 3607.594174135181
Object ID Field: OBJECTID
Fields:
-
OBJECTID
(
type: esriFieldTypeOID, alias: OBJECTID
)
-
Shape
(
type: esriFieldTypeGeometry, alias: Shape
)
-
Name
(
type: esriFieldTypeString, alias: Name, length: 200
)
-
Category
(
type: esriFieldTypeInteger, alias: Category
, Coded Values:
[0: Unknown]
, [1: Primary]
, [2: Overview]
, ...6 more...
)
-
AcqYearFirst
(
type: esriFieldTypeSmallInteger, alias: Acquisition Year First
)
-
AcqYearLast
(
type: esriFieldTypeSmallInteger, alias: Acquisition Year Last
)
-
Resolution
(
type: esriFieldTypeSingle, alias: Resolution (cm)
)
-
ProDef
(
type: esriFieldTypeSmallInteger, alias: Product Definition
, Coded Values:
[0: Unknown]
, [2: Natural Color]
, [3: Natural Color + Infrared]
, ...2 more...
)
-
DatasetID
(
type: esriFieldTypeSmallInteger, alias: Collection Name
, Coded Values:
[5: Island Park Reservoir 2016]
, [6: Challis National Forest 2010]
, [0: Idaho 2004]
, ...134 more...
)
-
Rectification
(
type: esriFieldTypeSmallInteger, alias: Rectification
, Coded Values:
[0: Unknown]
, [1: Orthorectified]
, [2: Georectified]
)
-
Constraints
(
type: esriFieldTypeSmallInteger, alias: Constraints
, Coded Values:
[1: Public]
, [2: Restricted]
)
-
Source
(
type: esriFieldTypeSmallInteger, alias: Source
, Coded Values:
[0: Unknown]
, [2: U.S. Geological Survey]
, [3: Idaho Department of Water Resources]
, ...12 more...
)
-
AcqDateFirst
(
type: esriFieldTypeDate, alias: Acquistition Date First, length: 8
)
-
AcqDateLast
(
type: esriFieldTypeDate, alias: Acquistition Date Last, length: 8
)
-
DownloadURL
(
type: esriFieldTypeString, alias: Download URL, length: 256
)
Default Mosaic Method: Northwest
Allowed Mosaic Methods: NorthWest,Center,LockRaster,ByAttribute,Nadir,Viewpoint,Seamline,None
SortField:
SortValue: null
Mosaic Operator: First
Default Compression Quality: 80
Default Resampling Method: Bilinear
Max Record Count: 1000
Max Image Height: 20000
Max Image Width: 25000
Max Download Image Count: 30000
Max Mosaic Image Count: 20
Allow Raster Function: true
Allow Copy: true
Allow Analysis: true
Allow Compute TiePoints: false
Supports Statistics: true
Supports Advanced Queries: true
Use StandardizedQueries: true
Raster Type Infos:
Name: Raster Dataset
Description: Supports all ArcGIS Raster Datasets
Help:
Has Raster Attribute Table: false
Edit Fields Info: null
Ownership Based AccessControl For Rasters: null
Child Resources:
Info
Histograms
Statistics
Key Properties
Legend
Raster Function Infos
Supported Operations:
Export Image
Query
Identify
Download Rasters
Measure
Compute Histograms
Compute Statistics Histograms
Get Samples
Compute Class Statistics
Query Boundary
Compute Pixel Location
Compute Angles
Validate
Project