View In:
ArcGIS JavaScript
ArcGIS Online Map Viewer
ArcGIS Earth
ArcMap
View Footprint In:
ArcGIS Online Map Viewer
Service Description: These data were acquired for a research project study area within Challis National Forest, Idaho under the National Science Foundation award EPS-0814387, Water Resources in a Changing Climate. Each individual tile covers approximately 750 x 750 meters. See the vendor supplied PDF Reportfor detailed collection information.
Orthoimagery serves a variety of purposes, from interim maps to field references for earth science investigations and analysis. Orthoimagery is useful as a layer of a geographic information system and as a tool for revision of digital line graphs and topographic maps.
Name: imagery/challisnf_2010
Description: These data were acquired for a research project study area within Challis National Forest, Idaho under the National Science Foundation award EPS-0814387, Water Resources in a Changing Climate. Each individual tile covers approximately 750 x 750 meters. See the vendor supplied PDF Reportfor detailed collection information.
Orthoimagery serves a variety of purposes, from interim maps to field references for earth science investigations and analysis. Orthoimagery is useful as a layer of a geographic information system and as a tool for revision of digital line graphs and topographic maps.
Single Fused Map Cache: false
Extent:
XMin: 644798.4
YMin: 4901574.4
XMax: 659007.4
YMax: 4914495.2
Spatial Reference: 26911
(26911)
Initial Extent:
XMin: 644798.4
YMin: 4901574.4
XMax: 659007.4
YMax: 4914495.2
Spatial Reference: 26911
(26911)
Full Extent:
XMin: 644798.4
YMin: 4901574.4
XMax: 659007.4
YMax: 4914495.2
Spatial Reference: 26911
(26911)
Pixel Size X: 0.2
Pixel Size Y: 0.19999999999999712
Band Count: 4
Pixel Type: U16
RasterFunction Infos: {"rasterFunctionInfos": [
{
"name": "None",
"description": "A No-Op Function.",
"help": ""
},
{
"name": "Color Infrared",
"description": "Display color infrared (CIR). A band combination (4,1,2 | near infrared + red + green) useful in seeing changes in plant health.",
"help": ""
}
]}
Mensuration Capabilities: Basic
Has Histograms: true
Has Colormap: false
Has Multi Dimensions : false
Rendering Rule:
Min Scale: 0
Max Scale: 0
Copyright Text: University of Idaho, Idaho EPSCoR Office, and the National Science Foundation (NSF)
Service Data Type: esriImageServiceDataTypeProcessed
Min Values: 0, 0, 0, 0
Max Values: 62007, 62350, 62308, 55571
Mean Values: 21762.898363268632, 22303.799413555756, 21802.401537288177, 23377.250774773587
Standard Deviation Values: 6438.393673622899, 5986.002525460289, 5530.905793224357, 6453.348529450339
Object ID Field: OBJECTID
Fields:
-
OBJECTID
(
type: esriFieldTypeOID, alias: OBJECTID
)
-
Shape
(
type: esriFieldTypeGeometry, alias: Shape
)
-
Name
(
type: esriFieldTypeString, alias: Name, length: 200
)
-
Category
(
type: esriFieldTypeInteger, alias: Category
, Coded Values:
[0: Unknown]
, [1: Primary]
, [2: Overview]
, ...6 more...
)
-
AcqYearFirst
(
type: esriFieldTypeSmallInteger, alias: Acquisition Year First
)
-
AcqYearLast
(
type: esriFieldTypeSmallInteger, alias: Acquisition Year Last
)
-
Resolution
(
type: esriFieldTypeSingle, alias: Resolution (cm)
)
-
ProDef
(
type: esriFieldTypeSmallInteger, alias: Image Type
, Coded Values:
[0: Unknown]
, [2: Natural Color]
, [3: Natural Color + Infrared]
, ...2 more...
)
-
DatasetID
(
type: esriFieldTypeSmallInteger, alias: Collection Name
, Coded Values:
[5: Island Park Reservoir 2016]
, [6: Challis National Forest 2010]
, [0: Idaho 2004]
, ...134 more...
)
-
Rectification
(
type: esriFieldTypeSmallInteger, alias: Rectification
, Coded Values:
[0: Unknown]
, [1: Orthorectified]
, [2: Georectified]
)
-
Constraints
(
type: esriFieldTypeSmallInteger, alias: Constraints
, Coded Values:
[1: Public]
, [2: Restricted]
)
-
Source
(
type: esriFieldTypeSmallInteger, alias: Source
, Coded Values:
[0: Unknown]
, [2: U.S. Geological Survey]
, [3: Idaho Department of Water Resources]
, ...12 more...
)
-
AcqDateFirst
(
type: esriFieldTypeDate, alias: Acquistition Date First, length: 8
)
-
AcqDateLast
(
type: esriFieldTypeDate, alias: Acquistition Date Last, length: 8
)
-
DownloadURL
(
type: esriFieldTypeString, alias: Download URL, length: 256
)
Default Mosaic Method: Northwest
Allowed Mosaic Methods: NorthWest,Center,LockRaster,ByAttribute,Nadir,Viewpoint,Seamline,None
SortField:
SortValue: null
Mosaic Operator: First
Default Compression Quality: 80
Default Resampling Method: Bilinear
Max Record Count: 1000
Max Image Height: 20000
Max Image Width: 25000
Max Download Image Count: 30000
Max Mosaic Image Count: 20
Allow Raster Function: true
Allow Copy: true
Allow Analysis: true
Allow Compute TiePoints: false
Supports Statistics: true
Supports Advanced Queries: true
Use StandardizedQueries: true
Raster Type Infos:
Name: Raster Dataset
Description: Supports all ArcGIS Raster Datasets
Help:
Has Raster Attribute Table: false
Edit Fields Info: null
Ownership Based AccessControl For Rasters: null
Child Resources:
Info
Histograms
Statistics
Key Properties
Legend
Raster Function Infos
Supported Operations:
Export Image
Query
Identify
Download Rasters
Measure
Compute Histograms
Compute Statistics Histograms
Get Samples
Compute Class Statistics
Query Boundary
Compute Pixel Location
Compute Angles
Validate
Project