View In:
ArcGIS JavaScript
ArcGIS Online Map Viewer
ArcGIS Earth
ArcMap
View Footprint In:
ArcGIS Online Map Viewer
Service Description: These data depict geographic features on the surface of the earth. They were created primarily as a visual aid for urban and county planning.
Standards-based geospatial metadata did not accompany the source files for the collection. There is however a standards-based metadata record for the collection that was provided by Aerials Express. That collection-level metadata record indicates a time period of content of 20050510. Additionally, flight reports indicate dates in late May. This is inconsistent with the metadata table available on EarthExplorer.
Information from USGS EarthExplorer about the collection can be found below.
Beginning Date: 2009/07/23
Ending Date: 2009/07/23
EPSG: 26911
Map Projection Description: NAD83 / UTM zone 11N
State/Province/Country: ID/WA
Datum: NAD83
Dataset:200907_spokane_wa_0x3000_utm_clr
Projection Zone: 11
Sensor: UNKNOWN
Sensor Type: Color
Number of Bands: 3
Vendor: AERIALS_EXPRESS
Resolution: 0.3
Units of Resolution: METER
Agency:USGS
Name: imagery/kootenaicounty_2009
Description: These data depict geographic features on the surface of the earth. They were created primarily as a visual aid for urban and county planning.
Standards-based geospatial metadata did not accompany the source files for the collection. There is however a standards-based metadata record for the collection that was provided by Aerials Express. That collection-level metadata record indicates a time period of content of 20050510. Additionally, flight reports indicate dates in late May. This is inconsistent with the metadata table available on EarthExplorer.
Information from USGS EarthExplorer about the collection can be found below.
Beginning Date: 2009/07/23
Ending Date: 2009/07/23
EPSG: 26911
Map Projection Description: NAD83 / UTM zone 11N
State/Province/Country: ID/WA
Datum: NAD83
Dataset:200907_spokane_wa_0x3000_utm_clr
Projection Zone: 11
Sensor: UNKNOWN
Sensor Type: Color
Number of Bands: 3
Vendor: AERIALS_EXPRESS
Resolution: 0.3
Units of Resolution: METER
Agency:USGS
Single Fused Map Cache: false
Extent:
XMin: 433024.69999999995
YMin: 5230432.4
XMax: 554369.2999999999
YMax: 5325692.300000001
Spatial Reference: 26911
(26911)
Initial Extent:
XMin: 433024.69999999995
YMin: 5230432.4
XMax: 554369.2999999999
YMax: 5325692.300000001
Spatial Reference: 26911
(26911)
Full Extent:
XMin: 433024.69999999995
YMin: 5230432.4
XMax: 554369.2999999999
YMax: 5325692.300000001
Spatial Reference: 26911
(26911)
Pixel Size X: 0.29999999999999993
Pixel Size Y: 0.30000000000000115
Band Count: 3
Pixel Type: U8
RasterFunction Infos: {"rasterFunctionInfos": [{
"name": "None",
"description": "A No-Op Function.",
"help": ""
}]}
Mensuration Capabilities: Basic
Has Histograms: true
Has Colormap: false
Has Multi Dimensions : false
Rendering Rule:
Min Scale: 0
Max Scale: 0
Copyright Text: U.S. Geological Survey
Service Data Type: esriImageServiceDataTypeProcessed
Min Values: 0, 2, 0
Max Values: 233, 232, 234
Mean Values: 108.07522177023233, 104.39860513395969, 94.25559489409267
Standard Deviation Values: 23.845497363809784, 21.604494693495504, 19.962910916086532
Object ID Field: OBJECTID
Fields:
-
OBJECTID
(
type: esriFieldTypeOID, alias: OBJECTID
)
-
Shape
(
type: esriFieldTypeGeometry, alias: Shape
)
-
Name
(
type: esriFieldTypeString, alias: Name, length: 200
)
-
Category
(
type: esriFieldTypeInteger, alias: Category
, Coded Values:
[0: Unknown]
, [1: Primary]
, [2: Overview]
, ...6 more...
)
-
AcqYearFirst
(
type: esriFieldTypeSmallInteger, alias: Acquisition Year First
)
-
AcqYearLast
(
type: esriFieldTypeSmallInteger, alias: Acquisition Year Last
)
-
Resolution
(
type: esriFieldTypeSingle, alias: Resolution (cm)
)
-
ProDef
(
type: esriFieldTypeSmallInteger, alias: Product Definition
, Coded Values:
[0: Unknown]
, [2: Natural Color]
, [3: Natural Color + Infrared]
, ...2 more...
)
-
DatasetID
(
type: esriFieldTypeSmallInteger, alias: Collection Name
, Coded Values:
[5: Island Park Reservoir 2016]
, [6: Challis National Forest 2010]
, [0: Idaho 2004]
, ...134 more...
)
-
Rectification
(
type: esriFieldTypeSmallInteger, alias: Rectification
, Coded Values:
[0: Unknown]
, [1: Orthorectified]
, [2: Georectified]
)
-
Constraints
(
type: esriFieldTypeSmallInteger, alias: Constraints
, Coded Values:
[1: Public]
, [2: Restricted]
)
-
Source
(
type: esriFieldTypeSmallInteger, alias: Source
, Coded Values:
[0: Unknown]
, [2: U.S. Geological Survey]
, [3: Idaho Department of Water Resources]
, ...12 more...
)
-
AcqDateFirst
(
type: esriFieldTypeDate, alias: Acquistition Date First, length: 8
)
-
AcqDateLast
(
type: esriFieldTypeDate, alias: Acquistition Date Last, length: 8
)
-
DownloadURL
(
type: esriFieldTypeString, alias: Download URL, length: 256
)
Default Mosaic Method: Northwest
Allowed Mosaic Methods: NorthWest,Center,LockRaster,ByAttribute,Nadir,Viewpoint,Seamline,None
SortField:
SortValue: null
Mosaic Operator: First
Default Compression Quality: 80
Default Resampling Method: Bilinear
Max Record Count: 1000
Max Image Height: 20000
Max Image Width: 25000
Max Download Image Count: 30000
Max Mosaic Image Count: 20
Allow Raster Function: true
Allow Copy: true
Allow Analysis: true
Allow Compute TiePoints: false
Supports Statistics: true
Supports Advanced Queries: true
Use StandardizedQueries: true
Raster Type Infos:
Name: Raster Dataset
Description: Supports all ArcGIS Raster Datasets
Help:
Has Raster Attribute Table: false
Edit Fields Info: null
Ownership Based AccessControl For Rasters: null
Child Resources:
Info
Histograms
Statistics
Key Properties
Legend
Raster Function Infos
Supported Operations:
Export Image
Query
Identify
Download Rasters
Measure
Compute Histograms
Compute Statistics Histograms
Get Samples
Compute Class Statistics
Query Boundary
Compute Pixel Location
Compute Angles
Validate
Project