View In:
ArcGIS JavaScript
ArcGIS Online Map Viewer
ArcGIS Earth
ArcMap
View Footprint In:
ArcGIS Online Map Viewer
Service Description: These data were contributed to the University of Idaho Library by Nez Perce County GIS. These data were purchased by Lewiston, Clarkston, Asotin County, Nez Perce County and the Metropolitan Planning Organization to support their business operations.
No standards-based metadata accompanied these data.
Aero-Graphics, Geospatial Services, 40 W. Oakland Ave., Salt Lake City, UT 84115, (801) 487-3273, www.aero-graphics.com
Name: imagery/lcvalley_2015
Description: These data were contributed to the University of Idaho Library by Nez Perce County GIS. These data were purchased by Lewiston, Clarkston, Asotin County, Nez Perce County and the Metropolitan Planning Organization to support their business operations.
No standards-based metadata accompanied these data.
Aero-Graphics, Geospatial Services, 40 W. Oakland Ave., Salt Lake City, UT 84115, (801) 487-3273, www.aero-graphics.com
Single Fused Map Cache: false
Extent:
XMin: 2292000
YMin: 1707000
XMax: 2340000
YMax: 1749000
Spatial Reference: 102670
(2243)
Initial Extent:
XMin: 2292000
YMin: 1707000
XMax: 2340000
YMax: 1749000
Spatial Reference: 102670
(2243)
Full Extent:
XMin: 2292000
YMin: 1707000
XMax: 2340000
YMax: 1749000
Spatial Reference: 102670
(2243)
Pixel Size X: 0.25
Pixel Size Y: 0.25
Band Count: 4
Pixel Type: U8
RasterFunction Infos: {"rasterFunctionInfos": [
{
"name": "None",
"description": "A No-Op Function.",
"help": ""
},
{
"name": "Color Infrared",
"description": "Display color infrared (CIR). A band combination (4,1,2 | near infrared + red + green) useful in seeing changes in plant health.",
"help": ""
}
]}
Mensuration Capabilities: Basic
Has Histograms: true
Has Colormap: false
Has Multi Dimensions : false
Rendering Rule:
Min Scale: 0
Max Scale: 0
Copyright Text: Lewiston, Clarkston, Asotin County, Nez Perce County and the Metropolitan Planning Organization.
Service Data Type: esriImageServiceDataTypeProcessed
Min Values: 10, 15, 22, 0
Max Values: 255, 255, 255, 255
Mean Values: 108.27121094430147, 104.6746867389585, 90.57748390503288, 162.80329860487146
Standard Deviation Values: 37.92663313713906, 30.91917526210372, 29.282773038473053, 40.97634439888199
Object ID Field: OBJECTID
Fields:
-
OBJECTID
(
type: esriFieldTypeOID, alias: OBJECTID
)
-
Shape
(
type: esriFieldTypeGeometry, alias: Shape
)
-
Name
(
type: esriFieldTypeString, alias: Name, length: 200
)
-
Category
(
type: esriFieldTypeInteger, alias: Category
, Coded Values:
[0: Unknown]
, [1: Primary]
, [2: Overview]
, ...6 more...
)
-
AcqYearFirst
(
type: esriFieldTypeSmallInteger, alias: Acquisition Year First
)
-
AcqYearLast
(
type: esriFieldTypeSmallInteger, alias: Acquisition Year Last
)
-
Resolution
(
type: esriFieldTypeSingle, alias: Resolution (cm)
)
-
ProDef
(
type: esriFieldTypeSmallInteger, alias: Image Type
, Coded Values:
[0: Unknown]
, [2: Natural Color]
, [3: Natural Color + Infrared]
, ...2 more...
)
-
DatasetID
(
type: esriFieldTypeSmallInteger, alias: Collection Name
, Coded Values:
[5: Island Park Reservoir 2016]
, [6: Challis National Forest 2010]
, [0: Idaho 2004]
, ...134 more...
)
-
Rectification
(
type: esriFieldTypeSmallInteger, alias: Rectification
, Coded Values:
[0: Unknown]
, [1: Orthorectified]
, [2: Georectified]
)
-
Constraints
(
type: esriFieldTypeSmallInteger, alias: Constraints
, Coded Values:
[1: Public]
, [2: Restricted]
)
-
Source
(
type: esriFieldTypeSmallInteger, alias: Source
, Coded Values:
[0: Unknown]
, [2: U.S. Geological Survey]
, [3: Idaho Department of Water Resources]
, ...12 more...
)
-
AcqDateFirst
(
type: esriFieldTypeDate, alias: Acquistition Date First, length: 8
)
-
AcqDateLast
(
type: esriFieldTypeDate, alias: Acquistition Date Last, length: 8
)
-
DownloadURL
(
type: esriFieldTypeString, alias: Download URL, length: 256
)
Default Mosaic Method: Northwest
Allowed Mosaic Methods: NorthWest,Center,LockRaster,ByAttribute,Nadir,Viewpoint,Seamline,None
SortField:
SortValue: null
Mosaic Operator: First
Default Compression Quality: 80
Default Resampling Method: Bilinear
Max Record Count: 1000
Max Image Height: 20000
Max Image Width: 25000
Max Download Image Count: 30000
Max Mosaic Image Count: 20
Allow Raster Function: true
Allow Copy: true
Allow Analysis: true
Allow Compute TiePoints: false
Supports Statistics: true
Supports Advanced Queries: true
Use StandardizedQueries: true
Raster Type Infos:
Name: Raster Dataset
Description: Supports all ArcGIS Raster Datasets
Help:
Has Raster Attribute Table: false
Edit Fields Info: null
Ownership Based AccessControl For Rasters: null
Child Resources:
Info
Histograms
Statistics
Key Properties
Legend
Raster Function Infos
Supported Operations:
Export Image
Query
Identify
Download Rasters
Measure
Compute Histograms
Compute Statistics Histograms
Get Samples
Compute Class Statistics
Query Boundary
Compute Pixel Location
Compute Angles
Validate
Project