View In:
ArcGIS JavaScript
ArcGIS Online Map Viewer
ArcGIS Earth
ArcMap
View Footprint In:
ArcGIS Online Map Viewer
Service Description: The Lewis Clark Valley project was horizontally referenced to the North American Datum of 1983 (NAD83) 2011, Idaho: State Plane Idaho West Zone (Idaho portions), Washington: State Plane Washington South (Washington portions), and vertically referenced to the North American Vertical Datum of NAVD 1988. Survey Feet have been adusted to ground for the Idaho portions. Units are in U.S. Foot.
The flight and images produced under this task order have been supplied to Nez Perce County for use in the development of the geographic information system (GIS) for the county of Nez Perce, Idaho and Lewis Clark Valley area.
Digital orthophotos are aerial images corrected for displacement caused by relief in the Earth's surface, camera/sensor lens distortion and tilting of the sensor at the time of image acquisition. Additionally, orthophotos are assigned a uniform scale, which allows an end-user the ability to derive accurate measurements from the imagery. Orthophotos can be used as an accurate record of landscape conditions at the time of the corresponding aerial imagery. As such, the digital orthophotos are used in a variety of applications, such as environmental monitoring, facility engineering/maintenance, city/county planning, property line review, etc. The digital orthophoto can be used alone or as a raster base map for corresponding vector line mapping
Camera: Vexcel UltraCam Eagle (UCE)
Lens Filter: None
Sensor Array: The camera is a sensor array
Focal Length: 100.500mm
Calibration Date: 20190102
Exposure Compensation: None
Name: imagery/lcvalleyid_2020
Description: The Lewis Clark Valley project was horizontally referenced to the North American Datum of 1983 (NAD83) 2011, Idaho: State Plane Idaho West Zone (Idaho portions), Washington: State Plane Washington South (Washington portions), and vertically referenced to the North American Vertical Datum of NAVD 1988. Survey Feet have been adusted to ground for the Idaho portions. Units are in U.S. Foot.
The flight and images produced under this task order have been supplied to Nez Perce County for use in the development of the geographic information system (GIS) for the county of Nez Perce, Idaho and Lewis Clark Valley area.
Digital orthophotos are aerial images corrected for displacement caused by relief in the Earth's surface, camera/sensor lens distortion and tilting of the sensor at the time of image acquisition. Additionally, orthophotos are assigned a uniform scale, which allows an end-user the ability to derive accurate measurements from the imagery. Orthophotos can be used as an accurate record of landscape conditions at the time of the corresponding aerial imagery. As such, the digital orthophotos are used in a variety of applications, such as environmental monitoring, facility engineering/maintenance, city/county planning, property line review, etc. The digital orthophoto can be used alone or as a raster base map for corresponding vector line mapping
Camera: Vexcel UltraCam Eagle (UCE)
Lens Filter: None
Sensor Array: The camera is a sensor array
Focal Length: 100.500mm
Calibration Date: 20190102
Exposure Compensation: None
Single Fused Map Cache: false
Extent:
XMin: 2292000.000058245
YMin: 1697452.2499759868
XMax: 2349000.000058245
YMax: 1748999.9999759868
Spatial Reference: 103034
(6453)
Initial Extent:
XMin: 2292000.000058245
YMin: 1697452.2499759868
XMax: 2349000.000058245
YMax: 1748999.9999759868
Spatial Reference: 103034
(6453)
Full Extent:
XMin: 2292000.000058245
YMin: 1697452.2499759868
XMax: 2349000.000058245
YMax: 1748999.9999759868
Spatial Reference: 103034
(6453)
Pixel Size X: 0.25
Pixel Size Y: 0.25
Band Count: 3
Pixel Type: U8
RasterFunction Infos: {"rasterFunctionInfos": [{
"name": "None",
"description": "A No-Op Function.",
"help": ""
}]}
Mensuration Capabilities: Basic
Has Histograms: true
Has Colormap: false
Has Multi Dimensions : false
Rendering Rule:
Min Scale: 0
Max Scale: 0
Copyright Text: Nez Perce County; Aero-Graphics, Inc.
Service Data Type: esriImageServiceDataTypeProcessed
Min Values: 0, 4, 0
Max Values: 255, 255, 255
Mean Values: 107.72366119489541, 102.84593985498356, 89.10321488692522
Standard Deviation Values: 29.266854751760107, 26.946584631683834, 26.2441102155427
Object ID Field: OBJECTID
Fields:
-
OBJECTID
(
type: esriFieldTypeOID, alias: OBJECTID
)
-
Shape
(
type: esriFieldTypeGeometry, alias: Shape
)
-
Name
(
type: esriFieldTypeString, alias: Name, length: 200
)
-
Category
(
type: esriFieldTypeInteger, alias: Category
, Coded Values:
[0: Unknown]
, [1: Primary]
, [2: Overview]
, ...6 more...
)
-
AcqYearFirst
(
type: esriFieldTypeSmallInteger, alias: Acquisition Year First
)
-
AcqYearLast
(
type: esriFieldTypeSmallInteger, alias: Acquisition Year Last
)
-
Resolution
(
type: esriFieldTypeSingle, alias: Resolution (cm)
)
-
ProDef
(
type: esriFieldTypeSmallInteger, alias: Product Definition
, Coded Values:
[0: Unknown]
, [2: Natural Color]
, [3: Natural Color + Infrared]
, ...2 more...
)
-
DatasetID
(
type: esriFieldTypeSmallInteger, alias: Collection Name
, Coded Values:
[5: Island Park Reservoir 2016]
, [6: Challis National Forest 2010]
, [0: Idaho 2004]
, ...133 more...
)
-
Rectification
(
type: esriFieldTypeSmallInteger, alias: Rectification
, Coded Values:
[0: Unknown]
, [1: Orthorectified]
, [2: Georectified]
)
-
Constraints
(
type: esriFieldTypeSmallInteger, alias: Constraints
, Coded Values:
[1: Public]
, [2: Restricted]
)
-
Source
(
type: esriFieldTypeSmallInteger, alias: Source
, Coded Values:
[0: Unknown]
, [2: U.S. Geological Survey]
, [3: Idaho Department of Water Resources]
, ...12 more...
)
-
AcqDateFirst
(
type: esriFieldTypeDate, alias: Acquistition Date First, length: 8
)
-
AcqDateLast
(
type: esriFieldTypeDate, alias: Acquistition Date Last, length: 8
)
-
DownloadURL
(
type: esriFieldTypeString, alias: Download URL, length: 256
)
Default Mosaic Method: Northwest
Allowed Mosaic Methods: NorthWest,Center,LockRaster,ByAttribute,Nadir,Viewpoint,Seamline,None
SortField:
SortValue: null
Mosaic Operator: First
Default Compression Quality: 80
Default Resampling Method: Bilinear
Max Record Count: 1000
Max Image Height: 20000
Max Image Width: 25000
Max Download Image Count: 30000
Max Mosaic Image Count: 20
Allow Raster Function: true
Allow Copy: true
Allow Analysis: true
Allow Compute TiePoints: false
Supports Statistics: true
Supports Advanced Queries: true
Use StandardizedQueries: true
Raster Type Infos:
Name: Raster Dataset
Description: Supports all ArcGIS Raster Datasets
Help:
Has Raster Attribute Table: false
Edit Fields Info: null
Ownership Based AccessControl For Rasters: null
Child Resources:
Info
Histograms
Statistics
Key Properties
Legend
Raster Function Infos
Supported Operations:
Export Image
Query
Identify
Download Rasters
Measure
Compute Histograms
Compute Statistics Histograms
Get Samples
Compute Class Statistics
Query Boundary
Compute Pixel Location
Compute Angles
Validate
Project