View In:
ArcGIS JavaScript
ArcGIS Online Map Viewer
ArcGIS Earth
ArcMap
View Footprint In:
ArcGIS Online Map Viewer
Service Description: This collection contains 1 2013 2-centimeter color infrared orthorectified image of and area southeast of Magic Reservoir, Idaho near Wedge Butte. These data were acquired in June 25, 2013. These data are sourced from US NSF Idaho EPSCOR.
These data are part of a larger collection (README.txt) of UAS imagery data and data products from Camas, Cedar Gulch and Rocky Canyon Idaho. Data products include digital surface models (DSM), orthorectified color imagery (Ortho), and las point cloud files for each site and season; the dataset also contains 5-cm and 25-cm resolution canopy height models (CHM) for the Camas and Cedar Gulch sites during the summer sampling season. Processing reports are provided for each site and season for more details on processing parameters and georeferencing errors.
Suggested Citation: Olsoy, P., Burgess, M., Sorensen Forbey, J., Rachlow, J., Shipley, L., & Thornton, D. (2022). Unoccupied aerial systems imagery from Camas, Cedar Gulch and Rocky Canyon Idaho [Data set]. University of Idaho. https://doi.org/10.7923/EM9K-RD28
See the Data Processing Reportto learn more about camera location, camera calibrarion, and image overlap.
Individual image tiles can be downloaded using the Idaho Imagery Explorer.
These data can be bulk downloaded from a web accessible folder.
Data are sourced from: https://doi.org/10.7923/EM9K-RD28
Name: imagery/magicreservoircamassummer_2013
Description: This collection contains 1 2013 2-centimeter color infrared orthorectified image of and area southeast of Magic Reservoir, Idaho near Wedge Butte. These data were acquired in June 25, 2013. These data are sourced from US NSF Idaho EPSCOR.
These data are part of a larger collection (README.txt) of UAS imagery data and data products from Camas, Cedar Gulch and Rocky Canyon Idaho. Data products include digital surface models (DSM), orthorectified color imagery (Ortho), and las point cloud files for each site and season; the dataset also contains 5-cm and 25-cm resolution canopy height models (CHM) for the Camas and Cedar Gulch sites during the summer sampling season. Processing reports are provided for each site and season for more details on processing parameters and georeferencing errors.
Suggested Citation: Olsoy, P., Burgess, M., Sorensen Forbey, J., Rachlow, J., Shipley, L., & Thornton, D. (2022). Unoccupied aerial systems imagery from Camas, Cedar Gulch and Rocky Canyon Idaho [Data set]. University of Idaho. https://doi.org/10.7923/EM9K-RD28
See the Data Processing Reportto learn more about camera location, camera calibrarion, and image overlap.
Individual image tiles can be downloaded using the Idaho Imagery Explorer.
These data can be bulk downloaded from a web accessible folder.
Data are sourced from: https://doi.org/10.7923/EM9K-RD28
Single Fused Map Cache: false
Extent:
XMin: 230028.58559999987
YMin: 4792400.669799999
XMax: 231256.96059999973
YMax: 4793369.469799999
Spatial Reference: 26912
(26912)
Initial Extent:
XMin: 230028.58559999987
YMin: 4792400.669799999
XMax: 231256.96059999973
YMax: 4793369.469799999
Spatial Reference: 26912
(26912)
Full Extent:
XMin: 230028.58559999987
YMin: 4792400.669799999
XMax: 231256.96059999973
YMax: 4793369.469799999
Spatial Reference: 26912
(26912)
Pixel Size X: 0.02499999999999704
Pixel Size Y: 0.024999999999995193
Band Count: 4
Pixel Type: U8
RasterFunction Infos: {"rasterFunctionInfos": [
{
"name": "None",
"description": "A No-Op Function.",
"help": ""
},
{
"name": "Color Infrared",
"description": "Display color infrared (CIR). A band combination (4,1,2 | near infrared + red + green) useful in seeing changes in plant health.",
"help": ""
}
]}
Mensuration Capabilities: Basic
Has Histograms: true
Has Colormap: false
Has Multi Dimensions : false
Rendering Rule:
Min Scale: 0
Max Scale: 0
Copyright Text: 1. Peter OlsoyORCiD: https://orcid.org/0000-0002-8785-0459Affiliation: Boise State University2. Matthew BurgessORCiD: https://orcid.org/0000-0003-3487-4972Affiliation: Univeristy of Florida3. Jennifer Sorensen ForbeyORCiD: https://orcid.org/0000-0001-6069-4049Affiliation: Boise State University4. Janet RachlowORCiD: https://orcid.org/0000-0001-8810-9614Affiliation: University of Idaho5. Lisa ShipleyORCiD: NULLAffiliation: Washington State University6. Daniel ThorntonORCiD: NULLAffiliation: Washington State University
Service Data Type: esriImageServiceDataTypeProcessed
Min Values: 0, 0, 0, 0
Max Values: 159, 140, 123, 255
Mean Values: 78.01301580360196, 63.865365693670356, 45.783189388142354, 254.94679797869262
Standard Deviation Values: 12.994510267206673, 11.2522336598939, 9.555391406310482, 2.9601502617959907
Object ID Field: OBJECTID
Fields:
-
OBJECTID
(
type: esriFieldTypeOID, alias: OBJECTID
)
-
Shape
(
type: esriFieldTypeGeometry, alias: Shape
)
-
Name
(
type: esriFieldTypeString, alias: Name, length: 200
)
-
Category
(
type: esriFieldTypeInteger, alias: Category
, Coded Values:
[0: Unknown]
, [1: Primary]
, [2: Overview]
, ...6 more...
)
-
AcqYearFirst
(
type: esriFieldTypeSmallInteger, alias: Acquisition Year First
)
-
AcqYearLast
(
type: esriFieldTypeSmallInteger, alias: Acquisition Year Last
)
-
Resolution
(
type: esriFieldTypeSingle, alias: Resolution (cm)
)
-
ProDef
(
type: esriFieldTypeSmallInteger, alias: Product Definition
, Coded Values:
[0: Unknown]
, [2: Natural Color]
, [3: Natural Color + Infrared]
, ...2 more...
)
-
DatasetID
(
type: esriFieldTypeSmallInteger, alias: Collection Name
, Coded Values:
[5: Island Park Reservoir 2016]
, [6: Challis National Forest 2010]
, [0: Idaho 2004]
, ...133 more...
)
-
Rectification
(
type: esriFieldTypeSmallInteger, alias: Rectification
, Coded Values:
[0: Unknown]
, [1: Orthorectified]
, [2: Georectified]
)
-
Constraints
(
type: esriFieldTypeSmallInteger, alias: Constraints
, Coded Values:
[1: Public]
, [2: Restricted]
)
-
Source
(
type: esriFieldTypeSmallInteger, alias: Source
, Coded Values:
[0: Unknown]
, [2: U.S. Geological Survey]
, [3: Idaho Department of Water Resources]
, ...12 more...
)
-
AcqDateFirst
(
type: esriFieldTypeDate, alias: Acquistition Date First, length: 8
)
-
AcqDateLast
(
type: esriFieldTypeDate, alias: Acquistition Date Last, length: 8
)
-
DownloadURL
(
type: esriFieldTypeString, alias: Download URL, length: 256
)
Default Mosaic Method: Northwest
Allowed Mosaic Methods: NorthWest,Center,LockRaster,ByAttribute,Nadir,Viewpoint,Seamline,None
SortField:
SortValue: null
Mosaic Operator: First
Default Compression Quality: 80
Default Resampling Method: Bilinear
Max Record Count: 1000
Max Image Height: 20000
Max Image Width: 25000
Max Download Image Count: 30000
Max Mosaic Image Count: 20
Allow Raster Function: true
Allow Copy: true
Allow Analysis: true
Allow Compute TiePoints: false
Supports Statistics: true
Supports Advanced Queries: true
Use StandardizedQueries: true
Raster Type Infos:
Name: Raster Dataset
Description: Supports all ArcGIS Raster Datasets
Help:
Has Raster Attribute Table: false
Edit Fields Info: null
Ownership Based AccessControl For Rasters: null
Child Resources:
Info
Histograms
Statistics
Key Properties
Legend
Raster Function Infos
Supported Operations:
Export Image
Query
Identify
Download Rasters
Measure
Compute Histograms
Compute Statistics Histograms
Get Samples
Compute Class Statistics
Query Boundary
Compute Pixel Location
Compute Angles
Validate
Project