View In:
ArcGIS JavaScript
ArcGIS Online Map Viewer
ArcGIS Earth
ArcMap
View Footprint In:
ArcGIS Online Map Viewer
Service Description: This collections contains 26 2009 1-foot natural color digital orthorectified images of the northern portion of the City of McCall Impact Area. The northern portion of the Impact Area in north of the City of McCall and includes the northern parts of Payette Lake and Ponderosa State Park. These exact date these data were required is not known. These data are sourced from the City of McCall GIS Department.
No geospatial standards-based metadata or technical project report accompanied the delivery of these data.
Individual image tiles can be downloaded using the Idaho Aerial Imagery Explorer.
These data can be bulk downloaded from a web accessible folder.
Name: imagery/mccallimpactareanorth_2009
Description: This collections contains 26 2009 1-foot natural color digital orthorectified images of the northern portion of the City of McCall Impact Area. The northern portion of the Impact Area in north of the City of McCall and includes the northern parts of Payette Lake and Ponderosa State Park. These exact date these data were required is not known. These data are sourced from the City of McCall GIS Department.
No geospatial standards-based metadata or technical project report accompanied the delivery of these data.
Individual image tiles can be downloaded using the Idaho Aerial Imagery Explorer.
These data can be bulk downloaded from a web accessible folder.
Single Fused Map Cache: false
Extent:
XMin: 2517250.000344746
YMin: 1162249.9960161522
XMax: 2549500.000344746
YMax: 1223749.9960161522
Spatial Reference: PROJCS["NAD_1983_HARN_Idaho_West_ft",GEOGCS["GCS_Geographic_Coordinate_System",DATUM["D_North_American_1983_HARN",SPHEROID["GRS_1980",6378137.0,298.257222101]],PRIMEM["Greenwich",0.0],UNIT["Degree",0.0174532925199433]],PROJECTION["Transverse_Mercator"],PARAMETER["false_easting",2624666.666666667],PARAMETER["false_northing",0.0],PARAMETER["central_meridian",-115.75],PARAMETER["scale_factor",0.99993333],PARAMETER["latitude_of_origin",41.66666666666666],UNIT["Foot_US",0.3048006096012192]]
Initial Extent:
XMin: 2517250.000344746
YMin: 1162249.9960161522
XMax: 2549500.000344746
YMax: 1223749.9960161522
Spatial Reference: PROJCS["NAD_1983_HARN_Idaho_West_ft",GEOGCS["GCS_Geographic_Coordinate_System",DATUM["D_North_American_1983_HARN",SPHEROID["GRS_1980",6378137.0,298.257222101]],PRIMEM["Greenwich",0.0],UNIT["Degree",0.0174532925199433]],PROJECTION["Transverse_Mercator"],PARAMETER["false_easting",2624666.666666667],PARAMETER["false_northing",0.0],PARAMETER["central_meridian",-115.75],PARAMETER["scale_factor",0.99993333],PARAMETER["latitude_of_origin",41.66666666666666],UNIT["Foot_US",0.3048006096012192]]
Full Extent:
XMin: 2517250.000344746
YMin: 1162249.9960161522
XMax: 2549500.000344746
YMax: 1223749.9960161522
Spatial Reference: PROJCS["NAD_1983_HARN_Idaho_West_ft",GEOGCS["GCS_Geographic_Coordinate_System",DATUM["D_North_American_1983_HARN",SPHEROID["GRS_1980",6378137.0,298.257222101]],PRIMEM["Greenwich",0.0],UNIT["Degree",0.0174532925199433]],PROJECTION["Transverse_Mercator"],PARAMETER["false_easting",2624666.666666667],PARAMETER["false_northing",0.0],PARAMETER["central_meridian",-115.75],PARAMETER["scale_factor",0.99993333],PARAMETER["latitude_of_origin",41.66666666666666],UNIT["Foot_US",0.3048006096012192]]
Pixel Size X: 1.0
Pixel Size Y: 1.0
Band Count: 3
Pixel Type: U8
RasterFunction Infos: {"rasterFunctionInfos": [{
"name": "None",
"description": "A No-Op Function.",
"help": ""
}]}
Mensuration Capabilities: Basic
Has Histograms: true
Has Colormap: false
Has Multi Dimensions : false
Rendering Rule:
Min Scale: 0
Max Scale: 0
Copyright Text: McCall GIS Department; 3Di West
Service Data Type: esriImageServiceDataTypeProcessed
Min Values: 16, 13, 6
Max Values: 255, 255, 255
Mean Values: 96.60584358511547, 103.86185394364195, 100.62919186290006
Standard Deviation Values: 30.850525137346914, 23.933262810875412, 23.974738502162385
Object ID Field: OBJECTID
Fields:
-
OBJECTID
(
type: esriFieldTypeOID, alias: OBJECTID
)
-
Shape
(
type: esriFieldTypeGeometry, alias: Shape
)
-
Name
(
type: esriFieldTypeString, alias: Name, length: 200
)
-
Category
(
type: esriFieldTypeInteger, alias: Category
, Coded Values:
[0: Unknown]
, [1: Primary]
, [2: Overview]
, ...6 more...
)
-
AcqYearFirst
(
type: esriFieldTypeSmallInteger, alias: Acquisition Year First
)
-
AcqYearLast
(
type: esriFieldTypeSmallInteger, alias: Acquisition Year Last
)
-
Resolution
(
type: esriFieldTypeSingle, alias: Resolution (cm)
)
-
ProDef
(
type: esriFieldTypeSmallInteger, alias: Product Definition
, Coded Values:
[0: Unknown]
, [2: Natural Color]
, [3: Natural Color + Infrared]
, ...2 more...
)
-
DatasetID
(
type: esriFieldTypeSmallInteger, alias: Collection Name
, Coded Values:
[5: Island Park Reservoir 2016]
, [6: Challis National Forest 2010]
, [0: Idaho 2004]
, ...134 more...
)
-
Rectification
(
type: esriFieldTypeSmallInteger, alias: Rectification
, Coded Values:
[0: Unknown]
, [1: Orthorectified]
, [2: Georectified]
)
-
Constraints
(
type: esriFieldTypeSmallInteger, alias: Constraints
, Coded Values:
[1: Public]
, [2: Restricted]
)
-
Source
(
type: esriFieldTypeSmallInteger, alias: Source
, Coded Values:
[0: Unknown]
, [2: U.S. Geological Survey]
, [3: Idaho Department of Water Resources]
, ...12 more...
)
-
AcqDateFirst
(
type: esriFieldTypeDate, alias: Acquistition Date First, length: 8
)
-
AcqDateLast
(
type: esriFieldTypeDate, alias: Acquistition Date Last, length: 8
)
-
DownloadURL
(
type: esriFieldTypeString, alias: Download URL, length: 256
)
Default Mosaic Method: Northwest
Allowed Mosaic Methods: NorthWest,Center,LockRaster,ByAttribute,Nadir,Viewpoint,Seamline,None
SortField:
SortValue: null
Mosaic Operator: First
Default Compression Quality: 80
Default Resampling Method: Bilinear
Max Record Count: 1000
Max Image Height: 20000
Max Image Width: 25000
Max Download Image Count: 30000
Max Mosaic Image Count: 20
Allow Raster Function: true
Allow Copy: true
Allow Analysis: true
Allow Compute TiePoints: false
Supports Statistics: true
Supports Advanced Queries: true
Use StandardizedQueries: true
Raster Type Infos:
Name: Raster Dataset
Description: Supports all ArcGIS Raster Datasets
Help:
Has Raster Attribute Table: false
Edit Fields Info: null
Ownership Based AccessControl For Rasters: null
Child Resources:
Info
Histograms
Statistics
Key Properties
Legend
Raster Function Infos
Supported Operations:
Export Image
Query
Identify
Download Rasters
Measure
Compute Histograms
Compute Statistics Histograms
Get Samples
Compute Class Statistics
Query Boundary
Compute Pixel Location
Compute Angles
Validate
Project