View In:
ArcGIS JavaScript
ArcGIS Online Map Viewer
ArcGIS Earth
ArcMap
View Footprint In:
ArcGIS Online Map Viewer
Service Description: This collections contains 110 1998 | 1999 | 2000 | 2001 1-meter black & white digital orthorectified images of multiple non-contiguous locations in Idaho. These data were acquired from June 28, 1998 to September 22, 2001, These data are sourced from the U.S. Geological Survey and commonly referred to as a DOQ (Digital Orthophoto Quadrangle).
Some DOQs in this collection are made up of source images from just the most recent year. But, some DOQs in this collection were created from source images from more then one year. Regardless, every DOQ in this collection will be made up of at least one source image from the most recent year.
Refer to the .hdr file associated with each DOQ for specific image dates. The .hdr file contains a list of all source image dates (SOURCE_IMAGE_DATE) for a DOQ.
The source data for this service are available for download from USGS EarthExplorer.
Individual image tiles can be downloaded using the Idaho Aerial Imagery Explorer.
These data can be bulk downloaded from a web accessible folder.
Name: imagery/multilocation_doq_1998199920002001
Description: This collections contains 110 1998 | 1999 | 2000 | 2001 1-meter black & white digital orthorectified images of multiple non-contiguous locations in Idaho. These data were acquired from June 28, 1998 to September 22, 2001, These data are sourced from the U.S. Geological Survey and commonly referred to as a DOQ (Digital Orthophoto Quadrangle).
Some DOQs in this collection are made up of source images from just the most recent year. But, some DOQs in this collection were created from source images from more then one year. Regardless, every DOQ in this collection will be made up of at least one source image from the most recent year.
Refer to the .hdr file associated with each DOQ for specific image dates. The .hdr file contains a list of all source image dates (SOURCE_IMAGE_DATE) for a DOQ.
The source data for this service are available for download from USGS EarthExplorer.
Individual image tiles can be downloaded using the Idaho Aerial Imagery Explorer.
These data can be bulk downloaded from a web accessible folder.
Single Fused Map Cache: false
Extent:
XMin: 2240133.7517999997
YMin: 1387114.3805
XMax: 2718719.7517999997
YMax: 1662857.3805
Spatial Reference: 102605
(8826)
Initial Extent:
XMin: 2240133.7517999997
YMin: 1387114.3805
XMax: 2718719.7517999997
YMax: 1662857.3805
Spatial Reference: 102605
(8826)
Full Extent:
XMin: 2240133.7517999997
YMin: 1387114.3805
XMax: 2718719.7517999997
YMax: 1662857.3805
Spatial Reference: 102605
(8826)
Pixel Size X: 1.0
Pixel Size Y: 1.0
Band Count: 1
Pixel Type: U8
RasterFunction Infos: {"rasterFunctionInfos": [{
"name": "None",
"description": "A No-Op Function.",
"help": ""
}]}
Mensuration Capabilities: Basic
Has Histograms: true
Has Colormap: false
Has Multi Dimensions : false
Rendering Rule:
Min Scale: 0
Max Scale: 0
Copyright Text: U.S. Geological Survey (USGS)
Service Data Type: esriImageServiceDataTypeProcessed
Min Values: 43
Max Values: 231
Mean Values: 148.93639947906462
Standard Deviation Values: 18.94826431679485
Object ID Field: OBJECTID
Fields:
-
OBJECTID
(
type: esriFieldTypeOID, alias: OBJECTID
)
-
Shape
(
type: esriFieldTypeGeometry, alias: Shape
)
-
Name
(
type: esriFieldTypeString, alias: Name, length: 200
)
-
Category
(
type: esriFieldTypeInteger, alias: Category
, Coded Values:
[0: Unknown]
, [1: Primary]
, [2: Overview]
, ...6 more...
)
-
AcqYearFirst
(
type: esriFieldTypeSmallInteger, alias: Acquisition Year First
)
-
AcqYearLast
(
type: esriFieldTypeSmallInteger, alias: Acquisition Year Last
)
-
Resolution
(
type: esriFieldTypeSingle, alias: Resolution (cm)
)
-
ProDef
(
type: esriFieldTypeSmallInteger, alias: Product Definition
, Coded Values:
[0: Unknown]
, [2: Natural Color]
, [3: Natural Color + Infrared]
, ...2 more...
)
-
DatasetID
(
type: esriFieldTypeSmallInteger, alias: Collection Name
, Coded Values:
[5: Island Park Reservoir 2016]
, [6: Challis National Forest 2010]
, [0: Idaho 2004]
, ...134 more...
)
-
Rectification
(
type: esriFieldTypeSmallInteger, alias: Rectification
, Coded Values:
[0: Unknown]
, [1: Orthorectified]
, [2: Georectified]
)
-
Constraints
(
type: esriFieldTypeSmallInteger, alias: Constraints
, Coded Values:
[1: Public]
, [2: Restricted]
)
-
Source
(
type: esriFieldTypeSmallInteger, alias: Source
, Coded Values:
[0: Unknown]
, [2: U.S. Geological Survey]
, [3: Idaho Department of Water Resources]
, ...12 more...
)
-
AcqDateFirst
(
type: esriFieldTypeDate, alias: Acquistition Date First, length: 8
)
-
AcqDateLast
(
type: esriFieldTypeDate, alias: Acquistition Date Last, length: 8
)
-
DownloadURL
(
type: esriFieldTypeString, alias: Download URL, length: 256
)
Default Mosaic Method: Northwest
Allowed Mosaic Methods: NorthWest,Center,LockRaster,ByAttribute,Nadir,Viewpoint,Seamline,None
SortField:
SortValue: null
Mosaic Operator: First
Default Compression Quality: 80
Default Resampling Method: Bilinear
Max Record Count: 1000
Max Image Height: 20000
Max Image Width: 25000
Max Download Image Count: 30000
Max Mosaic Image Count: 20
Allow Raster Function: true
Allow Copy: true
Allow Analysis: true
Allow Compute TiePoints: false
Supports Statistics: true
Supports Advanced Queries: true
Use StandardizedQueries: true
Raster Type Infos:
Name: Raster Dataset
Description: Supports all ArcGIS Raster Datasets
Help:
Has Raster Attribute Table: false
Edit Fields Info: null
Ownership Based AccessControl For Rasters: null
Child Resources:
Info
Histograms
Statistics
Key Properties
Legend
Raster Function Infos
Supported Operations:
Export Image
Query
Identify
Download Rasters
Measure
Compute Histograms
Compute Statistics Histograms
Get Samples
Compute Class Statistics
Query Boundary
Compute Pixel Location
Compute Angles
Validate
Project