View In:
ArcGIS JavaScript
ArcGIS Online Map Viewer
ArcGIS Earth
ArcMap
View Footprint In:
ArcGIS Online Map Viewer
Service Description: Pocatello, Idaho historical orthomosaic for 1968 was created by collecting, scanning, merging and georectifying historic photography of Pocatello. The total spatial error is less than 1 meter. These historical orthomosaic images were derived using SfM (Structure-from-motion photogrammetry). SfM uses a series of overlapping images aligned to form a 3D representation. Classification resulted in raster and vector data with discrete classes grouped into objects located in the urban corridor of Pocatello. High-resolution aerial photography of the Pocatello area was provided by Valley Air Photos and the Idaho State Historical Society for 1968. All images were transferred from a traditional 9x9 photograph and scanned at a 1210 dpi resolution. (Date: 10/17/1968, Scale: 1:12,000, Total GSD [GSD = photo scale x scanning resolution]: 42, Scanned resolution: 11432x11241 1210 dpi). The general workflow for processing was as follows: Image collection, image pre-processing combined with gps positioning and differential correction. Photo alignment, point cloud generation, point cloud meshing, orthomosaic and DSM (Digital Surface Models) output. Photos were aligned using Agisoft Photoscan. Focal lengths for data sets were 152mm. GPS points were collected for ground truthing. Photo alignment, dense cloud, and mesh generation using ground control points, resulted in orthomosaics and DSMs (Digital Surface Models) for time periods. Orthomosaics were produced at a fine scale spatial resolution: .25m resolution in all cases except the final year at .5m due to differences in scale of the original imagery. Each orthomosaic and DEM was outputted at .5 m and 1 m resolution respectively, in order to maintain continuity between data sets. See Brock Lipple Thesis, 2015, for more in-depth discussion of the scanning and merging process.[http://geology.isu.edu/thesis/Lipple.Brock.2015.pdf].
Name: imagery/pocatello_1968
Description: Pocatello, Idaho historical orthomosaic for 1968 was created by collecting, scanning, merging and georectifying historic photography of Pocatello. The total spatial error is less than 1 meter. These historical orthomosaic images were derived using SfM (Structure-from-motion photogrammetry). SfM uses a series of overlapping images aligned to form a 3D representation. Classification resulted in raster and vector data with discrete classes grouped into objects located in the urban corridor of Pocatello. High-resolution aerial photography of the Pocatello area was provided by Valley Air Photos and the Idaho State Historical Society for 1968. All images were transferred from a traditional 9x9 photograph and scanned at a 1210 dpi resolution. (Date: 10/17/1968, Scale: 1:12,000, Total GSD [GSD = photo scale x scanning resolution]: 42, Scanned resolution: 11432x11241 1210 dpi). The general workflow for processing was as follows: Image collection, image pre-processing combined with gps positioning and differential correction. Photo alignment, point cloud generation, point cloud meshing, orthomosaic and DSM (Digital Surface Models) output. Photos were aligned using Agisoft Photoscan. Focal lengths for data sets were 152mm. GPS points were collected for ground truthing. Photo alignment, dense cloud, and mesh generation using ground control points, resulted in orthomosaics and DSMs (Digital Surface Models) for time periods. Orthomosaics were produced at a fine scale spatial resolution: .25m resolution in all cases except the final year at .5m due to differences in scale of the original imagery. Each orthomosaic and DEM was outputted at .5 m and 1 m resolution respectively, in order to maintain continuity between data sets. See Brock Lipple Thesis, 2015, for more in-depth discussion of the scanning and merging process.[http://geology.isu.edu/thesis/Lipple.Brock.2015.pdf].
Single Fused Map Cache: false
Extent:
XMin: 376515.2621328994
YMin: 4740167.465380998
XMax: 386620.2621328994
YMax: 4755702.965380998
Spatial Reference: 26912
(26912)
Initial Extent:
XMin: 376515.2621328994
YMin: 4740167.465380998
XMax: 386620.2621328994
YMax: 4755702.965380998
Spatial Reference: 26912
(26912)
Full Extent:
XMin: 376515.2621328994
YMin: 4740167.465380998
XMax: 386620.2621328994
YMax: 4755702.965380998
Spatial Reference: 26912
(26912)
Pixel Size X: 0.5
Pixel Size Y: 0.5
Band Count: 1
Pixel Type: U8
RasterFunction Infos: {"rasterFunctionInfos": [{
"name": "None",
"description": "A No-Op Function.",
"help": ""
}]}
Mensuration Capabilities: None
Has Histograms: true
Has Colormap: false
Has Multi Dimensions : false
Rendering Rule:
Min Scale: 0
Max Scale: 0
Copyright Text: Dr. Donna Delparte, Brock Lipple, Idaho State University, Idaho EPSCoR, EPSCoR MILES
Service Data Type: esriImageServiceDataTypeProcessed
Min Values: 16
Max Values: 230
Mean Values: 130.4086586559252
Standard Deviation Values: 22.66423944516289
Object ID Field: OBJECTID
Fields:
-
OBJECTID
(
type: esriFieldTypeOID, alias: OBJECTID
)
-
Shape
(
type: esriFieldTypeGeometry, alias: Shape
)
-
Name
(
type: esriFieldTypeString, alias: Name, length: 200
)
-
Category
(
type: esriFieldTypeInteger, alias: Category
, Coded Values:
[0: Unknown]
, [1: Primary]
, [2: Overview]
, ...6 more...
)
-
AcqYearFirst
(
type: esriFieldTypeSmallInteger, alias: Acquisition Year First
)
-
AcqYearLast
(
type: esriFieldTypeSmallInteger, alias: Acquisition Year Last
)
-
Resolution
(
type: esriFieldTypeSingle, alias: Resolution (cm)
)
-
ProDef
(
type: esriFieldTypeSmallInteger, alias: Product Definition
, Coded Values:
[0: Unknown]
, [2: Natural Color]
, [3: Natural Color + Infrared]
, ...2 more...
)
-
DatasetID
(
type: esriFieldTypeSmallInteger, alias: Collection Name
, Coded Values:
[5: Island Park Reservoir 2016]
, [6: Challis National Forest 2010]
, [0: Idaho 2004]
, ...134 more...
)
-
Rectification
(
type: esriFieldTypeSmallInteger, alias: Rectification
, Coded Values:
[0: Unknown]
, [1: Orthorectified]
, [2: Georectified]
)
-
Constraints
(
type: esriFieldTypeSmallInteger, alias: Constraints
, Coded Values:
[1: Public]
, [2: Restricted]
)
-
Source
(
type: esriFieldTypeSmallInteger, alias: Source
, Coded Values:
[0: Unknown]
, [2: U.S. Geological Survey]
, [3: Idaho Department of Water Resources]
, ...12 more...
)
-
AcqDateFirst
(
type: esriFieldTypeDate, alias: Acquistition Date First, length: 8
)
-
AcqDateLast
(
type: esriFieldTypeDate, alias: Acquistition Date Last, length: 8
)
-
DownloadURL
(
type: esriFieldTypeString, alias: Download URL, length: 256
)
Default Mosaic Method: Northwest
Allowed Mosaic Methods: NorthWest,Center,LockRaster,ByAttribute,Nadir,Viewpoint,Seamline,None
SortField:
SortValue: null
Mosaic Operator: First
Default Compression Quality: 80
Default Resampling Method: Bilinear
Max Record Count: 1000
Max Image Height: 20000
Max Image Width: 25000
Max Download Image Count: 30000
Max Mosaic Image Count: 20
Allow Raster Function: true
Allow Copy: true
Allow Analysis: true
Allow Compute TiePoints: false
Supports Statistics: true
Supports Advanced Queries: true
Use StandardizedQueries: true
Raster Type Infos:
Name: Raster Dataset
Description: Supports all ArcGIS Raster Datasets
Help:
Has Raster Attribute Table: false
Edit Fields Info: null
Ownership Based AccessControl For Rasters: null
Child Resources:
Info
Histograms
Statistics
Key Properties
Legend
Raster Function Infos
Supported Operations:
Export Image
Query
Identify
Download Rasters
Compute Histograms
Compute Statistics Histograms
Get Samples
Compute Class Statistics
Query Boundary
Compute Pixel Location
Compute Angles
Validate
Project