View In:
ArcGIS JavaScript
ArcGIS Online Map Viewer
ArcGIS Earth
ArcMap
View Footprint In:
ArcGIS Online Map Viewer
Service Description: These data were created for the Idaho Transportation Department, District 5. These data, collected between April 7-October 16, 2016, cover highways located in Bannock, Bear Lake, Bingham, Caribou, Franklin, Oneida, and Power Counties in southeastern Idaho
No standards-based metadata was supplied with these data by the contractor. See the technical project report for flight details.
Name: imagery/se_idaho_highways_2016
Description: These data were created for the Idaho Transportation Department, District 5. These data, collected between April 7-October 16, 2016, cover highways located in Bannock, Bear Lake, Bingham, Caribou, Franklin, Oneida, and Power Counties in southeastern Idaho
No standards-based metadata was supplied with these data by the contractor. See the technical project report for flight details.
Single Fused Map Cache: false
Extent:
XMin: 369531.913955912
YMin: 120492.18961126893
XMax: 960459.1139558824
YMax: 671693.1896112412
Spatial Reference: 102668
(2241)
Initial Extent:
XMin: 369531.913955912
YMin: 120492.18961126893
XMax: 960459.1139558824
YMax: 671693.1896112412
Spatial Reference: 102668
(2241)
Full Extent:
XMin: 369531.913955912
YMin: 120492.18961126893
XMax: 960459.1139558824
YMax: 671693.1896112412
Spatial Reference: 102668
(2241)
Pixel Size X: 0.19999999999998996
Pixel Size Y: 0.19999999999998994
Band Count: 3
Pixel Type: U8
RasterFunction Infos: {"rasterFunctionInfos": [{
"name": "None",
"description": "A No-Op Function.",
"help": ""
}]}
Mensuration Capabilities: Basic
Has Histograms: true
Has Colormap: false
Has Multi Dimensions : false
Rendering Rule:
Min Scale: 0
Max Scale: 0
Copyright Text: Idaho Transportation Department; Aero-Graphics, Inc.
Service Data Type: esriImageServiceDataTypeProcessed
Min Values: 0, 0, 10
Max Values: 223, 216, 208
Mean Values: 108.19125610883631, 101.83951921806921, 83.69303922863514
Standard Deviation Values: 29.71849666025563, 26.170309030445214, 26.07165875264894
Object ID Field: OBJECTID
Fields:
-
OBJECTID
(
type: esriFieldTypeOID, alias: OBJECTID
)
-
Shape
(
type: esriFieldTypeGeometry, alias: Shape
)
-
Name
(
type: esriFieldTypeString, alias: Name, length: 200
)
-
Category
(
type: esriFieldTypeInteger, alias: Category
, Coded Values:
[0: Unknown]
, [1: Primary]
, [2: Overview]
, ...6 more...
)
-
AcqYearFirst
(
type: esriFieldTypeSmallInteger, alias: Acquisition Year First
)
-
AcqYearLast
(
type: esriFieldTypeSmallInteger, alias: Acquisition Year Last
)
-
Resolution
(
type: esriFieldTypeSingle, alias: Resolution (cm)
)
-
ProDef
(
type: esriFieldTypeSmallInteger, alias: Product Definition
, Coded Values:
[0: Unknown]
, [2: Natural Color]
, [3: Natural Color + Infrared]
, ...2 more...
)
-
DatasetID
(
type: esriFieldTypeSmallInteger, alias: Collection Name
, Coded Values:
[5: Island Park Reservoir 2016]
, [6: Challis National Forest 2010]
, [0: Idaho 2004]
, ...134 more...
)
-
Rectification
(
type: esriFieldTypeSmallInteger, alias: Rectification
, Coded Values:
[0: Unknown]
, [1: Orthorectified]
, [2: Georectified]
)
-
Constraints
(
type: esriFieldTypeSmallInteger, alias: Constraints
, Coded Values:
[1: Public]
, [2: Restricted]
)
-
Source
(
type: esriFieldTypeSmallInteger, alias: Source
, Coded Values:
[0: Unknown]
, [2: U.S. Geological Survey]
, [3: Idaho Department of Water Resources]
, ...12 more...
)
-
AcqDateFirst
(
type: esriFieldTypeDate, alias: Acquistition Date First, length: 8
)
-
AcqDateLast
(
type: esriFieldTypeDate, alias: Acquistition Date Last, length: 8
)
-
DownloadURL
(
type: esriFieldTypeString, alias: Download URL, length: 256
)
Default Mosaic Method: Northwest
Allowed Mosaic Methods: NorthWest,Center,LockRaster,ByAttribute,Nadir,Viewpoint,Seamline,None
SortField:
SortValue: null
Mosaic Operator: First
Default Compression Quality: 80
Default Resampling Method: Bilinear
Max Record Count: 1000
Max Image Height: 20000
Max Image Width: 25000
Max Download Image Count: 30000
Max Mosaic Image Count: 20
Allow Raster Function: true
Allow Copy: true
Allow Analysis: true
Allow Compute TiePoints: false
Supports Statistics: true
Supports Advanced Queries: true
Use StandardizedQueries: true
Raster Type Infos:
Name: Raster Dataset
Description: Supports all ArcGIS Raster Datasets
Help:
Has Raster Attribute Table: false
Edit Fields Info: null
Ownership Based AccessControl For Rasters: null
Child Resources:
Info
Histograms
Statistics
Key Properties
Legend
Raster Function Infos
Supported Operations:
Export Image
Query
Identify
Download Rasters
Measure
Compute Histograms
Compute Statistics Histograms
Get Samples
Compute Class Statistics
Query Boundary
Compute Pixel Location
Compute Angles
Validate
Project