View In:
ArcGIS JavaScript
ArcGIS Online Map Viewer
ArcGIS Earth
ArcMap
View Footprint In:
ArcGIS Online Map Viewer
Service Description: This collection contains 1 2021 1-centimeter color infrared orthorectified image of the Soda Fire Natural Area in Owyhee County, Idaho. This study area spans a wildfire boundary created during the 2015 Soda Fire in western Idaho, close to the Oregon/Idaho border and adjacent to US Highway 95. These data were acquired in June 15, 2021. These data are sourced from US NSF Idaho EPSCOR.
The images used to make these data products were collected from an area that spans a wildfire boundary created during the 2015 Soda Fire in Idaho USA in 2019, 2020 and 2021. We used a DJI Mavic 2 Pro with Mission Planner software to capture imagery over the site of interest. The flight imagery covers the burn boundary. The imagery was collected in a crossgrid pattern at 44m above ground level; the resulting imagery have a ground resolution of 1cm/pixel. The images were processed and the products created in Agisoft Metashape Pro. All products are georectified and in WGS84 UTM Zone 11N. The site was assigned the title "natural area" to differentiate it from the nearby sagebrush common garden (maintained by USGS) that was established after the 2015 Soda Fire.
These data are part of a larger collection (README.txt) of UAS imagery data and data products.
Recommended Citation: Roser, A., Marie, V., Olsoy, P., Delparte, D., & Caughlin, T. T. (2022). Unoccupied aerial systems imagery from the Soda Fire Natural Area Idaho (Version 1.0) [Data set]. University of Idaho. https://doi.org/10.7923/VCAP-4128
Individual image tiles can be downloaded using the Idaho Imagery Explorer.
These data can be bulk downloaded from a web accessible folder.
Data are sourced from: https://doi.org/10.7923/VCAP-4128
Name: imagery/sodafirenaturalarea_2021
Description: This collection contains 1 2021 1-centimeter color infrared orthorectified image of the Soda Fire Natural Area in Owyhee County, Idaho. This study area spans a wildfire boundary created during the 2015 Soda Fire in western Idaho, close to the Oregon/Idaho border and adjacent to US Highway 95. These data were acquired in June 15, 2021. These data are sourced from US NSF Idaho EPSCOR.
The images used to make these data products were collected from an area that spans a wildfire boundary created during the 2015 Soda Fire in Idaho USA in 2019, 2020 and 2021. We used a DJI Mavic 2 Pro with Mission Planner software to capture imagery over the site of interest. The flight imagery covers the burn boundary. The imagery was collected in a crossgrid pattern at 44m above ground level; the resulting imagery have a ground resolution of 1cm/pixel. The images were processed and the products created in Agisoft Metashape Pro. All products are georectified and in WGS84 UTM Zone 11N. The site was assigned the title "natural area" to differentiate it from the nearby sagebrush common garden (maintained by USGS) that was established after the 2015 Soda Fire.
These data are part of a larger collection (README.txt) of UAS imagery data and data products.
Recommended Citation: Roser, A., Marie, V., Olsoy, P., Delparte, D., & Caughlin, T. T. (2022). Unoccupied aerial systems imagery from the Soda Fire Natural Area Idaho (Version 1.0) [Data set]. University of Idaho. https://doi.org/10.7923/VCAP-4128
Individual image tiles can be downloaded using the Idaho Imagery Explorer.
These data can be bulk downloaded from a web accessible folder.
Data are sourced from: https://doi.org/10.7923/VCAP-4128
Single Fused Map Cache: false
Extent:
XMin: 500713.72133021144
YMin: 4794104.303653551
XMax: 500981.2142902113
YMax: 4794358.841797551
Spatial Reference: 32611
(32611)
Initial Extent:
XMin: 500713.72133021144
YMin: 4794104.303653551
XMax: 500981.2142902113
YMax: 4794358.841797551
Spatial Reference: 32611
(32611)
Full Extent:
XMin: 500713.72133021144
YMin: 4794104.303653551
XMax: 500981.2142902113
YMax: 4794358.841797551
Spatial Reference: 32611
(32611)
Pixel Size X: 0.00999599999999577
Pixel Size Y: 0.009995999999995075
Band Count: 4
Pixel Type: U16
RasterFunction Infos: {"rasterFunctionInfos": [
{
"name": "None",
"description": "A No-Op Function.",
"help": ""
},
{
"name": "Color Infrared",
"description": "Display color infrared (CIR). A band combination (4,1,2 | near infrared + red + green) useful in seeing changes in plant health.",
"help": ""
}
]}
Mensuration Capabilities: Basic
Has Histograms: true
Has Colormap: false
Has Multi Dimensions : false
Rendering Rule:
Min Scale: 0
Max Scale: 0
Copyright Text: Creator(s): 1. Anna Roser Unique identifier: https://orcid.org/0000-0002-5184-2916 Affiliation(s): Boise State University 2. Valorie Marie Unique identifier: https://orcid.org/0000-0003-3051-4312 Affiliation(s):Boise State University 3. Peter Olsoy Unique identifier: https://orcid.org/0000-0002-8785-0459 Affiliation(s):Boise State University, Idaho National Laboratory, Idaho State University, Washington State University 4. Donna Delparte Unique identifier: https://orcid.org/0000-0002-9107-5117 Affiliation(s):Idaho State University 5. Trevor Caughlin Unique identifier: https://orcid.org/0000-0001-6752-2055 Affiliation(s): Boise State University, Fulbright Association, New College of Florida, University of FloridaOther Contributor(s): 1. Trevor Caughlin Unique identifier: https://orcid.org/0000-0001-6752-2055 Affiliation(s): Boise State University, Fulbright Association, New College of Florida, University of Florida Role: Contact person and Project leader 2. Andrew Wright Child Unique identifier: https://orcid.org/0000-0001-6666-0739 Affiliation(s): University of Idaho Role: Data manager
Service Data Type: esriImageServiceDataTypeProcessed
Min Values: 9581, 11319, 10820, 0
Max Values: 65535, 65535, 65535, 65535
Mean Values: 34973.87991599735, 34030.468163255995, 32445.88506648735, 65526.83068338469
Standard Deviation Values: 4995.458710283746, 4295.779122731407, 4239.70602529444, 575.5027387867364
Object ID Field: OBJECTID
Fields:
-
OBJECTID
(
type: esriFieldTypeOID, alias: OBJECTID
)
-
Shape
(
type: esriFieldTypeGeometry, alias: Shape
)
-
Name
(
type: esriFieldTypeString, alias: Name, length: 200
)
-
Category
(
type: esriFieldTypeInteger, alias: Category
, Coded Values:
[0: Unknown]
, [1: Primary]
, [2: Overview]
, ...6 more...
)
-
AcqYearFirst
(
type: esriFieldTypeSmallInteger, alias: Acquisition Year First
)
-
AcqYearLast
(
type: esriFieldTypeSmallInteger, alias: Acquisition Year Last
)
-
Resolution
(
type: esriFieldTypeSingle, alias: Resolution (cm)
)
-
ProDef
(
type: esriFieldTypeSmallInteger, alias: Product Definition
, Coded Values:
[0: Unknown]
, [2: Natural Color]
, [3: Natural Color + Infrared]
, ...2 more...
)
-
DatasetID
(
type: esriFieldTypeSmallInteger, alias: Collection Name
, Coded Values:
[5: Island Park Reservoir 2016]
, [6: Challis National Forest 2010]
, [0: Idaho 2004]
, ...134 more...
)
-
Rectification
(
type: esriFieldTypeSmallInteger, alias: Rectification
, Coded Values:
[0: Unknown]
, [1: Orthorectified]
, [2: Georectified]
)
-
Constraints
(
type: esriFieldTypeSmallInteger, alias: Constraints
, Coded Values:
[1: Public]
, [2: Restricted]
)
-
Source
(
type: esriFieldTypeSmallInteger, alias: Source
, Coded Values:
[0: Unknown]
, [2: U.S. Geological Survey]
, [3: Idaho Department of Water Resources]
, ...12 more...
)
-
AcqDateFirst
(
type: esriFieldTypeDate, alias: Acquistition Date First, length: 8
)
-
AcqDateLast
(
type: esriFieldTypeDate, alias: Acquistition Date Last, length: 8
)
-
DownloadURL
(
type: esriFieldTypeString, alias: Download URL, length: 256
)
Default Mosaic Method: Northwest
Allowed Mosaic Methods: NorthWest,Center,LockRaster,ByAttribute,Nadir,Viewpoint,Seamline,None
SortField:
SortValue: null
Mosaic Operator: First
Default Compression Quality: 80
Default Resampling Method: Bilinear
Max Record Count: 1000
Max Image Height: 20000
Max Image Width: 25000
Max Download Image Count: 30000
Max Mosaic Image Count: 20
Allow Raster Function: true
Allow Copy: true
Allow Analysis: true
Allow Compute TiePoints: false
Supports Statistics: true
Supports Advanced Queries: true
Use StandardizedQueries: true
Raster Type Infos:
Name: Raster Dataset
Description: Supports all ArcGIS Raster Datasets
Help:
Has Raster Attribute Table: false
Edit Fields Info: null
Ownership Based AccessControl For Rasters: null
Child Resources:
Info
Histograms
Statistics
Key Properties
Legend
Raster Function Infos
Supported Operations:
Export Image
Query
Identify
Download Rasters
Measure
Compute Histograms
Compute Statistics Histograms
Get Samples
Compute Class Statistics
Query Boundary
Compute Pixel Location
Compute Angles
Validate
Project