View In:
ArcGIS JavaScript
ArcGIS Online Map Viewer
ArcGIS Earth
ArcMap
View Footprint In:
ArcGIS Online Map Viewer
Service Description: The original Digital Raster Graphic (DRG) is a raster image of a scanned U.S.Geological Survey (USGS) topographic map including the collar information, georeferenced to the UTM grid. This collection includes 24 1:250,000-scale maps. The collar information has been suppressed to enable a seamless statewide image. The collar information may be accessed by downloading an original source image.
The date of the scanned map from the original source metadata is included as a footprint attribute. Check the information on the original source images for a possible revision date. Map dates range from 1961-1982.
The data in this service is sourced from the U.S. Geological Survey (USGS).
Name: historicalMaps/usgs_topo_250k_idaho
Description: The original Digital Raster Graphic (DRG) is a raster image of a scanned U.S.Geological Survey (USGS) topographic map including the collar information, georeferenced to the UTM grid. This collection includes 24 1:250,000-scale maps. The collar information has been suppressed to enable a seamless statewide image. The collar information may be accessed by downloading an original source image.
The date of the scanned map from the original source metadata is included as a footprint attribute. Check the information on the original source images for a possible revision date. Map dates range from 1961-1982.
The data in this service is sourced from the U.S. Geological Survey (USGS).
Single Fused Map Cache: false
Extent:
XMin: 2163473.0592
YMin: 1088969.7659002054
XMax: 2836395.2591998456
YMax: 1985386.5658999998
Spatial Reference: 102605
(8826)
Initial Extent:
XMin: 2163473.0592
YMin: 1088969.7659002054
XMax: 2836395.2591998456
YMax: 1985386.5658999998
Spatial Reference: 102605
(8826)
Full Extent:
XMin: 2163473.0592
YMin: 1088969.7659002054
XMax: 2836395.2591998456
YMax: 1985386.5658999998
Spatial Reference: 102605
(8826)
Time Info:
Start Time Field: DateYear
End Time Field: DateYear
Time Extent:
[1961/01/01 00:00:00 UTC, 1982/01/01 00:00:00 UTC]
Time Reference:
N/A
Pixel Size X: 25.399999999994172
Pixel Size Y: 25.399999999994176
Band Count: 3
Pixel Type: U8
RasterFunction Infos: {"rasterFunctionInfos": [{
"name": "None",
"description": "A No-Op Function.",
"help": ""
}]}
Mensuration Capabilities: Basic
Has Histograms: true
Has Colormap: false
Has Multi Dimensions : false
Rendering Rule:
Min Scale: 0
Max Scale: 0
Copyright Text: Source data produced through an Innovative Partnership agreement between The Land Information Technology Company, Ltd., of Aurora, CO and the USGS.
Service Data Type: esriImageServiceDataTypeThematic
Min Values: 0, 0, 0
Max Values: 218, 234, 226
Mean Values: 138.90441827187823, 133.1239309936459, 99.60459147172142
Standard Deviation Values: 76.3519876922987, 90.1776672757797, 71.99081079599698
Object ID Field: OBJECTID
Fields:
-
OBJECTID
(
type: esriFieldTypeOID, alias: OBJECTID
)
-
Shape
(
type: esriFieldTypeGeometry, alias: Shape
)
-
Name
(
type: esriFieldTypeString, alias: Name, length: 200
)
-
Category
(
type: esriFieldTypeInteger, alias: Category
, Coded Values:
[0: Unknown]
, [1: Primary]
, [2: Overview]
, ...6 more...
)
-
DatasetID
(
type: esriFieldTypeSmallInteger, alias: Dateset Identifier
, Coded Values:
[0: Unknown]
, [1: 1:250,000-scale]
, [2: 1:100,000-scale]
, ...1 more...
)
-
Scale
(
type: esriFieldTypeSmallInteger, alias: Map Scale
, Coded Values:
[0: Unknown]
, [1: 1:250,000]
, [2: 1:100,000]
, ...1 more...
)
-
DownloadURL
(
type: esriFieldTypeString, alias: Download URL, length: 256
)
-
DateYear
(
type: esriFieldTypeSmallInteger, alias: Scanned Map Date
)
Default Mosaic Method: Northwest
Allowed Mosaic Methods: NorthWest,Center,LockRaster,ByAttribute,Nadir,Viewpoint,Seamline,None
SortField:
SortValue: null
Mosaic Operator: First
Default Compression Quality: 80
Default Resampling Method: Nearest
Max Record Count: 1000
Max Image Height: 4100
Max Image Width: 15000
Max Download Image Count: 10000
Max Mosaic Image Count: 20
Allow Raster Function: true
Allow Copy: true
Allow Analysis: true
Allow Compute TiePoints: false
Supports Statistics: true
Supports Advanced Queries: true
Use StandardizedQueries: true
Raster Type Infos:
Name: Raster Dataset
Description: Supports all ArcGIS Raster Datasets
Help:
Has Raster Attribute Table: false
Edit Fields Info: null
Ownership Based AccessControl For Rasters: null
Child Resources:
Info
Histograms
Statistics
Key Properties
Legend
Raster Function Infos
Supported Operations:
Export Image
Query
Identify
Download Rasters
Measure
Compute Histograms
Compute Statistics Histograms
Get Samples
Compute Class Statistics
Query Boundary
Compute Pixel Location
Compute Angles
Validate
Project