View In:
ArcGIS JavaScript
ArcGIS Online Map Viewer
ArcGIS Earth
ArcMap
View Footprint In:
ArcGIS Online Map Viewer
Service Description: The original Digital Raster Graphic (DRG) is a raster image of a scanned USGS topographic map including the collar information, georeferenced to the UTM grid. This collection includes 24 1:250,000-scale maps, 77 1:100:000-scale maps, and 2296 1:24,000-scale maps. The collar information has been suppressed to enable a seamless statewide image. The collar information may be accessed by downloading an original source image.
The date of the scanned map from the original source metadata is included as a footprint attribute. Check the information on the original source images for a possible revision date. Map dates range from 1949-1995.
The data in this service is sourced from the U.S. Geological Survey (USGS).
Name: historicalMaps/usgs_topo_idaho
Description: The original Digital Raster Graphic (DRG) is a raster image of a scanned USGS topographic map including the collar information, georeferenced to the UTM grid. This collection includes 24 1:250,000-scale maps, 77 1:100:000-scale maps, and 2296 1:24,000-scale maps. The collar information has been suppressed to enable a seamless statewide image. The collar information may be accessed by downloading an original source image.
The date of the scanned map from the original source metadata is included as a footprint attribute. Check the information on the original source images for a possible revision date. Map dates range from 1949-1995.
The data in this service is sourced from the U.S. Geological Survey (USGS).
Single Fused Map Cache: false
Extent:
XMin: -1.31358255471E7
YMin: 5012326.8872000445
XMax: -1.2245222299100032E7
YMax: 6274857.255199999
Spatial Reference: 102100
(3857)
Initial Extent:
XMin: -1.31358255471E7
YMin: 5012326.8872000445
XMax: -1.2245222299100032E7
YMax: 6274857.255199999
Spatial Reference: 102100
(3857)
Full Extent:
XMin: -1.31358255471E7
YMin: 5012326.8872000445
XMax: -1.2245222299100032E7
YMax: 6274857.255199999
Spatial Reference: 102100
(3857)
Time Info:
Start Time Field: DateYear
End Time Field: DateYear
Time Extent:
[1949/01/01 00:00:00 UTC, 1995/01/01 00:00:00 UTC]
Time Reference:
N/A
Pixel Size X: 2.031999999999927
Pixel Size Y: 2.0319999999999263
Band Count: 3
Pixel Type: U8
RasterFunction Infos: {"rasterFunctionInfos": [{
"name": "None",
"description": "A No-Op Function.",
"help": ""
}]}
Mensuration Capabilities: Basic
Has Histograms: false
Has Colormap: false
Has Multi Dimensions : false
Rendering Rule:
Min Scale: 0
Max Scale: 0
Copyright Text: Source data produced through an Innovative Partnership agreement between The Land Information Technology Company, Ltd., of Aurora, CO and the USGS.
Service Data Type: esriImageServiceDataTypeThematic
Min Values: N/A
Max Values: N/A
Mean Values: N/A
Standard Deviation Values: N/A
Object ID Field: OBJECTID
Fields:
-
OBJECTID
(
type: esriFieldTypeOID, alias: OBJECTID
)
-
Shape
(
type: esriFieldTypeGeometry, alias: Shape
)
-
Name
(
type: esriFieldTypeString, alias: Name, length: 200
)
-
Category
(
type: esriFieldTypeInteger, alias: Category
, Coded Values:
[0: Unknown]
, [1: Primary]
, [2: Overview]
, ...6 more...
)
-
DatasetID
(
type: esriFieldTypeSmallInteger, alias: Dateset Identifier
, Coded Values:
[0: Unknown]
, [1: 1:250,000-scale]
, [2: 1:100,000-scale]
, ...1 more...
)
-
Scale
(
type: esriFieldTypeSmallInteger, alias: Map Scale
, Coded Values:
[0: Unknown]
, [1: 1:250,000]
, [2: 1:100,000]
, ...1 more...
)
-
DownloadURL
(
type: esriFieldTypeString, alias: Download URL, length: 256
)
-
DateYear
(
type: esriFieldTypeSmallInteger, alias: Scanned Map Date
)
Default Mosaic Method: Northwest
Allowed Mosaic Methods: NorthWest,Center,LockRaster,ByAttribute,Nadir,Viewpoint,Seamline,None
SortField:
SortValue: null
Mosaic Operator: First
Default Compression Quality: 75
Default Resampling Method: Bilinear
Max Record Count: 1000
Max Image Height: 4100
Max Image Width: 15000
Max Download Image Count: 20
Max Mosaic Image Count: 20
Allow Raster Function: true
Allow Copy: true
Allow Analysis: true
Allow Compute TiePoints: false
Supports Statistics: true
Supports Advanced Queries: true
Use StandardizedQueries: true
Raster Type Infos:
Name: Raster Dataset
Description: Supports all ArcGIS Raster Datasets
Help:
Has Raster Attribute Table: false
Edit Fields Info: null
Ownership Based AccessControl For Rasters: null
Child Resources:
Info
Statistics
Key Properties
Legend
Raster Function Infos
Supported Operations:
Export Image
Query
Identify
Download Rasters
Measure
Compute Histograms
Compute Statistics Histograms
Get Samples
Compute Class Statistics
Query Boundary
Compute Pixel Location
Compute Angles
Validate
Project